BEGIN:VCALENDAR
VERSION:2.0
PRODID:-//Uplifme - ECPv6.15.20//NONSGML v1.0//EN
CALSCALE:GREGORIAN
METHOD:PUBLISH
X-WR-CALNAME:Uplifme
X-ORIGINAL-URL:https://uplifme.com
X-WR-CALDESC:Events for Uplifme
REFRESH-INTERVAL;VALUE=DURATION:PT1H
X-Robots-Tag:noindex
X-PUBLISHED-TTL:PT1H
BEGIN:VTIMEZONE
TZID:UTC
BEGIN:STANDARD
TZOFFSETFROM:+0000
TZOFFSETTO:+0000
TZNAME:UTC
DTSTART:20250101T000000
END:STANDARD
END:VTIMEZONE
BEGIN:VEVENT
DTSTART;TZID=UTC:20260515T100000
DTEND;TZID=UTC:20260515T130000
DTSTAMP:20260421T122237
CREATED:20260217T224957Z
LAST-MODIFIED:20260217T225024Z
UID:10006537-1778839200-1778850000@uplifme.com
SUMMARY:Youth Experiencing Homelessness in DC
DESCRIPTION:×Submit A Resource\n\n\n  \n\n\n\n\n	\n	 \n\n\n	Event CategoryHousingJobsEducationBenefitsProvider ResourceGeneral Resource\n	 \n\n\n	Start \n	 \n\n\n	End \n	 \n\n\n	PA – Delaware CountyPA – Montgomery CountyPA – Philadelphia County\n	 \n\n\n	\n	 \n\n\n	\n	 \n\n\n	\n	 \n\n\n	\n	 \n\n\n	\n	 \n\n\n	\n	 \n\n\n	I agree to the  terms of use and  privacy policy\n	 \n	\n	 \n×\n\n\n \nClose   ×Submit A Provider \n\n\n  \n\n\n\n\n	\n	 \n\n\n	Event CategoryHousingJobsEducationBenefitsProvider ResourceGeneral Resource\n	 \n\n\n	Start \n	 \n\n\n	End \n	 \n\n\n	\n	 \n\n\n	\n	 \n\n\n	\n	 \n\n\n	\n	 \n\n\n	\n	 \n\n\n	\n	 \n\n\n	I agree to the  terms of use and  privacy policy\n	 \n	\n	 \n×\n\n\n \nClose
URL:https://uplifme.com/event/youth-experiencing-homelessness-in-dc/2026-05-15/
LOCATION:SAMU Youth Drop-in Center\, 650 Pennsylvania Avenue SE\, Washington\, DC\, United States
CATEGORIES:Benefits,Food,General Resource,Health,Housing
ATTACH;FMTTYPE=image/png:https://uplifme.com/wp-content/uploads/2026/02/Screenshot-2026-02-13-at-9.08.17-PM.png
END:VEVENT
BEGIN:VEVENT
DTSTART;TZID=UTC:20260619T100000
DTEND;TZID=UTC:20260619T130000
DTSTAMP:20260421T122237
CREATED:20260217T224957Z
LAST-MODIFIED:20260217T225024Z
UID:10006538-1781863200-1781874000@uplifme.com
SUMMARY:Youth Experiencing Homelessness in DC
DESCRIPTION:×Submit A Resource\n\n\n  \n\n\n\n\n	\n	 \n\n\n	Event CategoryHousingJobsEducationBenefitsProvider ResourceGeneral Resource\n	 \n\n\n	Start \n	 \n\n\n	End \n	 \n\n\n	PA – Delaware CountyPA – Montgomery CountyPA – Philadelphia County\n	 \n\n\n	\n	 \n\n\n	\n	 \n\n\n	\n	 \n\n\n	\n	 \n\n\n	\n	 \n\n\n	\n	 \n\n\n	I agree to the  terms of use and  privacy policy\n	 \n	\n	 \n×\n\n\n \nClose   ×Submit A Provider \n\n\n  \n\n\n\n\n	\n	 \n\n\n	Event CategoryHousingJobsEducationBenefitsProvider ResourceGeneral Resource\n	 \n\n\n	Start \n	 \n\n\n	End \n	 \n\n\n	\n	 \n\n\n	\n	 \n\n\n	\n	 \n\n\n	\n	 \n\n\n	\n	 \n\n\n	\n	 \n\n\n	I agree to the  terms of use and  privacy policy\n	 \n	\n	 \n×\n\n\n \nClose
URL:https://uplifme.com/event/youth-experiencing-homelessness-in-dc/2026-06-19/
LOCATION:SAMU Youth Drop-in Center\, 650 Pennsylvania Avenue SE\, Washington\, DC\, United States
CATEGORIES:Benefits,Food,General Resource,Health,Housing
ATTACH;FMTTYPE=image/png:https://uplifme.com/wp-content/uploads/2026/02/Screenshot-2026-02-13-at-9.08.17-PM.png
END:VEVENT
BEGIN:VEVENT
DTSTART;TZID=UTC:20260717T100000
DTEND;TZID=UTC:20260717T130000
DTSTAMP:20260421T122237
CREATED:20260217T224957Z
LAST-MODIFIED:20260217T225024Z
UID:10006539-1784282400-1784293200@uplifme.com
SUMMARY:Youth Experiencing Homelessness in DC
DESCRIPTION:×Submit A Resource\n\n\n  \n\n\n\n\n	\n	 \n\n\n	Event CategoryHousingJobsEducationBenefitsProvider ResourceGeneral Resource\n	 \n\n\n	Start \n	 \n\n\n	End \n	 \n\n\n	PA – Delaware CountyPA – Montgomery CountyPA – Philadelphia County\n	 \n\n\n	\n	 \n\n\n	\n	 \n\n\n	\n	 \n\n\n	\n	 \n\n\n	\n	 \n\n\n	\n	 \n\n\n	I agree to the  terms of use and  privacy policy\n	 \n	\n	 \n×\n\n\n \nClose   ×Submit A Provider \n\n\n  \n\n\n\n\n	\n	 \n\n\n	Event CategoryHousingJobsEducationBenefitsProvider ResourceGeneral Resource\n	 \n\n\n	Start \n	 \n\n\n	End \n	 \n\n\n	\n	 \n\n\n	\n	 \n\n\n	\n	 \n\n\n	\n	 \n\n\n	\n	 \n\n\n	\n	 \n\n\n	I agree to the  terms of use and  privacy policy\n	 \n	\n	 \n×\n\n\n \nClose
URL:https://uplifme.com/event/youth-experiencing-homelessness-in-dc/2026-07-17/
LOCATION:SAMU Youth Drop-in Center\, 650 Pennsylvania Avenue SE\, Washington\, DC\, United States
CATEGORIES:Benefits,Food,General Resource,Health,Housing
ATTACH;FMTTYPE=image/png:https://uplifme.com/wp-content/uploads/2026/02/Screenshot-2026-02-13-at-9.08.17-PM.png
END:VEVENT
BEGIN:VEVENT
DTSTART;TZID=UTC:20260821T100000
DTEND;TZID=UTC:20260821T130000
DTSTAMP:20260421T122237
CREATED:20260217T224957Z
LAST-MODIFIED:20260217T225024Z
UID:10006540-1787306400-1787317200@uplifme.com
SUMMARY:Youth Experiencing Homelessness in DC
DESCRIPTION:×Submit A Resource\n\n\n  \n\n\n\n\n	\n	 \n\n\n	Event CategoryHousingJobsEducationBenefitsProvider ResourceGeneral Resource\n	 \n\n\n	Start \n	 \n\n\n	End \n	 \n\n\n	PA – Delaware CountyPA – Montgomery CountyPA – Philadelphia County\n	 \n\n\n	\n	 \n\n\n	\n	 \n\n\n	\n	 \n\n\n	\n	 \n\n\n	\n	 \n\n\n	\n	 \n\n\n	I agree to the  terms of use and  privacy policy\n	 \n	\n	 \n×\n\n\n \nClose   ×Submit A Provider \n\n\n  \n\n\n\n\n	\n	 \n\n\n	Event CategoryHousingJobsEducationBenefitsProvider ResourceGeneral Resource\n	 \n\n\n	Start \n	 \n\n\n	End \n	 \n\n\n	\n	 \n\n\n	\n	 \n\n\n	\n	 \n\n\n	\n	 \n\n\n	\n	 \n\n\n	\n	 \n\n\n	I agree to the  terms of use and  privacy policy\n	 \n	\n	 \n×\n\n\n \nClose
URL:https://uplifme.com/event/youth-experiencing-homelessness-in-dc/2026-08-21/
LOCATION:SAMU Youth Drop-in Center\, 650 Pennsylvania Avenue SE\, Washington\, DC\, United States
CATEGORIES:Benefits,Food,General Resource,Health,Housing
ATTACH;FMTTYPE=image/png:https://uplifme.com/wp-content/uploads/2026/02/Screenshot-2026-02-13-at-9.08.17-PM.png
END:VEVENT
BEGIN:VEVENT
DTSTART;TZID=UTC:20260918T100000
DTEND;TZID=UTC:20260918T130000
DTSTAMP:20260421T122238
CREATED:20260217T224957Z
LAST-MODIFIED:20260217T225024Z
UID:10006541-1789725600-1789736400@uplifme.com
SUMMARY:Youth Experiencing Homelessness in DC
DESCRIPTION:×Submit A Resource\n\n\n  \n\n\n\n\n	\n	 \n\n\n	Event CategoryHousingJobsEducationBenefitsProvider ResourceGeneral Resource\n	 \n\n\n	Start \n	 \n\n\n	End \n	 \n\n\n	PA – Delaware CountyPA – Montgomery CountyPA – Philadelphia County\n	 \n\n\n	\n	 \n\n\n	\n	 \n\n\n	\n	 \n\n\n	\n	 \n\n\n	\n	 \n\n\n	\n	 \n\n\n	I agree to the  terms of use and  privacy policy\n	 \n	\n	 \n×\n\n\n \nClose   ×Submit A Provider \n\n\n  \n\n\n\n\n	\n	 \n\n\n	Event CategoryHousingJobsEducationBenefitsProvider ResourceGeneral Resource\n	 \n\n\n	Start \n	 \n\n\n	End \n	 \n\n\n	\n	 \n\n\n	\n	 \n\n\n	\n	 \n\n\n	\n	 \n\n\n	\n	 \n\n\n	\n	 \n\n\n	I agree to the  terms of use and  privacy policy\n	 \n	\n	 \n×\n\n\n \nClose
URL:https://uplifme.com/event/youth-experiencing-homelessness-in-dc/2026-09-18/
LOCATION:SAMU Youth Drop-in Center\, 650 Pennsylvania Avenue SE\, Washington\, DC\, United States
CATEGORIES:Benefits,Food,General Resource,Health,Housing
ATTACH;FMTTYPE=image/png:https://uplifme.com/wp-content/uploads/2026/02/Screenshot-2026-02-13-at-9.08.17-PM.png
END:VEVENT
BEGIN:VEVENT
DTSTART;TZID=UTC:20261016T100000
DTEND;TZID=UTC:20261016T130000
DTSTAMP:20260421T122238
CREATED:20260217T224957Z
LAST-MODIFIED:20260217T225024Z
UID:10006542-1792144800-1792155600@uplifme.com
SUMMARY:Youth Experiencing Homelessness in DC
DESCRIPTION:×Submit A Resource\n\n\n  \n\n\n\n\n	\n	 \n\n\n	Event CategoryHousingJobsEducationBenefitsProvider ResourceGeneral Resource\n	 \n\n\n	Start \n	 \n\n\n	End \n	 \n\n\n	PA – Delaware CountyPA – Montgomery CountyPA – Philadelphia County\n	 \n\n\n	\n	 \n\n\n	\n	 \n\n\n	\n	 \n\n\n	\n	 \n\n\n	\n	 \n\n\n	\n	 \n\n\n	I agree to the  terms of use and  privacy policy\n	 \n	\n	 \n×\n\n\n \nClose   ×Submit A Provider \n\n\n  \n\n\n\n\n	\n	 \n\n\n	Event CategoryHousingJobsEducationBenefitsProvider ResourceGeneral Resource\n	 \n\n\n	Start \n	 \n\n\n	End \n	 \n\n\n	\n	 \n\n\n	\n	 \n\n\n	\n	 \n\n\n	\n	 \n\n\n	\n	 \n\n\n	\n	 \n\n\n	I agree to the  terms of use and  privacy policy\n	 \n	\n	 \n×\n\n\n \nClose
URL:https://uplifme.com/event/youth-experiencing-homelessness-in-dc/2026-10-16/
LOCATION:SAMU Youth Drop-in Center\, 650 Pennsylvania Avenue SE\, Washington\, DC\, United States
CATEGORIES:Benefits,Food,General Resource,Health,Housing
ATTACH;FMTTYPE=image/png:https://uplifme.com/wp-content/uploads/2026/02/Screenshot-2026-02-13-at-9.08.17-PM.png
END:VEVENT
BEGIN:VEVENT
DTSTART;TZID=UTC:20261120T100000
DTEND;TZID=UTC:20261120T130000
DTSTAMP:20260421T122238
CREATED:20260217T224957Z
LAST-MODIFIED:20260217T225024Z
UID:10006543-1795168800-1795179600@uplifme.com
SUMMARY:Youth Experiencing Homelessness in DC
DESCRIPTION:×Submit A Resource\n\n\n  \n\n\n\n\n	\n	 \n\n\n	Event CategoryHousingJobsEducationBenefitsProvider ResourceGeneral Resource\n	 \n\n\n	Start \n	 \n\n\n	End \n	 \n\n\n	PA – Delaware CountyPA – Montgomery CountyPA – Philadelphia County\n	 \n\n\n	\n	 \n\n\n	\n	 \n\n\n	\n	 \n\n\n	\n	 \n\n\n	\n	 \n\n\n	\n	 \n\n\n	I agree to the  terms of use and  privacy policy\n	 \n	\n	 \n×\n\n\n \nClose   ×Submit A Provider \n\n\n  \n\n\n\n\n	\n	 \n\n\n	Event CategoryHousingJobsEducationBenefitsProvider ResourceGeneral Resource\n	 \n\n\n	Start \n	 \n\n\n	End \n	 \n\n\n	\n	 \n\n\n	\n	 \n\n\n	\n	 \n\n\n	\n	 \n\n\n	\n	 \n\n\n	\n	 \n\n\n	I agree to the  terms of use and  privacy policy\n	 \n	\n	 \n×\n\n\n \nClose
URL:https://uplifme.com/event/youth-experiencing-homelessness-in-dc/2026-11-20/
LOCATION:SAMU Youth Drop-in Center\, 650 Pennsylvania Avenue SE\, Washington\, DC\, United States
CATEGORIES:Benefits,Food,General Resource,Health,Housing
ATTACH;FMTTYPE=image/png:https://uplifme.com/wp-content/uploads/2026/02/Screenshot-2026-02-13-at-9.08.17-PM.png
END:VEVENT
BEGIN:VEVENT
DTSTART;TZID=UTC:20261218T100000
DTEND;TZID=UTC:20261218T130000
DTSTAMP:20260421T122238
CREATED:20260217T224957Z
LAST-MODIFIED:20260217T225024Z
UID:10006544-1797588000-1797598800@uplifme.com
SUMMARY:Youth Experiencing Homelessness in DC
DESCRIPTION:×Submit A Resource\n\n\n  \n\n\n\n\n	\n	 \n\n\n	Event CategoryHousingJobsEducationBenefitsProvider ResourceGeneral Resource\n	 \n\n\n	Start \n	 \n\n\n	End \n	 \n\n\n	PA – Delaware CountyPA – Montgomery CountyPA – Philadelphia County\n	 \n\n\n	\n	 \n\n\n	\n	 \n\n\n	\n	 \n\n\n	\n	 \n\n\n	\n	 \n\n\n	\n	 \n\n\n	I agree to the  terms of use and  privacy policy\n	 \n	\n	 \n×\n\n\n \nClose   ×Submit A Provider \n\n\n  \n\n\n\n\n	\n	 \n\n\n	Event CategoryHousingJobsEducationBenefitsProvider ResourceGeneral Resource\n	 \n\n\n	Start \n	 \n\n\n	End \n	 \n\n\n	\n	 \n\n\n	\n	 \n\n\n	\n	 \n\n\n	\n	 \n\n\n	\n	 \n\n\n	\n	 \n\n\n	I agree to the  terms of use and  privacy policy\n	 \n	\n	 \n×\n\n\n \nClose
URL:https://uplifme.com/event/youth-experiencing-homelessness-in-dc/2026-12-18/
LOCATION:SAMU Youth Drop-in Center\, 650 Pennsylvania Avenue SE\, Washington\, DC\, United States
CATEGORIES:Benefits,Food,General Resource,Health,Housing
ATTACH;FMTTYPE=image/png:https://uplifme.com/wp-content/uploads/2026/02/Screenshot-2026-02-13-at-9.08.17-PM.png
END:VEVENT
BEGIN:VEVENT
DTSTART;TZID=UTC:20270115T100000
DTEND;TZID=UTC:20270115T130000
DTSTAMP:20260421T122238
CREATED:20260217T224957Z
LAST-MODIFIED:20260217T225024Z
UID:10006545-1800007200-1800018000@uplifme.com
SUMMARY:Youth Experiencing Homelessness in DC
DESCRIPTION:×Submit A Resource\n\n\n  \n\n\n\n\n	\n	 \n\n\n	Event CategoryHousingJobsEducationBenefitsProvider ResourceGeneral Resource\n	 \n\n\n	Start \n	 \n\n\n	End \n	 \n\n\n	PA – Delaware CountyPA – Montgomery CountyPA – Philadelphia County\n	 \n\n\n	\n	 \n\n\n	\n	 \n\n\n	\n	 \n\n\n	\n	 \n\n\n	\n	 \n\n\n	\n	 \n\n\n	I agree to the  terms of use and  privacy policy\n	 \n	\n	 \n×\n\n\n \nClose   ×Submit A Provider \n\n\n  \n\n\n\n\n	\n	 \n\n\n	Event CategoryHousingJobsEducationBenefitsProvider ResourceGeneral Resource\n	 \n\n\n	Start \n	 \n\n\n	End \n	 \n\n\n	\n	 \n\n\n	\n	 \n\n\n	\n	 \n\n\n	\n	 \n\n\n	\n	 \n\n\n	\n	 \n\n\n	I agree to the  terms of use and  privacy policy\n	 \n	\n	 \n×\n\n\n \nClose
URL:https://uplifme.com/event/youth-experiencing-homelessness-in-dc/2027-01-15/
LOCATION:SAMU Youth Drop-in Center\, 650 Pennsylvania Avenue SE\, Washington\, DC\, United States
CATEGORIES:Benefits,Food,General Resource,Health,Housing
ATTACH;FMTTYPE=image/png:https://uplifme.com/wp-content/uploads/2026/02/Screenshot-2026-02-13-at-9.08.17-PM.png
END:VEVENT
BEGIN:VEVENT
DTSTART;TZID=UTC:20270219T100000
DTEND;TZID=UTC:20270219T130000
DTSTAMP:20260421T122238
CREATED:20260217T224957Z
LAST-MODIFIED:20260217T225024Z
UID:10006546-1803031200-1803042000@uplifme.com
SUMMARY:Youth Experiencing Homelessness in DC
DESCRIPTION:×Submit A Resource\n\n\n  \n\n\n\n\n	\n	 \n\n\n	Event CategoryHousingJobsEducationBenefitsProvider ResourceGeneral Resource\n	 \n\n\n	Start \n	 \n\n\n	End \n	 \n\n\n	PA – Delaware CountyPA – Montgomery CountyPA – Philadelphia County\n	 \n\n\n	\n	 \n\n\n	\n	 \n\n\n	\n	 \n\n\n	\n	 \n\n\n	\n	 \n\n\n	\n	 \n\n\n	I agree to the  terms of use and  privacy policy\n	 \n	\n	 \n×\n\n\n \nClose   ×Submit A Provider \n\n\n  \n\n\n\n\n	\n	 \n\n\n	Event CategoryHousingJobsEducationBenefitsProvider ResourceGeneral Resource\n	 \n\n\n	Start \n	 \n\n\n	End \n	 \n\n\n	\n	 \n\n\n	\n	 \n\n\n	\n	 \n\n\n	\n	 \n\n\n	\n	 \n\n\n	\n	 \n\n\n	I agree to the  terms of use and  privacy policy\n	 \n	\n	 \n×\n\n\n \nClose
URL:https://uplifme.com/event/youth-experiencing-homelessness-in-dc/2027-02-19/
LOCATION:SAMU Youth Drop-in Center\, 650 Pennsylvania Avenue SE\, Washington\, DC\, United States
CATEGORIES:Benefits,Food,General Resource,Health,Housing
ATTACH;FMTTYPE=image/png:https://uplifme.com/wp-content/uploads/2026/02/Screenshot-2026-02-13-at-9.08.17-PM.png
END:VEVENT
END:VCALENDAR