BEGIN:VCALENDAR
VERSION:2.0
PRODID:-//Uplifme - ECPv6.15.20//NONSGML v1.0//EN
CALSCALE:GREGORIAN
METHOD:PUBLISH
X-WR-CALNAME:Uplifme
X-ORIGINAL-URL:https://uplifme.com
X-WR-CALDESC:Events for Uplifme
REFRESH-INTERVAL;VALUE=DURATION:PT1H
X-Robots-Tag:noindex
X-PUBLISHED-TTL:PT1H
BEGIN:VTIMEZONE
TZID:UTC
BEGIN:STANDARD
TZOFFSETFROM:+0000
TZOFFSETTO:+0000
TZNAME:UTC
DTSTART:20250101T000000
END:STANDARD
END:VTIMEZONE
BEGIN:VEVENT
DTSTART;TZID=UTC:20260423T090000
DTEND;TZID=UTC:20260423T130000
DTSTAMP:20260421T164428
CREATED:20260420T140351Z
LAST-MODIFIED:20260420T140534Z
UID:10010536-1776934800-1776949200@uplifme.com
SUMMARY:Community Legal Services Homeownership Intake
DESCRIPTION:×Submit A Resource\n\n\n  \n\n\n\n\n	\n	 \n\n\n	Event CategoryHousingJobsEducationBenefitsProvider ResourceGeneral Resource\n	 \n\n\n	Start \n	 \n\n\n	End \n	 \n\n\n	PA – Delaware CountyPA – Montgomery CountyPA – Philadelphia County\n	 \n\n\n	\n	 \n\n\n	\n	 \n\n\n	\n	 \n\n\n	\n	 \n\n\n	\n	 \n\n\n	\n	 \n\n\n	I agree to the  terms of use and  privacy policy\n	 \n	\n	 \n×\n\n\n \nClose   ×Submit A Provider \n\n\n  \n\n\n\n\n	\n	 \n\n\n	Event CategoryHousingJobsEducationBenefitsProvider ResourceGeneral Resource\n	 \n\n\n	Start \n	 \n\n\n	End \n	 \n\n\n	\n	 \n\n\n	\n	 \n\n\n	\n	 \n\n\n	\n	 \n\n\n	\n	 \n\n\n	\n	 \n\n\n	I agree to the  terms of use and  privacy policy\n	 \n	\n	 \n×\n\n\n \nClose
URL:https://uplifme.com/event/community-legal-services-homeownership-intake/2026-04-23/
LOCATION:606 S. 52nd Street\, Philadelphia\, PA\, United States
CATEGORIES:Education,General Resource,Housing
ATTACH;FMTTYPE=image/png:https://uplifme.com/wp-content/uploads/2026/04/Screenshot-2026-04-16-at-10.58.46-PM.png
END:VEVENT
BEGIN:VEVENT
DTSTART;TZID=UTC:20260528T090000
DTEND;TZID=UTC:20260528T130000
DTSTAMP:20260421T164428
CREATED:20260420T140351Z
LAST-MODIFIED:20260420T140534Z
UID:10010537-1779958800-1779973200@uplifme.com
SUMMARY:Community Legal Services Homeownership Intake
DESCRIPTION:×Submit A Resource\n\n\n  \n\n\n\n\n	\n	 \n\n\n	Event CategoryHousingJobsEducationBenefitsProvider ResourceGeneral Resource\n	 \n\n\n	Start \n	 \n\n\n	End \n	 \n\n\n	PA – Delaware CountyPA – Montgomery CountyPA – Philadelphia County\n	 \n\n\n	\n	 \n\n\n	\n	 \n\n\n	\n	 \n\n\n	\n	 \n\n\n	\n	 \n\n\n	\n	 \n\n\n	I agree to the  terms of use and  privacy policy\n	 \n	\n	 \n×\n\n\n \nClose   ×Submit A Provider \n\n\n  \n\n\n\n\n	\n	 \n\n\n	Event CategoryHousingJobsEducationBenefitsProvider ResourceGeneral Resource\n	 \n\n\n	Start \n	 \n\n\n	End \n	 \n\n\n	\n	 \n\n\n	\n	 \n\n\n	\n	 \n\n\n	\n	 \n\n\n	\n	 \n\n\n	\n	 \n\n\n	I agree to the  terms of use and  privacy policy\n	 \n	\n	 \n×\n\n\n \nClose
URL:https://uplifme.com/event/community-legal-services-homeownership-intake/2026-05-28/
LOCATION:606 S. 52nd Street\, Philadelphia\, PA\, United States
CATEGORIES:Education,General Resource,Housing
ATTACH;FMTTYPE=image/png:https://uplifme.com/wp-content/uploads/2026/04/Screenshot-2026-04-16-at-10.58.46-PM.png
END:VEVENT
BEGIN:VEVENT
DTSTART;TZID=UTC:20260625T090000
DTEND;TZID=UTC:20260625T130000
DTSTAMP:20260421T164428
CREATED:20260420T140351Z
LAST-MODIFIED:20260420T140534Z
UID:10010538-1782378000-1782392400@uplifme.com
SUMMARY:Community Legal Services Homeownership Intake
DESCRIPTION:×Submit A Resource\n\n\n  \n\n\n\n\n	\n	 \n\n\n	Event CategoryHousingJobsEducationBenefitsProvider ResourceGeneral Resource\n	 \n\n\n	Start \n	 \n\n\n	End \n	 \n\n\n	PA – Delaware CountyPA – Montgomery CountyPA – Philadelphia County\n	 \n\n\n	\n	 \n\n\n	\n	 \n\n\n	\n	 \n\n\n	\n	 \n\n\n	\n	 \n\n\n	\n	 \n\n\n	I agree to the  terms of use and  privacy policy\n	 \n	\n	 \n×\n\n\n \nClose   ×Submit A Provider \n\n\n  \n\n\n\n\n	\n	 \n\n\n	Event CategoryHousingJobsEducationBenefitsProvider ResourceGeneral Resource\n	 \n\n\n	Start \n	 \n\n\n	End \n	 \n\n\n	\n	 \n\n\n	\n	 \n\n\n	\n	 \n\n\n	\n	 \n\n\n	\n	 \n\n\n	\n	 \n\n\n	I agree to the  terms of use and  privacy policy\n	 \n	\n	 \n×\n\n\n \nClose
URL:https://uplifme.com/event/community-legal-services-homeownership-intake/2026-06-25/
LOCATION:606 S. 52nd Street\, Philadelphia\, PA\, United States
CATEGORIES:Education,General Resource,Housing
ATTACH;FMTTYPE=image/png:https://uplifme.com/wp-content/uploads/2026/04/Screenshot-2026-04-16-at-10.58.46-PM.png
END:VEVENT
BEGIN:VEVENT
DTSTART;TZID=UTC:20260723T090000
DTEND;TZID=UTC:20260723T130000
DTSTAMP:20260421T164428
CREATED:20260420T140351Z
LAST-MODIFIED:20260420T140534Z
UID:10010539-1784797200-1784811600@uplifme.com
SUMMARY:Community Legal Services Homeownership Intake
DESCRIPTION:×Submit A Resource\n\n\n  \n\n\n\n\n	\n	 \n\n\n	Event CategoryHousingJobsEducationBenefitsProvider ResourceGeneral Resource\n	 \n\n\n	Start \n	 \n\n\n	End \n	 \n\n\n	PA – Delaware CountyPA – Montgomery CountyPA – Philadelphia County\n	 \n\n\n	\n	 \n\n\n	\n	 \n\n\n	\n	 \n\n\n	\n	 \n\n\n	\n	 \n\n\n	\n	 \n\n\n	I agree to the  terms of use and  privacy policy\n	 \n	\n	 \n×\n\n\n \nClose   ×Submit A Provider \n\n\n  \n\n\n\n\n	\n	 \n\n\n	Event CategoryHousingJobsEducationBenefitsProvider ResourceGeneral Resource\n	 \n\n\n	Start \n	 \n\n\n	End \n	 \n\n\n	\n	 \n\n\n	\n	 \n\n\n	\n	 \n\n\n	\n	 \n\n\n	\n	 \n\n\n	\n	 \n\n\n	I agree to the  terms of use and  privacy policy\n	 \n	\n	 \n×\n\n\n \nClose
URL:https://uplifme.com/event/community-legal-services-homeownership-intake/2026-07-23/
LOCATION:606 S. 52nd Street\, Philadelphia\, PA\, United States
CATEGORIES:Education,General Resource,Housing
ATTACH;FMTTYPE=image/png:https://uplifme.com/wp-content/uploads/2026/04/Screenshot-2026-04-16-at-10.58.46-PM.png
END:VEVENT
BEGIN:VEVENT
DTSTART;TZID=UTC:20260827T090000
DTEND;TZID=UTC:20260827T130000
DTSTAMP:20260421T164429
CREATED:20260420T140351Z
LAST-MODIFIED:20260420T140534Z
UID:10010540-1787821200-1787835600@uplifme.com
SUMMARY:Community Legal Services Homeownership Intake
DESCRIPTION:×Submit A Resource\n\n\n  \n\n\n\n\n	\n	 \n\n\n	Event CategoryHousingJobsEducationBenefitsProvider ResourceGeneral Resource\n	 \n\n\n	Start \n	 \n\n\n	End \n	 \n\n\n	PA – Delaware CountyPA – Montgomery CountyPA – Philadelphia County\n	 \n\n\n	\n	 \n\n\n	\n	 \n\n\n	\n	 \n\n\n	\n	 \n\n\n	\n	 \n\n\n	\n	 \n\n\n	I agree to the  terms of use and  privacy policy\n	 \n	\n	 \n×\n\n\n \nClose   ×Submit A Provider \n\n\n  \n\n\n\n\n	\n	 \n\n\n	Event CategoryHousingJobsEducationBenefitsProvider ResourceGeneral Resource\n	 \n\n\n	Start \n	 \n\n\n	End \n	 \n\n\n	\n	 \n\n\n	\n	 \n\n\n	\n	 \n\n\n	\n	 \n\n\n	\n	 \n\n\n	\n	 \n\n\n	I agree to the  terms of use and  privacy policy\n	 \n	\n	 \n×\n\n\n \nClose
URL:https://uplifme.com/event/community-legal-services-homeownership-intake/2026-08-27/
LOCATION:606 S. 52nd Street\, Philadelphia\, PA\, United States
CATEGORIES:Education,General Resource,Housing
ATTACH;FMTTYPE=image/png:https://uplifme.com/wp-content/uploads/2026/04/Screenshot-2026-04-16-at-10.58.46-PM.png
END:VEVENT
BEGIN:VEVENT
DTSTART;TZID=UTC:20260924T090000
DTEND;TZID=UTC:20260924T130000
DTSTAMP:20260421T164429
CREATED:20260420T140351Z
LAST-MODIFIED:20260420T140534Z
UID:10010541-1790240400-1790254800@uplifme.com
SUMMARY:Community Legal Services Homeownership Intake
DESCRIPTION:×Submit A Resource\n\n\n  \n\n\n\n\n	\n	 \n\n\n	Event CategoryHousingJobsEducationBenefitsProvider ResourceGeneral Resource\n	 \n\n\n	Start \n	 \n\n\n	End \n	 \n\n\n	PA – Delaware CountyPA – Montgomery CountyPA – Philadelphia County\n	 \n\n\n	\n	 \n\n\n	\n	 \n\n\n	\n	 \n\n\n	\n	 \n\n\n	\n	 \n\n\n	\n	 \n\n\n	I agree to the  terms of use and  privacy policy\n	 \n	\n	 \n×\n\n\n \nClose   ×Submit A Provider \n\n\n  \n\n\n\n\n	\n	 \n\n\n	Event CategoryHousingJobsEducationBenefitsProvider ResourceGeneral Resource\n	 \n\n\n	Start \n	 \n\n\n	End \n	 \n\n\n	\n	 \n\n\n	\n	 \n\n\n	\n	 \n\n\n	\n	 \n\n\n	\n	 \n\n\n	\n	 \n\n\n	I agree to the  terms of use and  privacy policy\n	 \n	\n	 \n×\n\n\n \nClose
URL:https://uplifme.com/event/community-legal-services-homeownership-intake/2026-09-24/
LOCATION:606 S. 52nd Street\, Philadelphia\, PA\, United States
CATEGORIES:Education,General Resource,Housing
ATTACH;FMTTYPE=image/png:https://uplifme.com/wp-content/uploads/2026/04/Screenshot-2026-04-16-at-10.58.46-PM.png
END:VEVENT
BEGIN:VEVENT
DTSTART;TZID=UTC:20261022T090000
DTEND;TZID=UTC:20261022T130000
DTSTAMP:20260421T164429
CREATED:20260420T140351Z
LAST-MODIFIED:20260420T140534Z
UID:10010542-1792659600-1792674000@uplifme.com
SUMMARY:Community Legal Services Homeownership Intake
DESCRIPTION:×Submit A Resource\n\n\n  \n\n\n\n\n	\n	 \n\n\n	Event CategoryHousingJobsEducationBenefitsProvider ResourceGeneral Resource\n	 \n\n\n	Start \n	 \n\n\n	End \n	 \n\n\n	PA – Delaware CountyPA – Montgomery CountyPA – Philadelphia County\n	 \n\n\n	\n	 \n\n\n	\n	 \n\n\n	\n	 \n\n\n	\n	 \n\n\n	\n	 \n\n\n	\n	 \n\n\n	I agree to the  terms of use and  privacy policy\n	 \n	\n	 \n×\n\n\n \nClose   ×Submit A Provider \n\n\n  \n\n\n\n\n	\n	 \n\n\n	Event CategoryHousingJobsEducationBenefitsProvider ResourceGeneral Resource\n	 \n\n\n	Start \n	 \n\n\n	End \n	 \n\n\n	\n	 \n\n\n	\n	 \n\n\n	\n	 \n\n\n	\n	 \n\n\n	\n	 \n\n\n	\n	 \n\n\n	I agree to the  terms of use and  privacy policy\n	 \n	\n	 \n×\n\n\n \nClose
URL:https://uplifme.com/event/community-legal-services-homeownership-intake/2026-10-22/
LOCATION:606 S. 52nd Street\, Philadelphia\, PA\, United States
CATEGORIES:Education,General Resource,Housing
ATTACH;FMTTYPE=image/png:https://uplifme.com/wp-content/uploads/2026/04/Screenshot-2026-04-16-at-10.58.46-PM.png
END:VEVENT
BEGIN:VEVENT
DTSTART;TZID=UTC:20261126T090000
DTEND;TZID=UTC:20261126T130000
DTSTAMP:20260421T164429
CREATED:20260420T140351Z
LAST-MODIFIED:20260420T140534Z
UID:10010543-1795683600-1795698000@uplifme.com
SUMMARY:Community Legal Services Homeownership Intake
DESCRIPTION:×Submit A Resource\n\n\n  \n\n\n\n\n	\n	 \n\n\n	Event CategoryHousingJobsEducationBenefitsProvider ResourceGeneral Resource\n	 \n\n\n	Start \n	 \n\n\n	End \n	 \n\n\n	PA – Delaware CountyPA – Montgomery CountyPA – Philadelphia County\n	 \n\n\n	\n	 \n\n\n	\n	 \n\n\n	\n	 \n\n\n	\n	 \n\n\n	\n	 \n\n\n	\n	 \n\n\n	I agree to the  terms of use and  privacy policy\n	 \n	\n	 \n×\n\n\n \nClose   ×Submit A Provider \n\n\n  \n\n\n\n\n	\n	 \n\n\n	Event CategoryHousingJobsEducationBenefitsProvider ResourceGeneral Resource\n	 \n\n\n	Start \n	 \n\n\n	End \n	 \n\n\n	\n	 \n\n\n	\n	 \n\n\n	\n	 \n\n\n	\n	 \n\n\n	\n	 \n\n\n	\n	 \n\n\n	I agree to the  terms of use and  privacy policy\n	 \n	\n	 \n×\n\n\n \nClose
URL:https://uplifme.com/event/community-legal-services-homeownership-intake/2026-11-26/
LOCATION:606 S. 52nd Street\, Philadelphia\, PA\, United States
CATEGORIES:Education,General Resource,Housing
ATTACH;FMTTYPE=image/png:https://uplifme.com/wp-content/uploads/2026/04/Screenshot-2026-04-16-at-10.58.46-PM.png
END:VEVENT
BEGIN:VEVENT
DTSTART;TZID=UTC:20261224T090000
DTEND;TZID=UTC:20261224T130000
DTSTAMP:20260421T164429
CREATED:20260420T140351Z
LAST-MODIFIED:20260420T140534Z
UID:10010544-1798102800-1798117200@uplifme.com
SUMMARY:Community Legal Services Homeownership Intake
DESCRIPTION:×Submit A Resource\n\n\n  \n\n\n\n\n	\n	 \n\n\n	Event CategoryHousingJobsEducationBenefitsProvider ResourceGeneral Resource\n	 \n\n\n	Start \n	 \n\n\n	End \n	 \n\n\n	PA – Delaware CountyPA – Montgomery CountyPA – Philadelphia County\n	 \n\n\n	\n	 \n\n\n	\n	 \n\n\n	\n	 \n\n\n	\n	 \n\n\n	\n	 \n\n\n	\n	 \n\n\n	I agree to the  terms of use and  privacy policy\n	 \n	\n	 \n×\n\n\n \nClose   ×Submit A Provider \n\n\n  \n\n\n\n\n	\n	 \n\n\n	Event CategoryHousingJobsEducationBenefitsProvider ResourceGeneral Resource\n	 \n\n\n	Start \n	 \n\n\n	End \n	 \n\n\n	\n	 \n\n\n	\n	 \n\n\n	\n	 \n\n\n	\n	 \n\n\n	\n	 \n\n\n	\n	 \n\n\n	I agree to the  terms of use and  privacy policy\n	 \n	\n	 \n×\n\n\n \nClose
URL:https://uplifme.com/event/community-legal-services-homeownership-intake/2026-12-24/
LOCATION:606 S. 52nd Street\, Philadelphia\, PA\, United States
CATEGORIES:Education,General Resource,Housing
ATTACH;FMTTYPE=image/png:https://uplifme.com/wp-content/uploads/2026/04/Screenshot-2026-04-16-at-10.58.46-PM.png
END:VEVENT
BEGIN:VEVENT
DTSTART;TZID=UTC:20270128T090000
DTEND;TZID=UTC:20270128T130000
DTSTAMP:20260421T164429
CREATED:20260420T140351Z
LAST-MODIFIED:20260420T140534Z
UID:10010545-1801126800-1801141200@uplifme.com
SUMMARY:Community Legal Services Homeownership Intake
DESCRIPTION:×Submit A Resource\n\n\n  \n\n\n\n\n	\n	 \n\n\n	Event CategoryHousingJobsEducationBenefitsProvider ResourceGeneral Resource\n	 \n\n\n	Start \n	 \n\n\n	End \n	 \n\n\n	PA – Delaware CountyPA – Montgomery CountyPA – Philadelphia County\n	 \n\n\n	\n	 \n\n\n	\n	 \n\n\n	\n	 \n\n\n	\n	 \n\n\n	\n	 \n\n\n	\n	 \n\n\n	I agree to the  terms of use and  privacy policy\n	 \n	\n	 \n×\n\n\n \nClose   ×Submit A Provider \n\n\n  \n\n\n\n\n	\n	 \n\n\n	Event CategoryHousingJobsEducationBenefitsProvider ResourceGeneral Resource\n	 \n\n\n	Start \n	 \n\n\n	End \n	 \n\n\n	\n	 \n\n\n	\n	 \n\n\n	\n	 \n\n\n	\n	 \n\n\n	\n	 \n\n\n	\n	 \n\n\n	I agree to the  terms of use and  privacy policy\n	 \n	\n	 \n×\n\n\n \nClose
URL:https://uplifme.com/event/community-legal-services-homeownership-intake/2027-01-28/
LOCATION:606 S. 52nd Street\, Philadelphia\, PA\, United States
CATEGORIES:Education,General Resource,Housing
ATTACH;FMTTYPE=image/png:https://uplifme.com/wp-content/uploads/2026/04/Screenshot-2026-04-16-at-10.58.46-PM.png
END:VEVENT
BEGIN:VEVENT
DTSTART;TZID=UTC:20270225T090000
DTEND;TZID=UTC:20270225T130000
DTSTAMP:20260421T164429
CREATED:20260420T140351Z
LAST-MODIFIED:20260420T140534Z
UID:10010546-1803546000-1803560400@uplifme.com
SUMMARY:Community Legal Services Homeownership Intake
DESCRIPTION:×Submit A Resource\n\n\n  \n\n\n\n\n	\n	 \n\n\n	Event CategoryHousingJobsEducationBenefitsProvider ResourceGeneral Resource\n	 \n\n\n	Start \n	 \n\n\n	End \n	 \n\n\n	PA – Delaware CountyPA – Montgomery CountyPA – Philadelphia County\n	 \n\n\n	\n	 \n\n\n	\n	 \n\n\n	\n	 \n\n\n	\n	 \n\n\n	\n	 \n\n\n	\n	 \n\n\n	I agree to the  terms of use and  privacy policy\n	 \n	\n	 \n×\n\n\n \nClose   ×Submit A Provider \n\n\n  \n\n\n\n\n	\n	 \n\n\n	Event CategoryHousingJobsEducationBenefitsProvider ResourceGeneral Resource\n	 \n\n\n	Start \n	 \n\n\n	End \n	 \n\n\n	\n	 \n\n\n	\n	 \n\n\n	\n	 \n\n\n	\n	 \n\n\n	\n	 \n\n\n	\n	 \n\n\n	I agree to the  terms of use and  privacy policy\n	 \n	\n	 \n×\n\n\n \nClose
URL:https://uplifme.com/event/community-legal-services-homeownership-intake/2027-02-25/
LOCATION:606 S. 52nd Street\, Philadelphia\, PA\, United States
CATEGORIES:Education,General Resource,Housing
ATTACH;FMTTYPE=image/png:https://uplifme.com/wp-content/uploads/2026/04/Screenshot-2026-04-16-at-10.58.46-PM.png
END:VEVENT
BEGIN:VEVENT
DTSTART;TZID=UTC:20270325T090000
DTEND;TZID=UTC:20270325T130000
DTSTAMP:20260421T164430
CREATED:20260420T140351Z
LAST-MODIFIED:20260420T140534Z
UID:10010547-1805965200-1805979600@uplifme.com
SUMMARY:Community Legal Services Homeownership Intake
DESCRIPTION:×Submit A Resource\n\n\n  \n\n\n\n\n	\n	 \n\n\n	Event CategoryHousingJobsEducationBenefitsProvider ResourceGeneral Resource\n	 \n\n\n	Start \n	 \n\n\n	End \n	 \n\n\n	PA – Delaware CountyPA – Montgomery CountyPA – Philadelphia County\n	 \n\n\n	\n	 \n\n\n	\n	 \n\n\n	\n	 \n\n\n	\n	 \n\n\n	\n	 \n\n\n	\n	 \n\n\n	I agree to the  terms of use and  privacy policy\n	 \n	\n	 \n×\n\n\n \nClose   ×Submit A Provider \n\n\n  \n\n\n\n\n	\n	 \n\n\n	Event CategoryHousingJobsEducationBenefitsProvider ResourceGeneral Resource\n	 \n\n\n	Start \n	 \n\n\n	End \n	 \n\n\n	\n	 \n\n\n	\n	 \n\n\n	\n	 \n\n\n	\n	 \n\n\n	\n	 \n\n\n	\n	 \n\n\n	I agree to the  terms of use and  privacy policy\n	 \n	\n	 \n×\n\n\n \nClose
URL:https://uplifme.com/event/community-legal-services-homeownership-intake/2027-03-25/
LOCATION:606 S. 52nd Street\, Philadelphia\, PA\, United States
CATEGORIES:Education,General Resource,Housing
ATTACH;FMTTYPE=image/png:https://uplifme.com/wp-content/uploads/2026/04/Screenshot-2026-04-16-at-10.58.46-PM.png
END:VEVENT
BEGIN:VEVENT
DTSTART;TZID=UTC:20270422T090000
DTEND;TZID=UTC:20270422T130000
DTSTAMP:20260421T164430
CREATED:20260420T140351Z
LAST-MODIFIED:20260420T140534Z
UID:10010548-1808384400-1808398800@uplifme.com
SUMMARY:Community Legal Services Homeownership Intake
DESCRIPTION:×Submit A Resource\n\n\n  \n\n\n\n\n	\n	 \n\n\n	Event CategoryHousingJobsEducationBenefitsProvider ResourceGeneral Resource\n	 \n\n\n	Start \n	 \n\n\n	End \n	 \n\n\n	PA – Delaware CountyPA – Montgomery CountyPA – Philadelphia County\n	 \n\n\n	\n	 \n\n\n	\n	 \n\n\n	\n	 \n\n\n	\n	 \n\n\n	\n	 \n\n\n	\n	 \n\n\n	I agree to the  terms of use and  privacy policy\n	 \n	\n	 \n×\n\n\n \nClose   ×Submit A Provider \n\n\n  \n\n\n\n\n	\n	 \n\n\n	Event CategoryHousingJobsEducationBenefitsProvider ResourceGeneral Resource\n	 \n\n\n	Start \n	 \n\n\n	End \n	 \n\n\n	\n	 \n\n\n	\n	 \n\n\n	\n	 \n\n\n	\n	 \n\n\n	\n	 \n\n\n	\n	 \n\n\n	I agree to the  terms of use and  privacy policy\n	 \n	\n	 \n×\n\n\n \nClose
URL:https://uplifme.com/event/community-legal-services-homeownership-intake/2027-04-22/
LOCATION:606 S. 52nd Street\, Philadelphia\, PA\, United States
CATEGORIES:Education,General Resource,Housing
ATTACH;FMTTYPE=image/png:https://uplifme.com/wp-content/uploads/2026/04/Screenshot-2026-04-16-at-10.58.46-PM.png
END:VEVENT
END:VCALENDAR