BEGIN:VCALENDAR
VERSION:2.0
PRODID:-//Uplifme - ECPv6.15.20//NONSGML v1.0//EN
CALSCALE:GREGORIAN
METHOD:PUBLISH
X-WR-CALNAME:Uplifme
X-ORIGINAL-URL:https://uplifme.com
X-WR-CALDESC:Events for Uplifme
REFRESH-INTERVAL;VALUE=DURATION:PT1H
X-Robots-Tag:noindex
X-PUBLISHED-TTL:PT1H
BEGIN:VTIMEZONE
TZID:UTC
BEGIN:STANDARD
TZOFFSETFROM:+0000
TZOFFSETTO:+0000
TZNAME:UTC
DTSTART:20250101T000000
END:STANDARD
END:VTIMEZONE
BEGIN:VEVENT
DTSTART;TZID=UTC:20260425T140000
DTEND;TZID=UTC:20260425T160000
DTSTAMP:20260422T004833
CREATED:20260421T190845Z
LAST-MODIFIED:20260421T191033Z
UID:10010662-1777125600-1777132800@uplifme.com
SUMMARY:Now on the 4th Saturday of Each Month Food Distribution
DESCRIPTION:×Submit A Resource\n\n\n  \n\n\n\n\n	\n	 \n\n\n	Event CategoryHousingJobsEducationBenefitsProvider ResourceGeneral Resource\n	 \n\n\n	Start \n	 \n\n\n	End \n	 \n\n\n	PA – Delaware CountyPA – Montgomery CountyPA – Philadelphia County\n	 \n\n\n	\n	 \n\n\n	\n	 \n\n\n	\n	 \n\n\n	\n	 \n\n\n	\n	 \n\n\n	\n	 \n\n\n	I agree to the  terms of use and  privacy policy\n	 \n	\n	 \n×\n\n\n \nClose   ×Submit A Provider \n\n\n  \n\n\n\n\n	\n	 \n\n\n	Event CategoryHousingJobsEducationBenefitsProvider ResourceGeneral Resource\n	 \n\n\n	Start \n	 \n\n\n	End \n	 \n\n\n	\n	 \n\n\n	\n	 \n\n\n	\n	 \n\n\n	\n	 \n\n\n	\n	 \n\n\n	\n	 \n\n\n	I agree to the  terms of use and  privacy policy\n	 \n	\n	 \n×\n\n\n \nClose
URL:https://uplifme.com/event/now-on-the-4th-saturday-of-each-month-food-distribution/2026-04-25/
LOCATION:7427 Rossville Blvd.\, Baltimore\, MD\, 21237\, United States
CATEGORIES:Food,General Resource
ATTACH;FMTTYPE=image/png:https://uplifme.com/wp-content/uploads/2026/04/Screenshot-2026-03-22-at-10.09.17-AM.png
END:VEVENT
BEGIN:VEVENT
DTSTART;TZID=UTC:20260523T140000
DTEND;TZID=UTC:20260523T160000
DTSTAMP:20260422T004833
CREATED:20260421T190845Z
LAST-MODIFIED:20260421T191033Z
UID:10010663-1779544800-1779552000@uplifme.com
SUMMARY:Now on the 4th Saturday of Each Month Food Distribution
DESCRIPTION:×Submit A Resource\n\n\n  \n\n\n\n\n	\n	 \n\n\n	Event CategoryHousingJobsEducationBenefitsProvider ResourceGeneral Resource\n	 \n\n\n	Start \n	 \n\n\n	End \n	 \n\n\n	PA – Delaware CountyPA – Montgomery CountyPA – Philadelphia County\n	 \n\n\n	\n	 \n\n\n	\n	 \n\n\n	\n	 \n\n\n	\n	 \n\n\n	\n	 \n\n\n	\n	 \n\n\n	I agree to the  terms of use and  privacy policy\n	 \n	\n	 \n×\n\n\n \nClose   ×Submit A Provider \n\n\n  \n\n\n\n\n	\n	 \n\n\n	Event CategoryHousingJobsEducationBenefitsProvider ResourceGeneral Resource\n	 \n\n\n	Start \n	 \n\n\n	End \n	 \n\n\n	\n	 \n\n\n	\n	 \n\n\n	\n	 \n\n\n	\n	 \n\n\n	\n	 \n\n\n	\n	 \n\n\n	I agree to the  terms of use and  privacy policy\n	 \n	\n	 \n×\n\n\n \nClose
URL:https://uplifme.com/event/now-on-the-4th-saturday-of-each-month-food-distribution/2026-05-23/
LOCATION:7427 Rossville Blvd.\, Baltimore\, MD\, 21237\, United States
CATEGORIES:Food,General Resource
ATTACH;FMTTYPE=image/png:https://uplifme.com/wp-content/uploads/2026/04/Screenshot-2026-03-22-at-10.09.17-AM.png
END:VEVENT
BEGIN:VEVENT
DTSTART;TZID=UTC:20260627T140000
DTEND;TZID=UTC:20260627T160000
DTSTAMP:20260422T004833
CREATED:20260421T190845Z
LAST-MODIFIED:20260421T191033Z
UID:10010664-1782568800-1782576000@uplifme.com
SUMMARY:Now on the 4th Saturday of Each Month Food Distribution
DESCRIPTION:×Submit A Resource\n\n\n  \n\n\n\n\n	\n	 \n\n\n	Event CategoryHousingJobsEducationBenefitsProvider ResourceGeneral Resource\n	 \n\n\n	Start \n	 \n\n\n	End \n	 \n\n\n	PA – Delaware CountyPA – Montgomery CountyPA – Philadelphia County\n	 \n\n\n	\n	 \n\n\n	\n	 \n\n\n	\n	 \n\n\n	\n	 \n\n\n	\n	 \n\n\n	\n	 \n\n\n	I agree to the  terms of use and  privacy policy\n	 \n	\n	 \n×\n\n\n \nClose   ×Submit A Provider \n\n\n  \n\n\n\n\n	\n	 \n\n\n	Event CategoryHousingJobsEducationBenefitsProvider ResourceGeneral Resource\n	 \n\n\n	Start \n	 \n\n\n	End \n	 \n\n\n	\n	 \n\n\n	\n	 \n\n\n	\n	 \n\n\n	\n	 \n\n\n	\n	 \n\n\n	\n	 \n\n\n	I agree to the  terms of use and  privacy policy\n	 \n	\n	 \n×\n\n\n \nClose
URL:https://uplifme.com/event/now-on-the-4th-saturday-of-each-month-food-distribution/2026-06-27/
LOCATION:7427 Rossville Blvd.\, Baltimore\, MD\, 21237\, United States
CATEGORIES:Food,General Resource
ATTACH;FMTTYPE=image/png:https://uplifme.com/wp-content/uploads/2026/04/Screenshot-2026-03-22-at-10.09.17-AM.png
END:VEVENT
BEGIN:VEVENT
DTSTART;TZID=UTC:20260725T140000
DTEND;TZID=UTC:20260725T160000
DTSTAMP:20260422T004834
CREATED:20260421T190845Z
LAST-MODIFIED:20260421T191033Z
UID:10010665-1784988000-1784995200@uplifme.com
SUMMARY:Now on the 4th Saturday of Each Month Food Distribution
DESCRIPTION:×Submit A Resource\n\n\n  \n\n\n\n\n	\n	 \n\n\n	Event CategoryHousingJobsEducationBenefitsProvider ResourceGeneral Resource\n	 \n\n\n	Start \n	 \n\n\n	End \n	 \n\n\n	PA – Delaware CountyPA – Montgomery CountyPA – Philadelphia County\n	 \n\n\n	\n	 \n\n\n	\n	 \n\n\n	\n	 \n\n\n	\n	 \n\n\n	\n	 \n\n\n	\n	 \n\n\n	I agree to the  terms of use and  privacy policy\n	 \n	\n	 \n×\n\n\n \nClose   ×Submit A Provider \n\n\n  \n\n\n\n\n	\n	 \n\n\n	Event CategoryHousingJobsEducationBenefitsProvider ResourceGeneral Resource\n	 \n\n\n	Start \n	 \n\n\n	End \n	 \n\n\n	\n	 \n\n\n	\n	 \n\n\n	\n	 \n\n\n	\n	 \n\n\n	\n	 \n\n\n	\n	 \n\n\n	I agree to the  terms of use and  privacy policy\n	 \n	\n	 \n×\n\n\n \nClose
URL:https://uplifme.com/event/now-on-the-4th-saturday-of-each-month-food-distribution/2026-07-25/
LOCATION:7427 Rossville Blvd.\, Baltimore\, MD\, 21237\, United States
CATEGORIES:Food,General Resource
ATTACH;FMTTYPE=image/png:https://uplifme.com/wp-content/uploads/2026/04/Screenshot-2026-03-22-at-10.09.17-AM.png
END:VEVENT
BEGIN:VEVENT
DTSTART;TZID=UTC:20260822T140000
DTEND;TZID=UTC:20260822T160000
DTSTAMP:20260422T004834
CREATED:20260421T190845Z
LAST-MODIFIED:20260421T191033Z
UID:10010666-1787407200-1787414400@uplifme.com
SUMMARY:Now on the 4th Saturday of Each Month Food Distribution
DESCRIPTION:×Submit A Resource\n\n\n  \n\n\n\n\n	\n	 \n\n\n	Event CategoryHousingJobsEducationBenefitsProvider ResourceGeneral Resource\n	 \n\n\n	Start \n	 \n\n\n	End \n	 \n\n\n	PA – Delaware CountyPA – Montgomery CountyPA – Philadelphia County\n	 \n\n\n	\n	 \n\n\n	\n	 \n\n\n	\n	 \n\n\n	\n	 \n\n\n	\n	 \n\n\n	\n	 \n\n\n	I agree to the  terms of use and  privacy policy\n	 \n	\n	 \n×\n\n\n \nClose   ×Submit A Provider \n\n\n  \n\n\n\n\n	\n	 \n\n\n	Event CategoryHousingJobsEducationBenefitsProvider ResourceGeneral Resource\n	 \n\n\n	Start \n	 \n\n\n	End \n	 \n\n\n	\n	 \n\n\n	\n	 \n\n\n	\n	 \n\n\n	\n	 \n\n\n	\n	 \n\n\n	\n	 \n\n\n	I agree to the  terms of use and  privacy policy\n	 \n	\n	 \n×\n\n\n \nClose
URL:https://uplifme.com/event/now-on-the-4th-saturday-of-each-month-food-distribution/2026-08-22/
LOCATION:7427 Rossville Blvd.\, Baltimore\, MD\, 21237\, United States
CATEGORIES:Food,General Resource
ATTACH;FMTTYPE=image/png:https://uplifme.com/wp-content/uploads/2026/04/Screenshot-2026-03-22-at-10.09.17-AM.png
END:VEVENT
BEGIN:VEVENT
DTSTART;TZID=UTC:20260926T140000
DTEND;TZID=UTC:20260926T160000
DTSTAMP:20260422T004834
CREATED:20260421T190845Z
LAST-MODIFIED:20260421T191033Z
UID:10010667-1790431200-1790438400@uplifme.com
SUMMARY:Now on the 4th Saturday of Each Month Food Distribution
DESCRIPTION:×Submit A Resource\n\n\n  \n\n\n\n\n	\n	 \n\n\n	Event CategoryHousingJobsEducationBenefitsProvider ResourceGeneral Resource\n	 \n\n\n	Start \n	 \n\n\n	End \n	 \n\n\n	PA – Delaware CountyPA – Montgomery CountyPA – Philadelphia County\n	 \n\n\n	\n	 \n\n\n	\n	 \n\n\n	\n	 \n\n\n	\n	 \n\n\n	\n	 \n\n\n	\n	 \n\n\n	I agree to the  terms of use and  privacy policy\n	 \n	\n	 \n×\n\n\n \nClose   ×Submit A Provider \n\n\n  \n\n\n\n\n	\n	 \n\n\n	Event CategoryHousingJobsEducationBenefitsProvider ResourceGeneral Resource\n	 \n\n\n	Start \n	 \n\n\n	End \n	 \n\n\n	\n	 \n\n\n	\n	 \n\n\n	\n	 \n\n\n	\n	 \n\n\n	\n	 \n\n\n	\n	 \n\n\n	I agree to the  terms of use and  privacy policy\n	 \n	\n	 \n×\n\n\n \nClose
URL:https://uplifme.com/event/now-on-the-4th-saturday-of-each-month-food-distribution/2026-09-26/
LOCATION:7427 Rossville Blvd.\, Baltimore\, MD\, 21237\, United States
CATEGORIES:Food,General Resource
ATTACH;FMTTYPE=image/png:https://uplifme.com/wp-content/uploads/2026/04/Screenshot-2026-03-22-at-10.09.17-AM.png
END:VEVENT
BEGIN:VEVENT
DTSTART;TZID=UTC:20261024T140000
DTEND;TZID=UTC:20261024T160000
DTSTAMP:20260422T004834
CREATED:20260421T190845Z
LAST-MODIFIED:20260421T191033Z
UID:10010668-1792850400-1792857600@uplifme.com
SUMMARY:Now on the 4th Saturday of Each Month Food Distribution
DESCRIPTION:×Submit A Resource\n\n\n  \n\n\n\n\n	\n	 \n\n\n	Event CategoryHousingJobsEducationBenefitsProvider ResourceGeneral Resource\n	 \n\n\n	Start \n	 \n\n\n	End \n	 \n\n\n	PA – Delaware CountyPA – Montgomery CountyPA – Philadelphia County\n	 \n\n\n	\n	 \n\n\n	\n	 \n\n\n	\n	 \n\n\n	\n	 \n\n\n	\n	 \n\n\n	\n	 \n\n\n	I agree to the  terms of use and  privacy policy\n	 \n	\n	 \n×\n\n\n \nClose   ×Submit A Provider \n\n\n  \n\n\n\n\n	\n	 \n\n\n	Event CategoryHousingJobsEducationBenefitsProvider ResourceGeneral Resource\n	 \n\n\n	Start \n	 \n\n\n	End \n	 \n\n\n	\n	 \n\n\n	\n	 \n\n\n	\n	 \n\n\n	\n	 \n\n\n	\n	 \n\n\n	\n	 \n\n\n	I agree to the  terms of use and  privacy policy\n	 \n	\n	 \n×\n\n\n \nClose
URL:https://uplifme.com/event/now-on-the-4th-saturday-of-each-month-food-distribution/2026-10-24/
LOCATION:7427 Rossville Blvd.\, Baltimore\, MD\, 21237\, United States
CATEGORIES:Food,General Resource
ATTACH;FMTTYPE=image/png:https://uplifme.com/wp-content/uploads/2026/04/Screenshot-2026-03-22-at-10.09.17-AM.png
END:VEVENT
BEGIN:VEVENT
DTSTART;TZID=UTC:20261128T140000
DTEND;TZID=UTC:20261128T160000
DTSTAMP:20260422T004834
CREATED:20260421T190845Z
LAST-MODIFIED:20260421T191033Z
UID:10010669-1795874400-1795881600@uplifme.com
SUMMARY:Now on the 4th Saturday of Each Month Food Distribution
DESCRIPTION:×Submit A Resource\n\n\n  \n\n\n\n\n	\n	 \n\n\n	Event CategoryHousingJobsEducationBenefitsProvider ResourceGeneral Resource\n	 \n\n\n	Start \n	 \n\n\n	End \n	 \n\n\n	PA – Delaware CountyPA – Montgomery CountyPA – Philadelphia County\n	 \n\n\n	\n	 \n\n\n	\n	 \n\n\n	\n	 \n\n\n	\n	 \n\n\n	\n	 \n\n\n	\n	 \n\n\n	I agree to the  terms of use and  privacy policy\n	 \n	\n	 \n×\n\n\n \nClose   ×Submit A Provider \n\n\n  \n\n\n\n\n	\n	 \n\n\n	Event CategoryHousingJobsEducationBenefitsProvider ResourceGeneral Resource\n	 \n\n\n	Start \n	 \n\n\n	End \n	 \n\n\n	\n	 \n\n\n	\n	 \n\n\n	\n	 \n\n\n	\n	 \n\n\n	\n	 \n\n\n	\n	 \n\n\n	I agree to the  terms of use and  privacy policy\n	 \n	\n	 \n×\n\n\n \nClose
URL:https://uplifme.com/event/now-on-the-4th-saturday-of-each-month-food-distribution/2026-11-28/
LOCATION:7427 Rossville Blvd.\, Baltimore\, MD\, 21237\, United States
CATEGORIES:Food,General Resource
ATTACH;FMTTYPE=image/png:https://uplifme.com/wp-content/uploads/2026/04/Screenshot-2026-03-22-at-10.09.17-AM.png
END:VEVENT
BEGIN:VEVENT
DTSTART;TZID=UTC:20261226T140000
DTEND;TZID=UTC:20261226T160000
DTSTAMP:20260422T004834
CREATED:20260421T190845Z
LAST-MODIFIED:20260421T191033Z
UID:10010670-1798293600-1798300800@uplifme.com
SUMMARY:Now on the 4th Saturday of Each Month Food Distribution
DESCRIPTION:×Submit A Resource\n\n\n  \n\n\n\n\n	\n	 \n\n\n	Event CategoryHousingJobsEducationBenefitsProvider ResourceGeneral Resource\n	 \n\n\n	Start \n	 \n\n\n	End \n	 \n\n\n	PA – Delaware CountyPA – Montgomery CountyPA – Philadelphia County\n	 \n\n\n	\n	 \n\n\n	\n	 \n\n\n	\n	 \n\n\n	\n	 \n\n\n	\n	 \n\n\n	\n	 \n\n\n	I agree to the  terms of use and  privacy policy\n	 \n	\n	 \n×\n\n\n \nClose   ×Submit A Provider \n\n\n  \n\n\n\n\n	\n	 \n\n\n	Event CategoryHousingJobsEducationBenefitsProvider ResourceGeneral Resource\n	 \n\n\n	Start \n	 \n\n\n	End \n	 \n\n\n	\n	 \n\n\n	\n	 \n\n\n	\n	 \n\n\n	\n	 \n\n\n	\n	 \n\n\n	\n	 \n\n\n	I agree to the  terms of use and  privacy policy\n	 \n	\n	 \n×\n\n\n \nClose
URL:https://uplifme.com/event/now-on-the-4th-saturday-of-each-month-food-distribution/2026-12-26/
LOCATION:7427 Rossville Blvd.\, Baltimore\, MD\, 21237\, United States
CATEGORIES:Food,General Resource
ATTACH;FMTTYPE=image/png:https://uplifme.com/wp-content/uploads/2026/04/Screenshot-2026-03-22-at-10.09.17-AM.png
END:VEVENT
BEGIN:VEVENT
DTSTART;TZID=UTC:20270123T140000
DTEND;TZID=UTC:20270123T160000
DTSTAMP:20260422T004834
CREATED:20260421T190845Z
LAST-MODIFIED:20260421T191033Z
UID:10010671-1800712800-1800720000@uplifme.com
SUMMARY:Now on the 4th Saturday of Each Month Food Distribution
DESCRIPTION:×Submit A Resource\n\n\n  \n\n\n\n\n	\n	 \n\n\n	Event CategoryHousingJobsEducationBenefitsProvider ResourceGeneral Resource\n	 \n\n\n	Start \n	 \n\n\n	End \n	 \n\n\n	PA – Delaware CountyPA – Montgomery CountyPA – Philadelphia County\n	 \n\n\n	\n	 \n\n\n	\n	 \n\n\n	\n	 \n\n\n	\n	 \n\n\n	\n	 \n\n\n	\n	 \n\n\n	I agree to the  terms of use and  privacy policy\n	 \n	\n	 \n×\n\n\n \nClose   ×Submit A Provider \n\n\n  \n\n\n\n\n	\n	 \n\n\n	Event CategoryHousingJobsEducationBenefitsProvider ResourceGeneral Resource\n	 \n\n\n	Start \n	 \n\n\n	End \n	 \n\n\n	\n	 \n\n\n	\n	 \n\n\n	\n	 \n\n\n	\n	 \n\n\n	\n	 \n\n\n	\n	 \n\n\n	I agree to the  terms of use and  privacy policy\n	 \n	\n	 \n×\n\n\n \nClose
URL:https://uplifme.com/event/now-on-the-4th-saturday-of-each-month-food-distribution/2027-01-23/
LOCATION:7427 Rossville Blvd.\, Baltimore\, MD\, 21237\, United States
CATEGORIES:Food,General Resource
ATTACH;FMTTYPE=image/png:https://uplifme.com/wp-content/uploads/2026/04/Screenshot-2026-03-22-at-10.09.17-AM.png
END:VEVENT
BEGIN:VEVENT
DTSTART;TZID=UTC:20270227T140000
DTEND;TZID=UTC:20270227T160000
DTSTAMP:20260422T004834
CREATED:20260421T190845Z
LAST-MODIFIED:20260421T191033Z
UID:10010672-1803736800-1803744000@uplifme.com
SUMMARY:Now on the 4th Saturday of Each Month Food Distribution
DESCRIPTION:×Submit A Resource\n\n\n  \n\n\n\n\n	\n	 \n\n\n	Event CategoryHousingJobsEducationBenefitsProvider ResourceGeneral Resource\n	 \n\n\n	Start \n	 \n\n\n	End \n	 \n\n\n	PA – Delaware CountyPA – Montgomery CountyPA – Philadelphia County\n	 \n\n\n	\n	 \n\n\n	\n	 \n\n\n	\n	 \n\n\n	\n	 \n\n\n	\n	 \n\n\n	\n	 \n\n\n	I agree to the  terms of use and  privacy policy\n	 \n	\n	 \n×\n\n\n \nClose   ×Submit A Provider \n\n\n  \n\n\n\n\n	\n	 \n\n\n	Event CategoryHousingJobsEducationBenefitsProvider ResourceGeneral Resource\n	 \n\n\n	Start \n	 \n\n\n	End \n	 \n\n\n	\n	 \n\n\n	\n	 \n\n\n	\n	 \n\n\n	\n	 \n\n\n	\n	 \n\n\n	\n	 \n\n\n	I agree to the  terms of use and  privacy policy\n	 \n	\n	 \n×\n\n\n \nClose
URL:https://uplifme.com/event/now-on-the-4th-saturday-of-each-month-food-distribution/2027-02-27/
LOCATION:7427 Rossville Blvd.\, Baltimore\, MD\, 21237\, United States
CATEGORIES:Food,General Resource
ATTACH;FMTTYPE=image/png:https://uplifme.com/wp-content/uploads/2026/04/Screenshot-2026-03-22-at-10.09.17-AM.png
END:VEVENT
BEGIN:VEVENT
DTSTART;TZID=UTC:20270327T140000
DTEND;TZID=UTC:20270327T160000
DTSTAMP:20260422T004835
CREATED:20260421T190845Z
LAST-MODIFIED:20260421T191033Z
UID:10010673-1806156000-1806163200@uplifme.com
SUMMARY:Now on the 4th Saturday of Each Month Food Distribution
DESCRIPTION:×Submit A Resource\n\n\n  \n\n\n\n\n	\n	 \n\n\n	Event CategoryHousingJobsEducationBenefitsProvider ResourceGeneral Resource\n	 \n\n\n	Start \n	 \n\n\n	End \n	 \n\n\n	PA – Delaware CountyPA – Montgomery CountyPA – Philadelphia County\n	 \n\n\n	\n	 \n\n\n	\n	 \n\n\n	\n	 \n\n\n	\n	 \n\n\n	\n	 \n\n\n	\n	 \n\n\n	I agree to the  terms of use and  privacy policy\n	 \n	\n	 \n×\n\n\n \nClose   ×Submit A Provider \n\n\n  \n\n\n\n\n	\n	 \n\n\n	Event CategoryHousingJobsEducationBenefitsProvider ResourceGeneral Resource\n	 \n\n\n	Start \n	 \n\n\n	End \n	 \n\n\n	\n	 \n\n\n	\n	 \n\n\n	\n	 \n\n\n	\n	 \n\n\n	\n	 \n\n\n	\n	 \n\n\n	I agree to the  terms of use and  privacy policy\n	 \n	\n	 \n×\n\n\n \nClose
URL:https://uplifme.com/event/now-on-the-4th-saturday-of-each-month-food-distribution/2027-03-27/
LOCATION:7427 Rossville Blvd.\, Baltimore\, MD\, 21237\, United States
CATEGORIES:Food,General Resource
ATTACH;FMTTYPE=image/png:https://uplifme.com/wp-content/uploads/2026/04/Screenshot-2026-03-22-at-10.09.17-AM.png
END:VEVENT
BEGIN:VEVENT
DTSTART;TZID=UTC:20270424T140000
DTEND;TZID=UTC:20270424T160000
DTSTAMP:20260422T004835
CREATED:20260421T190845Z
LAST-MODIFIED:20260421T191033Z
UID:10010674-1808575200-1808582400@uplifme.com
SUMMARY:Now on the 4th Saturday of Each Month Food Distribution
DESCRIPTION:×Submit A Resource\n\n\n  \n\n\n\n\n	\n	 \n\n\n	Event CategoryHousingJobsEducationBenefitsProvider ResourceGeneral Resource\n	 \n\n\n	Start \n	 \n\n\n	End \n	 \n\n\n	PA – Delaware CountyPA – Montgomery CountyPA – Philadelphia County\n	 \n\n\n	\n	 \n\n\n	\n	 \n\n\n	\n	 \n\n\n	\n	 \n\n\n	\n	 \n\n\n	\n	 \n\n\n	I agree to the  terms of use and  privacy policy\n	 \n	\n	 \n×\n\n\n \nClose   ×Submit A Provider \n\n\n  \n\n\n\n\n	\n	 \n\n\n	Event CategoryHousingJobsEducationBenefitsProvider ResourceGeneral Resource\n	 \n\n\n	Start \n	 \n\n\n	End \n	 \n\n\n	\n	 \n\n\n	\n	 \n\n\n	\n	 \n\n\n	\n	 \n\n\n	\n	 \n\n\n	\n	 \n\n\n	I agree to the  terms of use and  privacy policy\n	 \n	\n	 \n×\n\n\n \nClose
URL:https://uplifme.com/event/now-on-the-4th-saturday-of-each-month-food-distribution/2027-04-24/
LOCATION:7427 Rossville Blvd.\, Baltimore\, MD\, 21237\, United States
CATEGORIES:Food,General Resource
ATTACH;FMTTYPE=image/png:https://uplifme.com/wp-content/uploads/2026/04/Screenshot-2026-03-22-at-10.09.17-AM.png
END:VEVENT
END:VCALENDAR