BEGIN:VCALENDAR
VERSION:2.0
PRODID:-//Uplifme - ECPv6.15.20//NONSGML v1.0//EN
CALSCALE:GREGORIAN
METHOD:PUBLISH
X-WR-CALNAME:Uplifme
X-ORIGINAL-URL:https://uplifme.com
X-WR-CALDESC:Events for Uplifme
REFRESH-INTERVAL;VALUE=DURATION:PT1H
X-Robots-Tag:noindex
X-PUBLISHED-TTL:PT1H
BEGIN:VTIMEZONE
TZID:UTC
BEGIN:STANDARD
TZOFFSETFROM:+0000
TZOFFSETTO:+0000
TZNAME:UTC
DTSTART:20240101T000000
END:STANDARD
END:VTIMEZONE
BEGIN:VEVENT
DTSTART;TZID=UTC:20260326T090000
DTEND;TZID=UTC:20260326T130000
DTSTAMP:20260421T094021
CREATED:20260322T143449Z
LAST-MODIFIED:20260322T143618Z
UID:10008687-1774515600-1774530000@uplifme.com
SUMMARY:The Job You're Looking for is Here!
DESCRIPTION:×Submit A Resource\n\n\n  \n\n\n\n\n	\n	 \n\n\n	Event CategoryHousingJobsEducationBenefitsProvider ResourceGeneral Resource\n	 \n\n\n	Start \n	 \n\n\n	End \n	 \n\n\n	PA – Delaware CountyPA – Montgomery CountyPA – Philadelphia County\n	 \n\n\n	\n	 \n\n\n	\n	 \n\n\n	\n	 \n\n\n	\n	 \n\n\n	\n	 \n\n\n	\n	 \n\n\n	I agree to the  terms of use and  privacy policy\n	 \n	\n	 \n×\n\n\n \nClose   ×Submit A Provider \n\n\n  \n\n\n\n\n	\n	 \n\n\n	Event CategoryHousingJobsEducationBenefitsProvider ResourceGeneral Resource\n	 \n\n\n	Start \n	 \n\n\n	End \n	 \n\n\n	\n	 \n\n\n	\n	 \n\n\n	\n	 \n\n\n	\n	 \n\n\n	\n	 \n\n\n	\n	 \n\n\n	I agree to the  terms of use and  privacy policy\n	 \n	\n	 \n×\n\n\n \nClose
URL:https://uplifme.com/event/the-job-youre-looking-for-is-here/
LOCATION:L.A. City College\, 4311 Melrose Avenue\, Los Angeles\, CA\, 90029\, United States
CATEGORIES:General Resource,Jobs
ATTACH;FMTTYPE=image/png:https://uplifme.com/wp-content/uploads/2026/03/Screenshot-2026-02-25-at-2.31.54-PM.png
END:VEVENT
BEGIN:VEVENT
DTSTART;TZID=UTC:20260326T090000
DTEND;TZID=UTC:20260326T120000
DTSTAMP:20260421T094021
CREATED:20260322T132219Z
LAST-MODIFIED:20260322T132240Z
UID:10008674-1774515600-1774526400@uplifme.com
SUMMARY:Carson One-Stop Career Center Hiring Event
DESCRIPTION:×Submit A Resource\n\n\n  \n\n\n\n\n	\n	 \n\n\n	Event CategoryHousingJobsEducationBenefitsProvider ResourceGeneral Resource\n	 \n\n\n	Start \n	 \n\n\n	End \n	 \n\n\n	PA – Delaware CountyPA – Montgomery CountyPA – Philadelphia County\n	 \n\n\n	\n	 \n\n\n	\n	 \n\n\n	\n	 \n\n\n	\n	 \n\n\n	\n	 \n\n\n	\n	 \n\n\n	I agree to the  terms of use and  privacy policy\n	 \n	\n	 \n×\n\n\n \nClose   ×Submit A Provider \n\n\n  \n\n\n\n\n	\n	 \n\n\n	Event CategoryHousingJobsEducationBenefitsProvider ResourceGeneral Resource\n	 \n\n\n	Start \n	 \n\n\n	End \n	 \n\n\n	\n	 \n\n\n	\n	 \n\n\n	\n	 \n\n\n	\n	 \n\n\n	\n	 \n\n\n	\n	 \n\n\n	I agree to the  terms of use and  privacy policy\n	 \n	\n	 \n×\n\n\n \nClose
URL:https://uplifme.com/event/carson-one-stop-career-center-hiring-event/
LOCATION:Carson One Stop Business & Career Center\, 801 E. Carson Street\, Carson\, CA\, 90745\, United States
CATEGORIES:General Resource,Jobs
ATTACH;FMTTYPE=image/png:https://uplifme.com/wp-content/uploads/2026/03/Screenshot-2026-03-13-at-11.40.59-PM.png
END:VEVENT
BEGIN:VEVENT
DTSTART;TZID=UTC:20260325T100000
DTEND;TZID=UTC:20260325T110000
DTSTAMP:20260421T094021
CREATED:20260301T185632Z
LAST-MODIFIED:20260301T185650Z
UID:10007359-1774432800-1774436400@uplifme.com
SUMMARY:Civil Service Jobs
DESCRIPTION:×Submit A Resource\n\n\n  \n\n\n\n\n	\n	 \n\n\n	Event CategoryHousingJobsEducationBenefitsProvider ResourceGeneral Resource\n	 \n\n\n	Start \n	 \n\n\n	End \n	 \n\n\n	PA – Delaware CountyPA – Montgomery CountyPA – Philadelphia County\n	 \n\n\n	\n	 \n\n\n	\n	 \n\n\n	\n	 \n\n\n	\n	 \n\n\n	\n	 \n\n\n	\n	 \n\n\n	I agree to the  terms of use and  privacy policy\n	 \n	\n	 \n×\n\n\n \nClose   ×Submit A Provider \n\n\n  \n\n\n\n\n	\n	 \n\n\n	Event CategoryHousingJobsEducationBenefitsProvider ResourceGeneral Resource\n	 \n\n\n	Start \n	 \n\n\n	End \n	 \n\n\n	\n	 \n\n\n	\n	 \n\n\n	\n	 \n\n\n	\n	 \n\n\n	\n	 \n\n\n	\n	 \n\n\n	I agree to the  terms of use and  privacy policy\n	 \n	\n	 \n×\n\n\n \nClose
URL:https://uplifme.com/event/civil-service-jobs-3/2026-03-25/
LOCATION:PA Career Link North\, 4261 N. 5th Street\, Philadelphia\, PA\, 19140\, United States
CATEGORIES:General Resource,Jobs
ATTACH;FMTTYPE=image/png:https://uplifme.com/wp-content/uploads/2026/03/Screenshot-2026-02-12-at-8.18.06-PM.png
END:VEVENT
BEGIN:VEVENT
DTSTART;TZID=UTC:20260305T113000
DTEND;TZID=UTC:20260305T150000
DTSTAMP:20260421T094021
CREATED:20260302T205212Z
LAST-MODIFIED:20260302T205212Z
UID:10007426-1772710200-1772722800@uplifme.com
SUMMARY:Pomona Second Chance Resource Fair
DESCRIPTION:×Submit A Resource\n\n\n  \n\n\n\n\n	\n	 \n\n\n	Event CategoryHousingJobsEducationBenefitsProvider ResourceGeneral Resource\n	 \n\n\n	Start \n	 \n\n\n	End \n	 \n\n\n	PA – Delaware CountyPA – Montgomery CountyPA – Philadelphia County\n	 \n\n\n	\n	 \n\n\n	\n	 \n\n\n	\n	 \n\n\n	\n	 \n\n\n	\n	 \n\n\n	\n	 \n\n\n	I agree to the  terms of use and  privacy policy\n	 \n	\n	 \n×\n\n\n \nClose   ×Submit A Provider \n\n\n  \n\n\n\n\n	\n	 \n\n\n	Event CategoryHousingJobsEducationBenefitsProvider ResourceGeneral Resource\n	 \n\n\n	Start \n	 \n\n\n	End \n	 \n\n\n	\n	 \n\n\n	\n	 \n\n\n	\n	 \n\n\n	\n	 \n\n\n	\n	 \n\n\n	\n	 \n\n\n	I agree to the  terms of use and  privacy policy\n	 \n	\n	 \n×\n\n\n \nClose
URL:https://uplifme.com/event/pomona-second-chance-resource-fair/
LOCATION:1460 E. Holt Avenue\, Los Angeles\, CA\, United States
CATEGORIES:Education,General Resource,Jobs
ATTACH;FMTTYPE=image/png:https://uplifme.com/wp-content/uploads/2026/03/Screenshot-2026-02-27-at-10.08.19-PM.png
END:VEVENT
BEGIN:VEVENT
DTSTART;TZID=UTC:20260304T100000
DTEND;TZID=UTC:20260304T110000
DTSTAMP:20260421T094021
CREATED:20260301T185632Z
LAST-MODIFIED:20260301T185650Z
UID:10007358-1772618400-1772622000@uplifme.com
SUMMARY:Civil Service Jobs
DESCRIPTION:×Submit A Resource\n\n\n  \n\n\n\n\n	\n	 \n\n\n	Event CategoryHousingJobsEducationBenefitsProvider ResourceGeneral Resource\n	 \n\n\n	Start \n	 \n\n\n	End \n	 \n\n\n	PA – Delaware CountyPA – Montgomery CountyPA – Philadelphia County\n	 \n\n\n	\n	 \n\n\n	\n	 \n\n\n	\n	 \n\n\n	\n	 \n\n\n	\n	 \n\n\n	\n	 \n\n\n	I agree to the  terms of use and  privacy policy\n	 \n	\n	 \n×\n\n\n \nClose   ×Submit A Provider \n\n\n  \n\n\n\n\n	\n	 \n\n\n	Event CategoryHousingJobsEducationBenefitsProvider ResourceGeneral Resource\n	 \n\n\n	Start \n	 \n\n\n	End \n	 \n\n\n	\n	 \n\n\n	\n	 \n\n\n	\n	 \n\n\n	\n	 \n\n\n	\n	 \n\n\n	\n	 \n\n\n	I agree to the  terms of use and  privacy policy\n	 \n	\n	 \n×\n\n\n \nClose
URL:https://uplifme.com/event/civil-service-jobs-3/2026-03-04/
LOCATION:PA Career Link North\, 4261 N. 5th Street\, Philadelphia\, PA\, 19140\, United States
CATEGORIES:General Resource,Jobs
ATTACH;FMTTYPE=image/png:https://uplifme.com/wp-content/uploads/2026/03/Screenshot-2026-02-12-at-8.18.06-PM.png
END:VEVENT
BEGIN:VEVENT
DTSTART;TZID=UTC:20260223T100000
DTEND;TZID=UTC:20260223T120000
DTSTAMP:20260421T094021
CREATED:20260221T013634Z
LAST-MODIFIED:20260221T013813Z
UID:10006902-1771840800-1771848000@uplifme.com
SUMMARY:Community Council Health Systems Information and Application Session
DESCRIPTION:×Submit A Resource\n\n\n  \n\n\n\n\n	\n	 \n\n\n	Event CategoryHousingJobsEducationBenefitsProvider ResourceGeneral Resource\n	 \n\n\n	Start \n	 \n\n\n	End \n	 \n\n\n	PA – Delaware CountyPA – Montgomery CountyPA – Philadelphia County\n	 \n\n\n	\n	 \n\n\n	\n	 \n\n\n	\n	 \n\n\n	\n	 \n\n\n	\n	 \n\n\n	\n	 \n\n\n	I agree to the  terms of use and  privacy policy\n	 \n	\n	 \n×\n\n\n \nClose   ×Submit A Provider \n\n\n  \n\n\n\n\n	\n	 \n\n\n	Event CategoryHousingJobsEducationBenefitsProvider ResourceGeneral Resource\n	 \n\n\n	Start \n	 \n\n\n	End \n	 \n\n\n	\n	 \n\n\n	\n	 \n\n\n	\n	 \n\n\n	\n	 \n\n\n	\n	 \n\n\n	\n	 \n\n\n	I agree to the  terms of use and  privacy policy\n	 \n	\n	 \n×\n\n\n \nClose
URL:https://uplifme.com/event/community-council-health-systems-information-and-application-session-2/
LOCATION:PA Career Link\, 1617 JFK Blvd\, Suite 200\, Philadelphia\, PA\, United States
CATEGORIES:Education,General Resource,Jobs
ATTACH;FMTTYPE=image/png:https://uplifme.com/wp-content/uploads/2026/02/Screenshot-2026-02-12-at-8.21.38-PM.png
END:VEVENT
BEGIN:VEVENT
DTSTART;VALUE=DATE:20260223
DTEND;VALUE=DATE:20260224
DTSTAMP:20260421T094021
CREATED:20260221T011518Z
LAST-MODIFIED:20260221T011538Z
UID:10006899-1771804800-1771891199@uplifme.com
SUMMARY:Youth @ Work
DESCRIPTION:×Submit A Resource\n\n\n  \n\n\n\n\n	\n	 \n\n\n	Event CategoryHousingJobsEducationBenefitsProvider ResourceGeneral Resource\n	 \n\n\n	Start \n	 \n\n\n	End \n	 \n\n\n	PA – Delaware CountyPA – Montgomery CountyPA – Philadelphia County\n	 \n\n\n	\n	 \n\n\n	\n	 \n\n\n	\n	 \n\n\n	\n	 \n\n\n	\n	 \n\n\n	\n	 \n\n\n	I agree to the  terms of use and  privacy policy\n	 \n	\n	 \n×\n\n\n \nClose   ×Submit A Provider \n\n\n  \n\n\n\n\n	\n	 \n\n\n	Event CategoryHousingJobsEducationBenefitsProvider ResourceGeneral Resource\n	 \n\n\n	Start \n	 \n\n\n	End \n	 \n\n\n	\n	 \n\n\n	\n	 \n\n\n	\n	 \n\n\n	\n	 \n\n\n	\n	 \n\n\n	\n	 \n\n\n	I agree to the  terms of use and  privacy policy\n	 \n	\n	 \n×\n\n\n \nClose
URL:https://uplifme.com/event/youth-work-2/
LOCATION:Pomona Valley AJCC\, 1460 E. Holt Avenue\, Room 130\, Pomona\, CA\, 91767\, United States
CATEGORIES:Education,General Resource
ATTACH;FMTTYPE=image/png:https://uplifme.com/wp-content/uploads/2026/02/Screenshot-2026-02-17-at-1.42.15-PM.png
END:VEVENT
BEGIN:VEVENT
DTSTART;TZID=UTC:20251210T130000
DTEND;TZID=UTC:20251210T140000
DTSTAMP:20260421T094021
CREATED:20251208T142554Z
LAST-MODIFIED:20251208T142606Z
UID:10003401-1765371600-1765375200@uplifme.com
SUMMARY:Want to Start a Career in Hospitality
DESCRIPTION:×Submit A Resource\n\n\n  \n\n\n\n\n	\n	 \n\n\n	Event CategoryHousingJobsEducationBenefitsProvider ResourceGeneral Resource\n	 \n\n\n	Start \n	 \n\n\n	End \n	 \n\n\n	PA – Delaware CountyPA – Montgomery CountyPA – Philadelphia County\n	 \n\n\n	\n	 \n\n\n	\n	 \n\n\n	\n	 \n\n\n	\n	 \n\n\n	\n	 \n\n\n	\n	 \n\n\n	I agree to the  terms of use and  privacy policy\n	 \n	\n	 \n×\n\n\n \nClose   ×Submit A Provider \n\n\n  \n\n\n\n\n	\n	 \n\n\n	Event CategoryHousingJobsEducationBenefitsProvider ResourceGeneral Resource\n	 \n\n\n	Start \n	 \n\n\n	End \n	 \n\n\n	\n	 \n\n\n	\n	 \n\n\n	\n	 \n\n\n	\n	 \n\n\n	\n	 \n\n\n	\n	 \n\n\n	I agree to the  terms of use and  privacy policy\n	 \n	\n	 \n×\n\n\n \nClose
URL:https://uplifme.com/event/want-to-start-a-career-in-hospitality/
LOCATION:9808 S. Kalmia Street\, Los Angeles\, CA\, 90002\, United States
CATEGORIES:Education,General Resource,Jobs
ATTACH;FMTTYPE=image/png:https://uplifme.com/wp-content/uploads/2025/12/Screenshot-2025-12-04-at-12.13.43-AM.jpeg.png
END:VEVENT
END:VCALENDAR