BEGIN:VCALENDAR
VERSION:2.0
PRODID:-//Uplifme - ECPv6.15.20//NONSGML v1.0//EN
CALSCALE:GREGORIAN
METHOD:PUBLISH
X-WR-CALNAME:Uplifme
X-ORIGINAL-URL:https://uplifme.com
X-WR-CALDESC:Events for Uplifme
REFRESH-INTERVAL;VALUE=DURATION:PT1H
X-Robots-Tag:noindex
X-PUBLISHED-TTL:PT1H
BEGIN:VTIMEZONE
TZID:UTC
BEGIN:STANDARD
TZOFFSETFROM:+0000
TZOFFSETTO:+0000
TZNAME:UTC
DTSTART:20290101T000000
END:STANDARD
END:VTIMEZONE
BEGIN:VEVENT
DTSTART;TZID=UTC:20301010T100000
DTEND;TZID=UTC:20301010T160000
DTSTAMP:20260421T011426
CREATED:20260406T181657Z
LAST-MODIFIED:20260406T181737Z
UID:10009303-1917856800-1917878400@uplifme.com
SUMMARY:Community Outreach
DESCRIPTION:×Submit A Resource\n\n\n  \n\n\n\n\n	\n	 \n\n\n	Event CategoryHousingJobsEducationBenefitsProvider ResourceGeneral Resource\n	 \n\n\n	Start \n	 \n\n\n	End \n	 \n\n\n	PA – Delaware CountyPA – Montgomery CountyPA – Philadelphia County\n	 \n\n\n	\n	 \n\n\n	\n	 \n\n\n	\n	 \n\n\n	\n	 \n\n\n	\n	 \n\n\n	\n	 \n\n\n	I agree to the  terms of use and  privacy policy\n	 \n	\n	 \n×\n\n\n \nClose   ×Submit A Provider \n\n\n  \n\n\n\n\n	\n	 \n\n\n	Event CategoryHousingJobsEducationBenefitsProvider ResourceGeneral Resource\n	 \n\n\n	Start \n	 \n\n\n	End \n	 \n\n\n	\n	 \n\n\n	\n	 \n\n\n	\n	 \n\n\n	\n	 \n\n\n	\n	 \n\n\n	\n	 \n\n\n	I agree to the  terms of use and  privacy policy\n	 \n	\n	 \n×\n\n\n \nClose
URL:https://uplifme.com/event/community-outreach-2/2030-10-10/
LOCATION:Deale Library\, 5940 Deale Churchton Road\, Deale\, MD\, 20751\, United States
CATEGORIES:Benefits,General Resource
ATTACH;FMTTYPE=image/png:https://uplifme.com/wp-content/uploads/2026/04/Screenshot-2026-04-03-at-10.36.45-AM.png
END:VEVENT
BEGIN:VEVENT
DTSTART;TZID=UTC:20301114T100000
DTEND;TZID=UTC:20301114T160000
DTSTAMP:20260421T011426
CREATED:20260406T181657Z
LAST-MODIFIED:20260406T181737Z
UID:10009304-1920880800-1920902400@uplifme.com
SUMMARY:Community Outreach
DESCRIPTION:×Submit A Resource\n\n\n  \n\n\n\n\n	\n	 \n\n\n	Event CategoryHousingJobsEducationBenefitsProvider ResourceGeneral Resource\n	 \n\n\n	Start \n	 \n\n\n	End \n	 \n\n\n	PA – Delaware CountyPA – Montgomery CountyPA – Philadelphia County\n	 \n\n\n	\n	 \n\n\n	\n	 \n\n\n	\n	 \n\n\n	\n	 \n\n\n	\n	 \n\n\n	\n	 \n\n\n	I agree to the  terms of use and  privacy policy\n	 \n	\n	 \n×\n\n\n \nClose   ×Submit A Provider \n\n\n  \n\n\n\n\n	\n	 \n\n\n	Event CategoryHousingJobsEducationBenefitsProvider ResourceGeneral Resource\n	 \n\n\n	Start \n	 \n\n\n	End \n	 \n\n\n	\n	 \n\n\n	\n	 \n\n\n	\n	 \n\n\n	\n	 \n\n\n	\n	 \n\n\n	\n	 \n\n\n	I agree to the  terms of use and  privacy policy\n	 \n	\n	 \n×\n\n\n \nClose
URL:https://uplifme.com/event/community-outreach-2/2030-11-14/
LOCATION:Deale Library\, 5940 Deale Churchton Road\, Deale\, MD\, 20751\, United States
CATEGORIES:Benefits,General Resource
ATTACH;FMTTYPE=image/png:https://uplifme.com/wp-content/uploads/2026/04/Screenshot-2026-04-03-at-10.36.45-AM.png
END:VEVENT
BEGIN:VEVENT
DTSTART;TZID=UTC:20301212T100000
DTEND;TZID=UTC:20301212T160000
DTSTAMP:20260421T011426
CREATED:20260406T181657Z
LAST-MODIFIED:20260406T181737Z
UID:10009305-1923300000-1923321600@uplifme.com
SUMMARY:Community Outreach
DESCRIPTION:×Submit A Resource\n\n\n  \n\n\n\n\n	\n	 \n\n\n	Event CategoryHousingJobsEducationBenefitsProvider ResourceGeneral Resource\n	 \n\n\n	Start \n	 \n\n\n	End \n	 \n\n\n	PA – Delaware CountyPA – Montgomery CountyPA – Philadelphia County\n	 \n\n\n	\n	 \n\n\n	\n	 \n\n\n	\n	 \n\n\n	\n	 \n\n\n	\n	 \n\n\n	\n	 \n\n\n	I agree to the  terms of use and  privacy policy\n	 \n	\n	 \n×\n\n\n \nClose   ×Submit A Provider \n\n\n  \n\n\n\n\n	\n	 \n\n\n	Event CategoryHousingJobsEducationBenefitsProvider ResourceGeneral Resource\n	 \n\n\n	Start \n	 \n\n\n	End \n	 \n\n\n	\n	 \n\n\n	\n	 \n\n\n	\n	 \n\n\n	\n	 \n\n\n	\n	 \n\n\n	\n	 \n\n\n	I agree to the  terms of use and  privacy policy\n	 \n	\n	 \n×\n\n\n \nClose
URL:https://uplifme.com/event/community-outreach-2/2030-12-12/
LOCATION:Deale Library\, 5940 Deale Churchton Road\, Deale\, MD\, 20751\, United States
CATEGORIES:Benefits,General Resource
ATTACH;FMTTYPE=image/png:https://uplifme.com/wp-content/uploads/2026/04/Screenshot-2026-04-03-at-10.36.45-AM.png
END:VEVENT
BEGIN:VEVENT
DTSTART;TZID=UTC:20310109T100000
DTEND;TZID=UTC:20310109T160000
DTSTAMP:20260421T011426
CREATED:20260406T181657Z
LAST-MODIFIED:20260406T181737Z
UID:10009306-1925719200-1925740800@uplifme.com
SUMMARY:Community Outreach
DESCRIPTION:×Submit A Resource\n\n\n  \n\n\n\n\n	\n	 \n\n\n	Event CategoryHousingJobsEducationBenefitsProvider ResourceGeneral Resource\n	 \n\n\n	Start \n	 \n\n\n	End \n	 \n\n\n	PA – Delaware CountyPA – Montgomery CountyPA – Philadelphia County\n	 \n\n\n	\n	 \n\n\n	\n	 \n\n\n	\n	 \n\n\n	\n	 \n\n\n	\n	 \n\n\n	\n	 \n\n\n	I agree to the  terms of use and  privacy policy\n	 \n	\n	 \n×\n\n\n \nClose   ×Submit A Provider \n\n\n  \n\n\n\n\n	\n	 \n\n\n	Event CategoryHousingJobsEducationBenefitsProvider ResourceGeneral Resource\n	 \n\n\n	Start \n	 \n\n\n	End \n	 \n\n\n	\n	 \n\n\n	\n	 \n\n\n	\n	 \n\n\n	\n	 \n\n\n	\n	 \n\n\n	\n	 \n\n\n	I agree to the  terms of use and  privacy policy\n	 \n	\n	 \n×\n\n\n \nClose
URL:https://uplifme.com/event/community-outreach-2/2031-01-09/
LOCATION:Deale Library\, 5940 Deale Churchton Road\, Deale\, MD\, 20751\, United States
CATEGORIES:Benefits,General Resource
ATTACH;FMTTYPE=image/png:https://uplifme.com/wp-content/uploads/2026/04/Screenshot-2026-04-03-at-10.36.45-AM.png
END:VEVENT
BEGIN:VEVENT
DTSTART;TZID=UTC:20310213T100000
DTEND;TZID=UTC:20310213T160000
DTSTAMP:20260421T011426
CREATED:20260406T181657Z
LAST-MODIFIED:20260406T181737Z
UID:10009307-1928743200-1928764800@uplifme.com
SUMMARY:Community Outreach
DESCRIPTION:×Submit A Resource\n\n\n  \n\n\n\n\n	\n	 \n\n\n	Event CategoryHousingJobsEducationBenefitsProvider ResourceGeneral Resource\n	 \n\n\n	Start \n	 \n\n\n	End \n	 \n\n\n	PA – Delaware CountyPA – Montgomery CountyPA – Philadelphia County\n	 \n\n\n	\n	 \n\n\n	\n	 \n\n\n	\n	 \n\n\n	\n	 \n\n\n	\n	 \n\n\n	\n	 \n\n\n	I agree to the  terms of use and  privacy policy\n	 \n	\n	 \n×\n\n\n \nClose   ×Submit A Provider \n\n\n  \n\n\n\n\n	\n	 \n\n\n	Event CategoryHousingJobsEducationBenefitsProvider ResourceGeneral Resource\n	 \n\n\n	Start \n	 \n\n\n	End \n	 \n\n\n	\n	 \n\n\n	\n	 \n\n\n	\n	 \n\n\n	\n	 \n\n\n	\n	 \n\n\n	\n	 \n\n\n	I agree to the  terms of use and  privacy policy\n	 \n	\n	 \n×\n\n\n \nClose
URL:https://uplifme.com/event/community-outreach-2/2031-02-13/
LOCATION:Deale Library\, 5940 Deale Churchton Road\, Deale\, MD\, 20751\, United States
CATEGORIES:Benefits,General Resource
ATTACH;FMTTYPE=image/png:https://uplifme.com/wp-content/uploads/2026/04/Screenshot-2026-04-03-at-10.36.45-AM.png
END:VEVENT
BEGIN:VEVENT
DTSTART;TZID=UTC:20310313T100000
DTEND;TZID=UTC:20310313T160000
DTSTAMP:20260421T011426
CREATED:20260406T181657Z
LAST-MODIFIED:20260406T181737Z
UID:10009308-1931162400-1931184000@uplifme.com
SUMMARY:Community Outreach
DESCRIPTION:×Submit A Resource\n\n\n  \n\n\n\n\n	\n	 \n\n\n	Event CategoryHousingJobsEducationBenefitsProvider ResourceGeneral Resource\n	 \n\n\n	Start \n	 \n\n\n	End \n	 \n\n\n	PA – Delaware CountyPA – Montgomery CountyPA – Philadelphia County\n	 \n\n\n	\n	 \n\n\n	\n	 \n\n\n	\n	 \n\n\n	\n	 \n\n\n	\n	 \n\n\n	\n	 \n\n\n	I agree to the  terms of use and  privacy policy\n	 \n	\n	 \n×\n\n\n \nClose   ×Submit A Provider \n\n\n  \n\n\n\n\n	\n	 \n\n\n	Event CategoryHousingJobsEducationBenefitsProvider ResourceGeneral Resource\n	 \n\n\n	Start \n	 \n\n\n	End \n	 \n\n\n	\n	 \n\n\n	\n	 \n\n\n	\n	 \n\n\n	\n	 \n\n\n	\n	 \n\n\n	\n	 \n\n\n	I agree to the  terms of use and  privacy policy\n	 \n	\n	 \n×\n\n\n \nClose
URL:https://uplifme.com/event/community-outreach-2/2031-03-13/
LOCATION:Deale Library\, 5940 Deale Churchton Road\, Deale\, MD\, 20751\, United States
CATEGORIES:Benefits,General Resource
ATTACH;FMTTYPE=image/png:https://uplifme.com/wp-content/uploads/2026/04/Screenshot-2026-04-03-at-10.36.45-AM.png
END:VEVENT
END:VCALENDAR