BEGIN:VCALENDAR
VERSION:2.0
PRODID:-//Uplifme - ECPv6.15.20//NONSGML v1.0//EN
CALSCALE:GREGORIAN
METHOD:PUBLISH
X-WR-CALNAME:Uplifme
X-ORIGINAL-URL:https://uplifme.com
X-WR-CALDESC:Events for Uplifme
REFRESH-INTERVAL;VALUE=DURATION:PT1H
X-Robots-Tag:noindex
X-PUBLISHED-TTL:PT1H
BEGIN:VTIMEZONE
TZID:UTC
BEGIN:STANDARD
TZOFFSETFROM:+0000
TZOFFSETTO:+0000
TZNAME:UTC
DTSTART:20240101T000000
END:STANDARD
END:VTIMEZONE
BEGIN:VEVENT
DTSTART;TZID=UTC:20260211T173000
DTEND;TZID=UTC:20260211T193000
DTSTAMP:20260420T131518
CREATED:20260207T230822Z
LAST-MODIFIED:20260208T000626Z
UID:10006012-1770831000-1770838200@uplifme.com
SUMMARY:Community Game Night
DESCRIPTION:×Submit A Resource\n\n\n  \n\n\n\n\n	\n	 \n\n\n	Event CategoryHousingJobsEducationBenefitsProvider ResourceGeneral Resource\n	 \n\n\n	Start \n	 \n\n\n	End \n	 \n\n\n	PA – Delaware CountyPA – Montgomery CountyPA – Philadelphia County\n	 \n\n\n	\n	 \n\n\n	\n	 \n\n\n	\n	 \n\n\n	\n	 \n\n\n	\n	 \n\n\n	\n	 \n\n\n	I agree to the  terms of use and  privacy policy\n	 \n	\n	 \n×\n\n\n \nClose   ×Submit A Provider \n\n\n  \n\n\n\n\n	\n	 \n\n\n	Event CategoryHousingJobsEducationBenefitsProvider ResourceGeneral Resource\n	 \n\n\n	Start \n	 \n\n\n	End \n	 \n\n\n	\n	 \n\n\n	\n	 \n\n\n	\n	 \n\n\n	\n	 \n\n\n	\n	 \n\n\n	\n	 \n\n\n	I agree to the  terms of use and  privacy policy\n	 \n	\n	 \n×\n\n\n \nClose
URL:https://uplifme.com/event/community-game-night/
LOCATION:Rue Auditorium\, 301 Garden Street\, Hoboken\, NJ\, 07030\, United States
CATEGORIES:Benefits,General Resource
ATTACH;FMTTYPE=image/png:https://uplifme.com/wp-content/uploads/2026/02/Screenshot-2026-01-28-at-11.00.56-PM.png
END:VEVENT
BEGIN:VEVENT
DTSTART;TZID=UTC:20260121T183000
DTEND;TZID=UTC:20260121T200000
DTSTAMP:20260420T131518
CREATED:20251008T165555Z
LAST-MODIFIED:20251008T165618Z
UID:10001619-1769020200-1769025600@uplifme.com
SUMMARY:College Readiness Workshops
DESCRIPTION:×Submit A Resource\n\n\n  \n\n\n\n\n	\n	 \n\n\n	Event CategoryHousingJobsEducationBenefitsProvider ResourceGeneral Resource\n	 \n\n\n	Start \n	 \n\n\n	End \n	 \n\n\n	PA – Delaware CountyPA – Montgomery CountyPA – Philadelphia County\n	 \n\n\n	\n	 \n\n\n	\n	 \n\n\n	\n	 \n\n\n	\n	 \n\n\n	\n	 \n\n\n	\n	 \n\n\n	I agree to the  terms of use and  privacy policy\n	 \n	\n	 \n×\n\n\n \nClose   ×Submit A Provider \n\n\n  \n\n\n\n\n	\n	 \n\n\n	Event CategoryHousingJobsEducationBenefitsProvider ResourceGeneral Resource\n	 \n\n\n	Start \n	 \n\n\n	End \n	 \n\n\n	\n	 \n\n\n	\n	 \n\n\n	\n	 \n\n\n	\n	 \n\n\n	\n	 \n\n\n	\n	 \n\n\n	I agree to the  terms of use and  privacy policy\n	 \n	\n	 \n×\n\n\n \nClose
URL:https://uplifme.com/event/college-readiness-workshops-2/2026-01-21/
LOCATION:Via Zoom
CATEGORIES:Education,General Resource,Parent/Caregiver Resources
ATTACH;FMTTYPE=image/png:https://uplifme.com/wp-content/uploads/2025/10/Screenshot-2025-09-13-at-2.39.37-PM.jpeg.png
END:VEVENT
BEGIN:VEVENT
DTSTART;TZID=UTC:20251217T183000
DTEND;TZID=UTC:20251217T200000
DTSTAMP:20260420T131518
CREATED:20251008T165555Z
LAST-MODIFIED:20251008T165618Z
UID:10001618-1765996200-1766001600@uplifme.com
SUMMARY:College Readiness Workshops
DESCRIPTION:×Submit A Resource\n\n\n  \n\n\n\n\n	\n	 \n\n\n	Event CategoryHousingJobsEducationBenefitsProvider ResourceGeneral Resource\n	 \n\n\n	Start \n	 \n\n\n	End \n	 \n\n\n	PA – Delaware CountyPA – Montgomery CountyPA – Philadelphia County\n	 \n\n\n	\n	 \n\n\n	\n	 \n\n\n	\n	 \n\n\n	\n	 \n\n\n	\n	 \n\n\n	\n	 \n\n\n	I agree to the  terms of use and  privacy policy\n	 \n	\n	 \n×\n\n\n \nClose   ×Submit A Provider \n\n\n  \n\n\n\n\n	\n	 \n\n\n	Event CategoryHousingJobsEducationBenefitsProvider ResourceGeneral Resource\n	 \n\n\n	Start \n	 \n\n\n	End \n	 \n\n\n	\n	 \n\n\n	\n	 \n\n\n	\n	 \n\n\n	\n	 \n\n\n	\n	 \n\n\n	\n	 \n\n\n	I agree to the  terms of use and  privacy policy\n	 \n	\n	 \n×\n\n\n \nClose
URL:https://uplifme.com/event/college-readiness-workshops-2/2025-12-17/
LOCATION:Via Zoom
CATEGORIES:Education,General Resource,Parent/Caregiver Resources
ATTACH;FMTTYPE=image/png:https://uplifme.com/wp-content/uploads/2025/10/Screenshot-2025-09-13-at-2.39.37-PM.jpeg.png
END:VEVENT
BEGIN:VEVENT
DTSTART;TZID=UTC:20251119T183000
DTEND;TZID=UTC:20251119T200000
DTSTAMP:20260420T131518
CREATED:20251008T165555Z
LAST-MODIFIED:20251008T165618Z
UID:10001617-1763577000-1763582400@uplifme.com
SUMMARY:College Readiness Workshops
DESCRIPTION:×Submit A Resource\n\n\n  \n\n\n\n\n	\n	 \n\n\n	Event CategoryHousingJobsEducationBenefitsProvider ResourceGeneral Resource\n	 \n\n\n	Start \n	 \n\n\n	End \n	 \n\n\n	PA – Delaware CountyPA – Montgomery CountyPA – Philadelphia County\n	 \n\n\n	\n	 \n\n\n	\n	 \n\n\n	\n	 \n\n\n	\n	 \n\n\n	\n	 \n\n\n	\n	 \n\n\n	I agree to the  terms of use and  privacy policy\n	 \n	\n	 \n×\n\n\n \nClose   ×Submit A Provider \n\n\n  \n\n\n\n\n	\n	 \n\n\n	Event CategoryHousingJobsEducationBenefitsProvider ResourceGeneral Resource\n	 \n\n\n	Start \n	 \n\n\n	End \n	 \n\n\n	\n	 \n\n\n	\n	 \n\n\n	\n	 \n\n\n	\n	 \n\n\n	\n	 \n\n\n	\n	 \n\n\n	I agree to the  terms of use and  privacy policy\n	 \n	\n	 \n×\n\n\n \nClose
URL:https://uplifme.com/event/college-readiness-workshops-2/2025-11-19/
LOCATION:Via Zoom
CATEGORIES:Education,General Resource,Parent/Caregiver Resources
ATTACH;FMTTYPE=image/png:https://uplifme.com/wp-content/uploads/2025/10/Screenshot-2025-09-13-at-2.39.37-PM.jpeg.png
END:VEVENT
BEGIN:VEVENT
DTSTART;TZID=UTC:20251022T183000
DTEND;TZID=UTC:20251022T200000
DTSTAMP:20260420T131518
CREATED:20251008T165555Z
LAST-MODIFIED:20251008T165618Z
UID:10001616-1761157800-1761163200@uplifme.com
SUMMARY:College Readiness Workshops
DESCRIPTION:×Submit A Resource\n\n\n  \n\n\n\n\n	\n	 \n\n\n	Event CategoryHousingJobsEducationBenefitsProvider ResourceGeneral Resource\n	 \n\n\n	Start \n	 \n\n\n	End \n	 \n\n\n	PA – Delaware CountyPA – Montgomery CountyPA – Philadelphia County\n	 \n\n\n	\n	 \n\n\n	\n	 \n\n\n	\n	 \n\n\n	\n	 \n\n\n	\n	 \n\n\n	\n	 \n\n\n	I agree to the  terms of use and  privacy policy\n	 \n	\n	 \n×\n\n\n \nClose   ×Submit A Provider \n\n\n  \n\n\n\n\n	\n	 \n\n\n	Event CategoryHousingJobsEducationBenefitsProvider ResourceGeneral Resource\n	 \n\n\n	Start \n	 \n\n\n	End \n	 \n\n\n	\n	 \n\n\n	\n	 \n\n\n	\n	 \n\n\n	\n	 \n\n\n	\n	 \n\n\n	\n	 \n\n\n	I agree to the  terms of use and  privacy policy\n	 \n	\n	 \n×\n\n\n \nClose
URL:https://uplifme.com/event/college-readiness-workshops-2/2025-10-22/
LOCATION:Via Zoom
CATEGORIES:Education,General Resource,Parent/Caregiver Resources
ATTACH;FMTTYPE=image/png:https://uplifme.com/wp-content/uploads/2025/10/Screenshot-2025-09-13-at-2.39.37-PM.jpeg.png
END:VEVENT
END:VCALENDAR