BEGIN:VCALENDAR
VERSION:2.0
PRODID:-//Uplifme - ECPv6.15.20//NONSGML v1.0//EN
CALSCALE:GREGORIAN
METHOD:PUBLISH
X-ORIGINAL-URL:https://uplifme.com
X-WR-CALDESC:Events for Uplifme
REFRESH-INTERVAL;VALUE=DURATION:PT1H
X-Robots-Tag:noindex
X-PUBLISHED-TTL:PT1H
BEGIN:VTIMEZONE
TZID:UTC
BEGIN:STANDARD
TZOFFSETFROM:+0000
TZOFFSETTO:+0000
TZNAME:UTC
DTSTART:20250101T000000
END:STANDARD
END:VTIMEZONE
BEGIN:VEVENT
DTSTART;VALUE=DATE:20260504
DTEND;VALUE=DATE:20260505
DTSTAMP:20260420T094410
CREATED:20260226T151532Z
LAST-MODIFIED:20260226T151555Z
UID:10007124-1777852800-1777939199@uplifme.com
SUMMARY:English for Parents
DESCRIPTION:×Submit A Resource\n\n\n  \n\n\n\n\n	\n	 \n\n\n	Event CategoryHousingJobsEducationBenefitsProvider ResourceGeneral Resource\n	 \n\n\n	Start \n	 \n\n\n	End \n	 \n\n\n	PA – Delaware CountyPA – Montgomery CountyPA – Philadelphia County\n	 \n\n\n	\n	 \n\n\n	\n	 \n\n\n	\n	 \n\n\n	\n	 \n\n\n	\n	 \n\n\n	\n	 \n\n\n	I agree to the  terms of use and  privacy policy\n	 \n	\n	 \n×\n\n\n \nClose   ×Submit A Provider \n\n\n  \n\n\n\n\n	\n	 \n\n\n	Event CategoryHousingJobsEducationBenefitsProvider ResourceGeneral Resource\n	 \n\n\n	Start \n	 \n\n\n	End \n	 \n\n\n	\n	 \n\n\n	\n	 \n\n\n	\n	 \n\n\n	\n	 \n\n\n	\n	 \n\n\n	\n	 \n\n\n	I agree to the  terms of use and  privacy policy\n	 \n	\n	 \n×\n\n\n \nClose
URL:https://uplifme.com/event/english-for-parents/2026-05-04/
LOCATION:Renaissance Youth Center\, 3485 Third Avenue\, Bronx\, NY\, 10456\, United States
CATEGORIES:Education,General Resource,Parent/Caregiver Resources
ATTACH;FMTTYPE=image/png:https://uplifme.com/wp-content/uploads/2026/02/Screenshot-2026-02-14-at-6.41.08-PM.png
END:VEVENT
BEGIN:VEVENT
DTSTART;TZID=UTC:20260515T100000
DTEND;TZID=UTC:20260515T110000
DTSTAMP:20260420T094410
CREATED:20260218T010619Z
LAST-MODIFIED:20260218T010847Z
UID:10006556-1778839200-1778842800@uplifme.com
SUMMARY:Clinical Medical Assistant
DESCRIPTION:×Submit A Resource\n\n\n  \n\n\n\n\n	\n	 \n\n\n	Event CategoryHousingJobsEducationBenefitsProvider ResourceGeneral Resource\n	 \n\n\n	Start \n	 \n\n\n	End \n	 \n\n\n	PA – Delaware CountyPA – Montgomery CountyPA – Philadelphia County\n	 \n\n\n	\n	 \n\n\n	\n	 \n\n\n	\n	 \n\n\n	\n	 \n\n\n	\n	 \n\n\n	\n	 \n\n\n	I agree to the  terms of use and  privacy policy\n	 \n	\n	 \n×\n\n\n \nClose   ×Submit A Provider \n\n\n  \n\n\n\n\n	\n	 \n\n\n	Event CategoryHousingJobsEducationBenefitsProvider ResourceGeneral Resource\n	 \n\n\n	Start \n	 \n\n\n	End \n	 \n\n\n	\n	 \n\n\n	\n	 \n\n\n	\n	 \n\n\n	\n	 \n\n\n	\n	 \n\n\n	\n	 \n\n\n	I agree to the  terms of use and  privacy policy\n	 \n	\n	 \n×\n\n\n \nClose
URL:https://uplifme.com/event/clinical-medical-assistant/2026-05-15/
LOCATION:Bronx Works Workforce Development\, 550 E. 142nd Street\, Bronx\, NY\, 10454\, United States
CATEGORIES:Education,General Resource,Jobs
ATTACH;FMTTYPE=image/png:https://uplifme.com/wp-content/uploads/2026/02/Screenshot-2026-02-07-at-10.16.54-PM.png
END:VEVENT
BEGIN:VEVENT
DTSTART;VALUE=DATE:20260601
DTEND;VALUE=DATE:20260602
DTSTAMP:20260420T094410
CREATED:20260226T151532Z
LAST-MODIFIED:20260226T151555Z
UID:10007125-1780272000-1780358399@uplifme.com
SUMMARY:English for Parents
DESCRIPTION:×Submit A Resource\n\n\n  \n\n\n\n\n	\n	 \n\n\n	Event CategoryHousingJobsEducationBenefitsProvider ResourceGeneral Resource\n	 \n\n\n	Start \n	 \n\n\n	End \n	 \n\n\n	PA – Delaware CountyPA – Montgomery CountyPA – Philadelphia County\n	 \n\n\n	\n	 \n\n\n	\n	 \n\n\n	\n	 \n\n\n	\n	 \n\n\n	\n	 \n\n\n	\n	 \n\n\n	I agree to the  terms of use and  privacy policy\n	 \n	\n	 \n×\n\n\n \nClose   ×Submit A Provider \n\n\n  \n\n\n\n\n	\n	 \n\n\n	Event CategoryHousingJobsEducationBenefitsProvider ResourceGeneral Resource\n	 \n\n\n	Start \n	 \n\n\n	End \n	 \n\n\n	\n	 \n\n\n	\n	 \n\n\n	\n	 \n\n\n	\n	 \n\n\n	\n	 \n\n\n	\n	 \n\n\n	I agree to the  terms of use and  privacy policy\n	 \n	\n	 \n×\n\n\n \nClose
URL:https://uplifme.com/event/english-for-parents/2026-06-01/
LOCATION:Renaissance Youth Center\, 3485 Third Avenue\, Bronx\, NY\, 10456\, United States
CATEGORIES:Education,General Resource,Parent/Caregiver Resources
ATTACH;FMTTYPE=image/png:https://uplifme.com/wp-content/uploads/2026/02/Screenshot-2026-02-14-at-6.41.08-PM.png
END:VEVENT
BEGIN:VEVENT
DTSTART;TZID=UTC:20260619T100000
DTEND;TZID=UTC:20260619T110000
DTSTAMP:20260420T094410
CREATED:20260218T010619Z
LAST-MODIFIED:20260218T010847Z
UID:10006557-1781863200-1781866800@uplifme.com
SUMMARY:Clinical Medical Assistant
DESCRIPTION:×Submit A Resource\n\n\n  \n\n\n\n\n	\n	 \n\n\n	Event CategoryHousingJobsEducationBenefitsProvider ResourceGeneral Resource\n	 \n\n\n	Start \n	 \n\n\n	End \n	 \n\n\n	PA – Delaware CountyPA – Montgomery CountyPA – Philadelphia County\n	 \n\n\n	\n	 \n\n\n	\n	 \n\n\n	\n	 \n\n\n	\n	 \n\n\n	\n	 \n\n\n	\n	 \n\n\n	I agree to the  terms of use and  privacy policy\n	 \n	\n	 \n×\n\n\n \nClose   ×Submit A Provider \n\n\n  \n\n\n\n\n	\n	 \n\n\n	Event CategoryHousingJobsEducationBenefitsProvider ResourceGeneral Resource\n	 \n\n\n	Start \n	 \n\n\n	End \n	 \n\n\n	\n	 \n\n\n	\n	 \n\n\n	\n	 \n\n\n	\n	 \n\n\n	\n	 \n\n\n	\n	 \n\n\n	I agree to the  terms of use and  privacy policy\n	 \n	\n	 \n×\n\n\n \nClose
URL:https://uplifme.com/event/clinical-medical-assistant/2026-06-19/
LOCATION:Bronx Works Workforce Development\, 550 E. 142nd Street\, Bronx\, NY\, 10454\, United States
CATEGORIES:Education,General Resource,Jobs
ATTACH;FMTTYPE=image/png:https://uplifme.com/wp-content/uploads/2026/02/Screenshot-2026-02-07-at-10.16.54-PM.png
END:VEVENT
BEGIN:VEVENT
DTSTART;VALUE=DATE:20260706
DTEND;VALUE=DATE:20260707
DTSTAMP:20260420T094410
CREATED:20260226T151532Z
LAST-MODIFIED:20260226T151555Z
UID:10007126-1783296000-1783382399@uplifme.com
SUMMARY:English for Parents
DESCRIPTION:×Submit A Resource\n\n\n  \n\n\n\n\n	\n	 \n\n\n	Event CategoryHousingJobsEducationBenefitsProvider ResourceGeneral Resource\n	 \n\n\n	Start \n	 \n\n\n	End \n	 \n\n\n	PA – Delaware CountyPA – Montgomery CountyPA – Philadelphia County\n	 \n\n\n	\n	 \n\n\n	\n	 \n\n\n	\n	 \n\n\n	\n	 \n\n\n	\n	 \n\n\n	\n	 \n\n\n	I agree to the  terms of use and  privacy policy\n	 \n	\n	 \n×\n\n\n \nClose   ×Submit A Provider \n\n\n  \n\n\n\n\n	\n	 \n\n\n	Event CategoryHousingJobsEducationBenefitsProvider ResourceGeneral Resource\n	 \n\n\n	Start \n	 \n\n\n	End \n	 \n\n\n	\n	 \n\n\n	\n	 \n\n\n	\n	 \n\n\n	\n	 \n\n\n	\n	 \n\n\n	\n	 \n\n\n	I agree to the  terms of use and  privacy policy\n	 \n	\n	 \n×\n\n\n \nClose
URL:https://uplifme.com/event/english-for-parents/2026-07-06/
LOCATION:Renaissance Youth Center\, 3485 Third Avenue\, Bronx\, NY\, 10456\, United States
CATEGORIES:Education,General Resource,Parent/Caregiver Resources
ATTACH;FMTTYPE=image/png:https://uplifme.com/wp-content/uploads/2026/02/Screenshot-2026-02-14-at-6.41.08-PM.png
END:VEVENT
BEGIN:VEVENT
DTSTART;TZID=UTC:20260717T100000
DTEND;TZID=UTC:20260717T110000
DTSTAMP:20260420T094410
CREATED:20260218T010619Z
LAST-MODIFIED:20260218T010847Z
UID:10006558-1784282400-1784286000@uplifme.com
SUMMARY:Clinical Medical Assistant
DESCRIPTION:×Submit A Resource\n\n\n  \n\n\n\n\n	\n	 \n\n\n	Event CategoryHousingJobsEducationBenefitsProvider ResourceGeneral Resource\n	 \n\n\n	Start \n	 \n\n\n	End \n	 \n\n\n	PA – Delaware CountyPA – Montgomery CountyPA – Philadelphia County\n	 \n\n\n	\n	 \n\n\n	\n	 \n\n\n	\n	 \n\n\n	\n	 \n\n\n	\n	 \n\n\n	\n	 \n\n\n	I agree to the  terms of use and  privacy policy\n	 \n	\n	 \n×\n\n\n \nClose   ×Submit A Provider \n\n\n  \n\n\n\n\n	\n	 \n\n\n	Event CategoryHousingJobsEducationBenefitsProvider ResourceGeneral Resource\n	 \n\n\n	Start \n	 \n\n\n	End \n	 \n\n\n	\n	 \n\n\n	\n	 \n\n\n	\n	 \n\n\n	\n	 \n\n\n	\n	 \n\n\n	\n	 \n\n\n	I agree to the  terms of use and  privacy policy\n	 \n	\n	 \n×\n\n\n \nClose
URL:https://uplifme.com/event/clinical-medical-assistant/2026-07-17/
LOCATION:Bronx Works Workforce Development\, 550 E. 142nd Street\, Bronx\, NY\, 10454\, United States
CATEGORIES:Education,General Resource,Jobs
ATTACH;FMTTYPE=image/png:https://uplifme.com/wp-content/uploads/2026/02/Screenshot-2026-02-07-at-10.16.54-PM.png
END:VEVENT
BEGIN:VEVENT
DTSTART;VALUE=DATE:20260803
DTEND;VALUE=DATE:20260804
DTSTAMP:20260420T094410
CREATED:20260226T151532Z
LAST-MODIFIED:20260226T151555Z
UID:10007127-1785715200-1785801599@uplifme.com
SUMMARY:English for Parents
DESCRIPTION:×Submit A Resource\n\n\n  \n\n\n\n\n	\n	 \n\n\n	Event CategoryHousingJobsEducationBenefitsProvider ResourceGeneral Resource\n	 \n\n\n	Start \n	 \n\n\n	End \n	 \n\n\n	PA – Delaware CountyPA – Montgomery CountyPA – Philadelphia County\n	 \n\n\n	\n	 \n\n\n	\n	 \n\n\n	\n	 \n\n\n	\n	 \n\n\n	\n	 \n\n\n	\n	 \n\n\n	I agree to the  terms of use and  privacy policy\n	 \n	\n	 \n×\n\n\n \nClose   ×Submit A Provider \n\n\n  \n\n\n\n\n	\n	 \n\n\n	Event CategoryHousingJobsEducationBenefitsProvider ResourceGeneral Resource\n	 \n\n\n	Start \n	 \n\n\n	End \n	 \n\n\n	\n	 \n\n\n	\n	 \n\n\n	\n	 \n\n\n	\n	 \n\n\n	\n	 \n\n\n	\n	 \n\n\n	I agree to the  terms of use and  privacy policy\n	 \n	\n	 \n×\n\n\n \nClose
URL:https://uplifme.com/event/english-for-parents/2026-08-03/
LOCATION:Renaissance Youth Center\, 3485 Third Avenue\, Bronx\, NY\, 10456\, United States
CATEGORIES:Education,General Resource,Parent/Caregiver Resources
ATTACH;FMTTYPE=image/png:https://uplifme.com/wp-content/uploads/2026/02/Screenshot-2026-02-14-at-6.41.08-PM.png
END:VEVENT
BEGIN:VEVENT
DTSTART;TZID=UTC:20260821T100000
DTEND;TZID=UTC:20260821T110000
DTSTAMP:20260420T094410
CREATED:20260218T010619Z
LAST-MODIFIED:20260218T010847Z
UID:10006559-1787306400-1787310000@uplifme.com
SUMMARY:Clinical Medical Assistant
DESCRIPTION:×Submit A Resource\n\n\n  \n\n\n\n\n	\n	 \n\n\n	Event CategoryHousingJobsEducationBenefitsProvider ResourceGeneral Resource\n	 \n\n\n	Start \n	 \n\n\n	End \n	 \n\n\n	PA – Delaware CountyPA – Montgomery CountyPA – Philadelphia County\n	 \n\n\n	\n	 \n\n\n	\n	 \n\n\n	\n	 \n\n\n	\n	 \n\n\n	\n	 \n\n\n	\n	 \n\n\n	I agree to the  terms of use and  privacy policy\n	 \n	\n	 \n×\n\n\n \nClose   ×Submit A Provider \n\n\n  \n\n\n\n\n	\n	 \n\n\n	Event CategoryHousingJobsEducationBenefitsProvider ResourceGeneral Resource\n	 \n\n\n	Start \n	 \n\n\n	End \n	 \n\n\n	\n	 \n\n\n	\n	 \n\n\n	\n	 \n\n\n	\n	 \n\n\n	\n	 \n\n\n	\n	 \n\n\n	I agree to the  terms of use and  privacy policy\n	 \n	\n	 \n×\n\n\n \nClose
URL:https://uplifme.com/event/clinical-medical-assistant/2026-08-21/
LOCATION:Bronx Works Workforce Development\, 550 E. 142nd Street\, Bronx\, NY\, 10454\, United States
CATEGORIES:Education,General Resource,Jobs
ATTACH;FMTTYPE=image/png:https://uplifme.com/wp-content/uploads/2026/02/Screenshot-2026-02-07-at-10.16.54-PM.png
END:VEVENT
BEGIN:VEVENT
DTSTART;VALUE=DATE:20260907
DTEND;VALUE=DATE:20260908
DTSTAMP:20260420T094410
CREATED:20260226T151532Z
LAST-MODIFIED:20260226T151555Z
UID:10007128-1788739200-1788825599@uplifme.com
SUMMARY:English for Parents
DESCRIPTION:×Submit A Resource\n\n\n  \n\n\n\n\n	\n	 \n\n\n	Event CategoryHousingJobsEducationBenefitsProvider ResourceGeneral Resource\n	 \n\n\n	Start \n	 \n\n\n	End \n	 \n\n\n	PA – Delaware CountyPA – Montgomery CountyPA – Philadelphia County\n	 \n\n\n	\n	 \n\n\n	\n	 \n\n\n	\n	 \n\n\n	\n	 \n\n\n	\n	 \n\n\n	\n	 \n\n\n	I agree to the  terms of use and  privacy policy\n	 \n	\n	 \n×\n\n\n \nClose   ×Submit A Provider \n\n\n  \n\n\n\n\n	\n	 \n\n\n	Event CategoryHousingJobsEducationBenefitsProvider ResourceGeneral Resource\n	 \n\n\n	Start \n	 \n\n\n	End \n	 \n\n\n	\n	 \n\n\n	\n	 \n\n\n	\n	 \n\n\n	\n	 \n\n\n	\n	 \n\n\n	\n	 \n\n\n	I agree to the  terms of use and  privacy policy\n	 \n	\n	 \n×\n\n\n \nClose
URL:https://uplifme.com/event/english-for-parents/2026-09-07/
LOCATION:Renaissance Youth Center\, 3485 Third Avenue\, Bronx\, NY\, 10456\, United States
CATEGORIES:Education,General Resource,Parent/Caregiver Resources
ATTACH;FMTTYPE=image/png:https://uplifme.com/wp-content/uploads/2026/02/Screenshot-2026-02-14-at-6.41.08-PM.png
END:VEVENT
BEGIN:VEVENT
DTSTART;TZID=UTC:20260918T100000
DTEND;TZID=UTC:20260918T110000
DTSTAMP:20260420T094410
CREATED:20260218T010619Z
LAST-MODIFIED:20260218T010847Z
UID:10006560-1789725600-1789729200@uplifme.com
SUMMARY:Clinical Medical Assistant
DESCRIPTION:×Submit A Resource\n\n\n  \n\n\n\n\n	\n	 \n\n\n	Event CategoryHousingJobsEducationBenefitsProvider ResourceGeneral Resource\n	 \n\n\n	Start \n	 \n\n\n	End \n	 \n\n\n	PA – Delaware CountyPA – Montgomery CountyPA – Philadelphia County\n	 \n\n\n	\n	 \n\n\n	\n	 \n\n\n	\n	 \n\n\n	\n	 \n\n\n	\n	 \n\n\n	\n	 \n\n\n	I agree to the  terms of use and  privacy policy\n	 \n	\n	 \n×\n\n\n \nClose   ×Submit A Provider \n\n\n  \n\n\n\n\n	\n	 \n\n\n	Event CategoryHousingJobsEducationBenefitsProvider ResourceGeneral Resource\n	 \n\n\n	Start \n	 \n\n\n	End \n	 \n\n\n	\n	 \n\n\n	\n	 \n\n\n	\n	 \n\n\n	\n	 \n\n\n	\n	 \n\n\n	\n	 \n\n\n	I agree to the  terms of use and  privacy policy\n	 \n	\n	 \n×\n\n\n \nClose
URL:https://uplifme.com/event/clinical-medical-assistant/2026-09-18/
LOCATION:Bronx Works Workforce Development\, 550 E. 142nd Street\, Bronx\, NY\, 10454\, United States
CATEGORIES:Education,General Resource,Jobs
ATTACH;FMTTYPE=image/png:https://uplifme.com/wp-content/uploads/2026/02/Screenshot-2026-02-07-at-10.16.54-PM.png
END:VEVENT
BEGIN:VEVENT
DTSTART;VALUE=DATE:20261005
DTEND;VALUE=DATE:20261006
DTSTAMP:20260420T094410
CREATED:20260226T151532Z
LAST-MODIFIED:20260226T151555Z
UID:10007129-1791158400-1791244799@uplifme.com
SUMMARY:English for Parents
DESCRIPTION:×Submit A Resource\n\n\n  \n\n\n\n\n	\n	 \n\n\n	Event CategoryHousingJobsEducationBenefitsProvider ResourceGeneral Resource\n	 \n\n\n	Start \n	 \n\n\n	End \n	 \n\n\n	PA – Delaware CountyPA – Montgomery CountyPA – Philadelphia County\n	 \n\n\n	\n	 \n\n\n	\n	 \n\n\n	\n	 \n\n\n	\n	 \n\n\n	\n	 \n\n\n	\n	 \n\n\n	I agree to the  terms of use and  privacy policy\n	 \n	\n	 \n×\n\n\n \nClose   ×Submit A Provider \n\n\n  \n\n\n\n\n	\n	 \n\n\n	Event CategoryHousingJobsEducationBenefitsProvider ResourceGeneral Resource\n	 \n\n\n	Start \n	 \n\n\n	End \n	 \n\n\n	\n	 \n\n\n	\n	 \n\n\n	\n	 \n\n\n	\n	 \n\n\n	\n	 \n\n\n	\n	 \n\n\n	I agree to the  terms of use and  privacy policy\n	 \n	\n	 \n×\n\n\n \nClose
URL:https://uplifme.com/event/english-for-parents/2026-10-05/
LOCATION:Renaissance Youth Center\, 3485 Third Avenue\, Bronx\, NY\, 10456\, United States
CATEGORIES:Education,General Resource,Parent/Caregiver Resources
ATTACH;FMTTYPE=image/png:https://uplifme.com/wp-content/uploads/2026/02/Screenshot-2026-02-14-at-6.41.08-PM.png
END:VEVENT
BEGIN:VEVENT
DTSTART;TZID=UTC:20261016T100000
DTEND;TZID=UTC:20261016T110000
DTSTAMP:20260420T094410
CREATED:20260218T010619Z
LAST-MODIFIED:20260218T010847Z
UID:10006561-1792144800-1792148400@uplifme.com
SUMMARY:Clinical Medical Assistant
DESCRIPTION:×Submit A Resource\n\n\n  \n\n\n\n\n	\n	 \n\n\n	Event CategoryHousingJobsEducationBenefitsProvider ResourceGeneral Resource\n	 \n\n\n	Start \n	 \n\n\n	End \n	 \n\n\n	PA – Delaware CountyPA – Montgomery CountyPA – Philadelphia County\n	 \n\n\n	\n	 \n\n\n	\n	 \n\n\n	\n	 \n\n\n	\n	 \n\n\n	\n	 \n\n\n	\n	 \n\n\n	I agree to the  terms of use and  privacy policy\n	 \n	\n	 \n×\n\n\n \nClose   ×Submit A Provider \n\n\n  \n\n\n\n\n	\n	 \n\n\n	Event CategoryHousingJobsEducationBenefitsProvider ResourceGeneral Resource\n	 \n\n\n	Start \n	 \n\n\n	End \n	 \n\n\n	\n	 \n\n\n	\n	 \n\n\n	\n	 \n\n\n	\n	 \n\n\n	\n	 \n\n\n	\n	 \n\n\n	I agree to the  terms of use and  privacy policy\n	 \n	\n	 \n×\n\n\n \nClose
URL:https://uplifme.com/event/clinical-medical-assistant/2026-10-16/
LOCATION:Bronx Works Workforce Development\, 550 E. 142nd Street\, Bronx\, NY\, 10454\, United States
CATEGORIES:Education,General Resource,Jobs
ATTACH;FMTTYPE=image/png:https://uplifme.com/wp-content/uploads/2026/02/Screenshot-2026-02-07-at-10.16.54-PM.png
END:VEVENT
BEGIN:VEVENT
DTSTART;VALUE=DATE:20261102
DTEND;VALUE=DATE:20261103
DTSTAMP:20260420T094410
CREATED:20260226T151532Z
LAST-MODIFIED:20260226T151555Z
UID:10007130-1793577600-1793663999@uplifme.com
SUMMARY:English for Parents
DESCRIPTION:×Submit A Resource\n\n\n  \n\n\n\n\n	\n	 \n\n\n	Event CategoryHousingJobsEducationBenefitsProvider ResourceGeneral Resource\n	 \n\n\n	Start \n	 \n\n\n	End \n	 \n\n\n	PA – Delaware CountyPA – Montgomery CountyPA – Philadelphia County\n	 \n\n\n	\n	 \n\n\n	\n	 \n\n\n	\n	 \n\n\n	\n	 \n\n\n	\n	 \n\n\n	\n	 \n\n\n	I agree to the  terms of use and  privacy policy\n	 \n	\n	 \n×\n\n\n \nClose   ×Submit A Provider \n\n\n  \n\n\n\n\n	\n	 \n\n\n	Event CategoryHousingJobsEducationBenefitsProvider ResourceGeneral Resource\n	 \n\n\n	Start \n	 \n\n\n	End \n	 \n\n\n	\n	 \n\n\n	\n	 \n\n\n	\n	 \n\n\n	\n	 \n\n\n	\n	 \n\n\n	\n	 \n\n\n	I agree to the  terms of use and  privacy policy\n	 \n	\n	 \n×\n\n\n \nClose
URL:https://uplifme.com/event/english-for-parents/2026-11-02/
LOCATION:Renaissance Youth Center\, 3485 Third Avenue\, Bronx\, NY\, 10456\, United States
CATEGORIES:Education,General Resource,Parent/Caregiver Resources
ATTACH;FMTTYPE=image/png:https://uplifme.com/wp-content/uploads/2026/02/Screenshot-2026-02-14-at-6.41.08-PM.png
END:VEVENT
BEGIN:VEVENT
DTSTART;TZID=UTC:20261120T100000
DTEND;TZID=UTC:20261120T110000
DTSTAMP:20260420T094410
CREATED:20260218T010619Z
LAST-MODIFIED:20260218T010847Z
UID:10006562-1795168800-1795172400@uplifme.com
SUMMARY:Clinical Medical Assistant
DESCRIPTION:×Submit A Resource\n\n\n  \n\n\n\n\n	\n	 \n\n\n	Event CategoryHousingJobsEducationBenefitsProvider ResourceGeneral Resource\n	 \n\n\n	Start \n	 \n\n\n	End \n	 \n\n\n	PA – Delaware CountyPA – Montgomery CountyPA – Philadelphia County\n	 \n\n\n	\n	 \n\n\n	\n	 \n\n\n	\n	 \n\n\n	\n	 \n\n\n	\n	 \n\n\n	\n	 \n\n\n	I agree to the  terms of use and  privacy policy\n	 \n	\n	 \n×\n\n\n \nClose   ×Submit A Provider \n\n\n  \n\n\n\n\n	\n	 \n\n\n	Event CategoryHousingJobsEducationBenefitsProvider ResourceGeneral Resource\n	 \n\n\n	Start \n	 \n\n\n	End \n	 \n\n\n	\n	 \n\n\n	\n	 \n\n\n	\n	 \n\n\n	\n	 \n\n\n	\n	 \n\n\n	\n	 \n\n\n	I agree to the  terms of use and  privacy policy\n	 \n	\n	 \n×\n\n\n \nClose
URL:https://uplifme.com/event/clinical-medical-assistant/2026-11-20/
LOCATION:Bronx Works Workforce Development\, 550 E. 142nd Street\, Bronx\, NY\, 10454\, United States
CATEGORIES:Education,General Resource,Jobs
ATTACH;FMTTYPE=image/png:https://uplifme.com/wp-content/uploads/2026/02/Screenshot-2026-02-07-at-10.16.54-PM.png
END:VEVENT
BEGIN:VEVENT
DTSTART;VALUE=DATE:20261207
DTEND;VALUE=DATE:20261208
DTSTAMP:20260420T094410
CREATED:20260226T151532Z
LAST-MODIFIED:20260226T151555Z
UID:10007131-1796601600-1796687999@uplifme.com
SUMMARY:English for Parents
DESCRIPTION:×Submit A Resource\n\n\n  \n\n\n\n\n	\n	 \n\n\n	Event CategoryHousingJobsEducationBenefitsProvider ResourceGeneral Resource\n	 \n\n\n	Start \n	 \n\n\n	End \n	 \n\n\n	PA – Delaware CountyPA – Montgomery CountyPA – Philadelphia County\n	 \n\n\n	\n	 \n\n\n	\n	 \n\n\n	\n	 \n\n\n	\n	 \n\n\n	\n	 \n\n\n	\n	 \n\n\n	I agree to the  terms of use and  privacy policy\n	 \n	\n	 \n×\n\n\n \nClose   ×Submit A Provider \n\n\n  \n\n\n\n\n	\n	 \n\n\n	Event CategoryHousingJobsEducationBenefitsProvider ResourceGeneral Resource\n	 \n\n\n	Start \n	 \n\n\n	End \n	 \n\n\n	\n	 \n\n\n	\n	 \n\n\n	\n	 \n\n\n	\n	 \n\n\n	\n	 \n\n\n	\n	 \n\n\n	I agree to the  terms of use and  privacy policy\n	 \n	\n	 \n×\n\n\n \nClose
URL:https://uplifme.com/event/english-for-parents/2026-12-07/
LOCATION:Renaissance Youth Center\, 3485 Third Avenue\, Bronx\, NY\, 10456\, United States
CATEGORIES:Education,General Resource,Parent/Caregiver Resources
ATTACH;FMTTYPE=image/png:https://uplifme.com/wp-content/uploads/2026/02/Screenshot-2026-02-14-at-6.41.08-PM.png
END:VEVENT
BEGIN:VEVENT
DTSTART;TZID=UTC:20261218T100000
DTEND;TZID=UTC:20261218T110000
DTSTAMP:20260420T094410
CREATED:20260218T010619Z
LAST-MODIFIED:20260218T010847Z
UID:10006563-1797588000-1797591600@uplifme.com
SUMMARY:Clinical Medical Assistant
DESCRIPTION:×Submit A Resource\n\n\n  \n\n\n\n\n	\n	 \n\n\n	Event CategoryHousingJobsEducationBenefitsProvider ResourceGeneral Resource\n	 \n\n\n	Start \n	 \n\n\n	End \n	 \n\n\n	PA – Delaware CountyPA – Montgomery CountyPA – Philadelphia County\n	 \n\n\n	\n	 \n\n\n	\n	 \n\n\n	\n	 \n\n\n	\n	 \n\n\n	\n	 \n\n\n	\n	 \n\n\n	I agree to the  terms of use and  privacy policy\n	 \n	\n	 \n×\n\n\n \nClose   ×Submit A Provider \n\n\n  \n\n\n\n\n	\n	 \n\n\n	Event CategoryHousingJobsEducationBenefitsProvider ResourceGeneral Resource\n	 \n\n\n	Start \n	 \n\n\n	End \n	 \n\n\n	\n	 \n\n\n	\n	 \n\n\n	\n	 \n\n\n	\n	 \n\n\n	\n	 \n\n\n	\n	 \n\n\n	I agree to the  terms of use and  privacy policy\n	 \n	\n	 \n×\n\n\n \nClose
URL:https://uplifme.com/event/clinical-medical-assistant/2026-12-18/
LOCATION:Bronx Works Workforce Development\, 550 E. 142nd Street\, Bronx\, NY\, 10454\, United States
CATEGORIES:Education,General Resource,Jobs
ATTACH;FMTTYPE=image/png:https://uplifme.com/wp-content/uploads/2026/02/Screenshot-2026-02-07-at-10.16.54-PM.png
END:VEVENT
BEGIN:VEVENT
DTSTART;VALUE=DATE:20270104
DTEND;VALUE=DATE:20270105
DTSTAMP:20260420T094410
CREATED:20260226T151532Z
LAST-MODIFIED:20260226T151555Z
UID:10007132-1799020800-1799107199@uplifme.com
SUMMARY:English for Parents
DESCRIPTION:×Submit A Resource\n\n\n  \n\n\n\n\n	\n	 \n\n\n	Event CategoryHousingJobsEducationBenefitsProvider ResourceGeneral Resource\n	 \n\n\n	Start \n	 \n\n\n	End \n	 \n\n\n	PA – Delaware CountyPA – Montgomery CountyPA – Philadelphia County\n	 \n\n\n	\n	 \n\n\n	\n	 \n\n\n	\n	 \n\n\n	\n	 \n\n\n	\n	 \n\n\n	\n	 \n\n\n	I agree to the  terms of use and  privacy policy\n	 \n	\n	 \n×\n\n\n \nClose   ×Submit A Provider \n\n\n  \n\n\n\n\n	\n	 \n\n\n	Event CategoryHousingJobsEducationBenefitsProvider ResourceGeneral Resource\n	 \n\n\n	Start \n	 \n\n\n	End \n	 \n\n\n	\n	 \n\n\n	\n	 \n\n\n	\n	 \n\n\n	\n	 \n\n\n	\n	 \n\n\n	\n	 \n\n\n	I agree to the  terms of use and  privacy policy\n	 \n	\n	 \n×\n\n\n \nClose
URL:https://uplifme.com/event/english-for-parents/2027-01-04/
LOCATION:Renaissance Youth Center\, 3485 Third Avenue\, Bronx\, NY\, 10456\, United States
CATEGORIES:Education,General Resource,Parent/Caregiver Resources
ATTACH;FMTTYPE=image/png:https://uplifme.com/wp-content/uploads/2026/02/Screenshot-2026-02-14-at-6.41.08-PM.png
END:VEVENT
BEGIN:VEVENT
DTSTART;TZID=UTC:20270115T100000
DTEND;TZID=UTC:20270115T110000
DTSTAMP:20260420T094410
CREATED:20260218T010619Z
LAST-MODIFIED:20260218T010847Z
UID:10006564-1800007200-1800010800@uplifme.com
SUMMARY:Clinical Medical Assistant
DESCRIPTION:×Submit A Resource\n\n\n  \n\n\n\n\n	\n	 \n\n\n	Event CategoryHousingJobsEducationBenefitsProvider ResourceGeneral Resource\n	 \n\n\n	Start \n	 \n\n\n	End \n	 \n\n\n	PA – Delaware CountyPA – Montgomery CountyPA – Philadelphia County\n	 \n\n\n	\n	 \n\n\n	\n	 \n\n\n	\n	 \n\n\n	\n	 \n\n\n	\n	 \n\n\n	\n	 \n\n\n	I agree to the  terms of use and  privacy policy\n	 \n	\n	 \n×\n\n\n \nClose   ×Submit A Provider \n\n\n  \n\n\n\n\n	\n	 \n\n\n	Event CategoryHousingJobsEducationBenefitsProvider ResourceGeneral Resource\n	 \n\n\n	Start \n	 \n\n\n	End \n	 \n\n\n	\n	 \n\n\n	\n	 \n\n\n	\n	 \n\n\n	\n	 \n\n\n	\n	 \n\n\n	\n	 \n\n\n	I agree to the  terms of use and  privacy policy\n	 \n	\n	 \n×\n\n\n \nClose
URL:https://uplifme.com/event/clinical-medical-assistant/2027-01-15/
LOCATION:Bronx Works Workforce Development\, 550 E. 142nd Street\, Bronx\, NY\, 10454\, United States
CATEGORIES:Education,General Resource,Jobs
ATTACH;FMTTYPE=image/png:https://uplifme.com/wp-content/uploads/2026/02/Screenshot-2026-02-07-at-10.16.54-PM.png
END:VEVENT
BEGIN:VEVENT
DTSTART;VALUE=DATE:20270201
DTEND;VALUE=DATE:20270202
DTSTAMP:20260420T094410
CREATED:20260226T151532Z
LAST-MODIFIED:20260226T151555Z
UID:10007133-1801440000-1801526399@uplifme.com
SUMMARY:English for Parents
DESCRIPTION:×Submit A Resource\n\n\n  \n\n\n\n\n	\n	 \n\n\n	Event CategoryHousingJobsEducationBenefitsProvider ResourceGeneral Resource\n	 \n\n\n	Start \n	 \n\n\n	End \n	 \n\n\n	PA – Delaware CountyPA – Montgomery CountyPA – Philadelphia County\n	 \n\n\n	\n	 \n\n\n	\n	 \n\n\n	\n	 \n\n\n	\n	 \n\n\n	\n	 \n\n\n	\n	 \n\n\n	I agree to the  terms of use and  privacy policy\n	 \n	\n	 \n×\n\n\n \nClose   ×Submit A Provider \n\n\n  \n\n\n\n\n	\n	 \n\n\n	Event CategoryHousingJobsEducationBenefitsProvider ResourceGeneral Resource\n	 \n\n\n	Start \n	 \n\n\n	End \n	 \n\n\n	\n	 \n\n\n	\n	 \n\n\n	\n	 \n\n\n	\n	 \n\n\n	\n	 \n\n\n	\n	 \n\n\n	I agree to the  terms of use and  privacy policy\n	 \n	\n	 \n×\n\n\n \nClose
URL:https://uplifme.com/event/english-for-parents/2027-02-01/
LOCATION:Renaissance Youth Center\, 3485 Third Avenue\, Bronx\, NY\, 10456\, United States
CATEGORIES:Education,General Resource,Parent/Caregiver Resources
ATTACH;FMTTYPE=image/png:https://uplifme.com/wp-content/uploads/2026/02/Screenshot-2026-02-14-at-6.41.08-PM.png
END:VEVENT
BEGIN:VEVENT
DTSTART;TZID=UTC:20270219T100000
DTEND;TZID=UTC:20270219T110000
DTSTAMP:20260420T094410
CREATED:20260218T010619Z
LAST-MODIFIED:20260218T010847Z
UID:10006565-1803031200-1803034800@uplifme.com
SUMMARY:Clinical Medical Assistant
DESCRIPTION:×Submit A Resource\n\n\n  \n\n\n\n\n	\n	 \n\n\n	Event CategoryHousingJobsEducationBenefitsProvider ResourceGeneral Resource\n	 \n\n\n	Start \n	 \n\n\n	End \n	 \n\n\n	PA – Delaware CountyPA – Montgomery CountyPA – Philadelphia County\n	 \n\n\n	\n	 \n\n\n	\n	 \n\n\n	\n	 \n\n\n	\n	 \n\n\n	\n	 \n\n\n	\n	 \n\n\n	I agree to the  terms of use and  privacy policy\n	 \n	\n	 \n×\n\n\n \nClose   ×Submit A Provider \n\n\n  \n\n\n\n\n	\n	 \n\n\n	Event CategoryHousingJobsEducationBenefitsProvider ResourceGeneral Resource\n	 \n\n\n	Start \n	 \n\n\n	End \n	 \n\n\n	\n	 \n\n\n	\n	 \n\n\n	\n	 \n\n\n	\n	 \n\n\n	\n	 \n\n\n	\n	 \n\n\n	I agree to the  terms of use and  privacy policy\n	 \n	\n	 \n×\n\n\n \nClose
URL:https://uplifme.com/event/clinical-medical-assistant/2027-02-19/
LOCATION:Bronx Works Workforce Development\, 550 E. 142nd Street\, Bronx\, NY\, 10454\, United States
CATEGORIES:Education,General Resource,Jobs
ATTACH;FMTTYPE=image/png:https://uplifme.com/wp-content/uploads/2026/02/Screenshot-2026-02-07-at-10.16.54-PM.png
END:VEVENT
BEGIN:VEVENT
DTSTART;VALUE=DATE:20270301
DTEND;VALUE=DATE:20270302
DTSTAMP:20260420T094410
CREATED:20260226T151532Z
LAST-MODIFIED:20260226T151555Z
UID:10007134-1803859200-1803945599@uplifme.com
SUMMARY:English for Parents
DESCRIPTION:×Submit A Resource\n\n\n  \n\n\n\n\n	\n	 \n\n\n	Event CategoryHousingJobsEducationBenefitsProvider ResourceGeneral Resource\n	 \n\n\n	Start \n	 \n\n\n	End \n	 \n\n\n	PA – Delaware CountyPA – Montgomery CountyPA – Philadelphia County\n	 \n\n\n	\n	 \n\n\n	\n	 \n\n\n	\n	 \n\n\n	\n	 \n\n\n	\n	 \n\n\n	\n	 \n\n\n	I agree to the  terms of use and  privacy policy\n	 \n	\n	 \n×\n\n\n \nClose   ×Submit A Provider \n\n\n  \n\n\n\n\n	\n	 \n\n\n	Event CategoryHousingJobsEducationBenefitsProvider ResourceGeneral Resource\n	 \n\n\n	Start \n	 \n\n\n	End \n	 \n\n\n	\n	 \n\n\n	\n	 \n\n\n	\n	 \n\n\n	\n	 \n\n\n	\n	 \n\n\n	\n	 \n\n\n	I agree to the  terms of use and  privacy policy\n	 \n	\n	 \n×\n\n\n \nClose
URL:https://uplifme.com/event/english-for-parents/2027-03-01/
LOCATION:Renaissance Youth Center\, 3485 Third Avenue\, Bronx\, NY\, 10456\, United States
CATEGORIES:Education,General Resource,Parent/Caregiver Resources
ATTACH;FMTTYPE=image/png:https://uplifme.com/wp-content/uploads/2026/02/Screenshot-2026-02-14-at-6.41.08-PM.png
END:VEVENT
END:VCALENDAR