BEGIN:VCALENDAR
VERSION:2.0
PRODID:-//Uplifme - ECPv6.15.20//NONSGML v1.0//EN
CALSCALE:GREGORIAN
METHOD:PUBLISH
X-WR-CALNAME:Uplifme
X-ORIGINAL-URL:https://uplifme.com
X-WR-CALDESC:Events for Uplifme
REFRESH-INTERVAL;VALUE=DURATION:PT1H
X-Robots-Tag:noindex
X-PUBLISHED-TTL:PT1H
BEGIN:VTIMEZONE
TZID:UTC
BEGIN:STANDARD
TZOFFSETFROM:+0000
TZOFFSETTO:+0000
TZNAME:UTC
DTSTART:20250101T000000
END:STANDARD
END:VTIMEZONE
BEGIN:VEVENT
DTSTART;TZID=UTC:20260420T090000
DTEND;TZID=UTC:20260420T120000
DTSTAMP:20260420T111038
CREATED:20251113T170306Z
LAST-MODIFIED:20251113T170421Z
UID:10002493-1776675600-1776686400@uplifme.com
SUMMARY:New Life Food Pantry
DESCRIPTION:×Submit A Resource\n\n\n  \n\n\n\n\n	\n	 \n\n\n	Event CategoryHousingJobsEducationBenefitsProvider ResourceGeneral Resource\n	 \n\n\n	Start \n	 \n\n\n	End \n	 \n\n\n	PA – Delaware CountyPA – Montgomery CountyPA – Philadelphia County\n	 \n\n\n	\n	 \n\n\n	\n	 \n\n\n	\n	 \n\n\n	\n	 \n\n\n	\n	 \n\n\n	\n	 \n\n\n	I agree to the  terms of use and  privacy policy\n	 \n	\n	 \n×\n\n\n \nClose   ×Submit A Provider \n\n\n  \n\n\n\n\n	\n	 \n\n\n	Event CategoryHousingJobsEducationBenefitsProvider ResourceGeneral Resource\n	 \n\n\n	Start \n	 \n\n\n	End \n	 \n\n\n	\n	 \n\n\n	\n	 \n\n\n	\n	 \n\n\n	\n	 \n\n\n	\n	 \n\n\n	\n	 \n\n\n	I agree to the  terms of use and  privacy policy\n	 \n	\n	 \n×\n\n\n \nClose
URL:https://uplifme.com/event/new-life-food-pantry/2026-04-20/
LOCATION:2401 East North Avenue\, Baltimore\, MD\, 21213\, United States
CATEGORIES:Food,General Resource
ATTACH;FMTTYPE=image/png:https://uplifme.com/wp-content/uploads/2025/11/Screenshot-2025-11-09-at-10.49.14-PM.jpeg.png
END:VEVENT
BEGIN:VEVENT
DTSTART;TZID=UTC:20260518T090000
DTEND;TZID=UTC:20260518T120000
DTSTAMP:20260420T111038
CREATED:20251113T170306Z
LAST-MODIFIED:20251113T170421Z
UID:10002494-1779094800-1779105600@uplifme.com
SUMMARY:New Life Food Pantry
DESCRIPTION:×Submit A Resource\n\n\n  \n\n\n\n\n	\n	 \n\n\n	Event CategoryHousingJobsEducationBenefitsProvider ResourceGeneral Resource\n	 \n\n\n	Start \n	 \n\n\n	End \n	 \n\n\n	PA – Delaware CountyPA – Montgomery CountyPA – Philadelphia County\n	 \n\n\n	\n	 \n\n\n	\n	 \n\n\n	\n	 \n\n\n	\n	 \n\n\n	\n	 \n\n\n	\n	 \n\n\n	I agree to the  terms of use and  privacy policy\n	 \n	\n	 \n×\n\n\n \nClose   ×Submit A Provider \n\n\n  \n\n\n\n\n	\n	 \n\n\n	Event CategoryHousingJobsEducationBenefitsProvider ResourceGeneral Resource\n	 \n\n\n	Start \n	 \n\n\n	End \n	 \n\n\n	\n	 \n\n\n	\n	 \n\n\n	\n	 \n\n\n	\n	 \n\n\n	\n	 \n\n\n	\n	 \n\n\n	I agree to the  terms of use and  privacy policy\n	 \n	\n	 \n×\n\n\n \nClose
URL:https://uplifme.com/event/new-life-food-pantry/2026-05-18/
LOCATION:2401 East North Avenue\, Baltimore\, MD\, 21213\, United States
CATEGORIES:Food,General Resource
ATTACH;FMTTYPE=image/png:https://uplifme.com/wp-content/uploads/2025/11/Screenshot-2025-11-09-at-10.49.14-PM.jpeg.png
END:VEVENT
BEGIN:VEVENT
DTSTART;TZID=UTC:20260615T090000
DTEND;TZID=UTC:20260615T120000
DTSTAMP:20260420T111038
CREATED:20251113T170306Z
LAST-MODIFIED:20251113T170421Z
UID:10002495-1781514000-1781524800@uplifme.com
SUMMARY:New Life Food Pantry
DESCRIPTION:×Submit A Resource\n\n\n  \n\n\n\n\n	\n	 \n\n\n	Event CategoryHousingJobsEducationBenefitsProvider ResourceGeneral Resource\n	 \n\n\n	Start \n	 \n\n\n	End \n	 \n\n\n	PA – Delaware CountyPA – Montgomery CountyPA – Philadelphia County\n	 \n\n\n	\n	 \n\n\n	\n	 \n\n\n	\n	 \n\n\n	\n	 \n\n\n	\n	 \n\n\n	\n	 \n\n\n	I agree to the  terms of use and  privacy policy\n	 \n	\n	 \n×\n\n\n \nClose   ×Submit A Provider \n\n\n  \n\n\n\n\n	\n	 \n\n\n	Event CategoryHousingJobsEducationBenefitsProvider ResourceGeneral Resource\n	 \n\n\n	Start \n	 \n\n\n	End \n	 \n\n\n	\n	 \n\n\n	\n	 \n\n\n	\n	 \n\n\n	\n	 \n\n\n	\n	 \n\n\n	\n	 \n\n\n	I agree to the  terms of use and  privacy policy\n	 \n	\n	 \n×\n\n\n \nClose
URL:https://uplifme.com/event/new-life-food-pantry/2026-06-15/
LOCATION:2401 East North Avenue\, Baltimore\, MD\, 21213\, United States
CATEGORIES:Food,General Resource
ATTACH;FMTTYPE=image/png:https://uplifme.com/wp-content/uploads/2025/11/Screenshot-2025-11-09-at-10.49.14-PM.jpeg.png
END:VEVENT
BEGIN:VEVENT
DTSTART;TZID=UTC:20260720T090000
DTEND;TZID=UTC:20260720T120000
DTSTAMP:20260420T111038
CREATED:20251113T170306Z
LAST-MODIFIED:20251113T170421Z
UID:10002496-1784538000-1784548800@uplifme.com
SUMMARY:New Life Food Pantry
DESCRIPTION:×Submit A Resource\n\n\n  \n\n\n\n\n	\n	 \n\n\n	Event CategoryHousingJobsEducationBenefitsProvider ResourceGeneral Resource\n	 \n\n\n	Start \n	 \n\n\n	End \n	 \n\n\n	PA – Delaware CountyPA – Montgomery CountyPA – Philadelphia County\n	 \n\n\n	\n	 \n\n\n	\n	 \n\n\n	\n	 \n\n\n	\n	 \n\n\n	\n	 \n\n\n	\n	 \n\n\n	I agree to the  terms of use and  privacy policy\n	 \n	\n	 \n×\n\n\n \nClose   ×Submit A Provider \n\n\n  \n\n\n\n\n	\n	 \n\n\n	Event CategoryHousingJobsEducationBenefitsProvider ResourceGeneral Resource\n	 \n\n\n	Start \n	 \n\n\n	End \n	 \n\n\n	\n	 \n\n\n	\n	 \n\n\n	\n	 \n\n\n	\n	 \n\n\n	\n	 \n\n\n	\n	 \n\n\n	I agree to the  terms of use and  privacy policy\n	 \n	\n	 \n×\n\n\n \nClose
URL:https://uplifme.com/event/new-life-food-pantry/2026-07-20/
LOCATION:2401 East North Avenue\, Baltimore\, MD\, 21213\, United States
CATEGORIES:Food,General Resource
ATTACH;FMTTYPE=image/png:https://uplifme.com/wp-content/uploads/2025/11/Screenshot-2025-11-09-at-10.49.14-PM.jpeg.png
END:VEVENT
BEGIN:VEVENT
DTSTART;TZID=UTC:20260817T090000
DTEND;TZID=UTC:20260817T120000
DTSTAMP:20260420T111038
CREATED:20251113T170306Z
LAST-MODIFIED:20251113T170421Z
UID:10002497-1786957200-1786968000@uplifme.com
SUMMARY:New Life Food Pantry
DESCRIPTION:×Submit A Resource\n\n\n  \n\n\n\n\n	\n	 \n\n\n	Event CategoryHousingJobsEducationBenefitsProvider ResourceGeneral Resource\n	 \n\n\n	Start \n	 \n\n\n	End \n	 \n\n\n	PA – Delaware CountyPA – Montgomery CountyPA – Philadelphia County\n	 \n\n\n	\n	 \n\n\n	\n	 \n\n\n	\n	 \n\n\n	\n	 \n\n\n	\n	 \n\n\n	\n	 \n\n\n	I agree to the  terms of use and  privacy policy\n	 \n	\n	 \n×\n\n\n \nClose   ×Submit A Provider \n\n\n  \n\n\n\n\n	\n	 \n\n\n	Event CategoryHousingJobsEducationBenefitsProvider ResourceGeneral Resource\n	 \n\n\n	Start \n	 \n\n\n	End \n	 \n\n\n	\n	 \n\n\n	\n	 \n\n\n	\n	 \n\n\n	\n	 \n\n\n	\n	 \n\n\n	\n	 \n\n\n	I agree to the  terms of use and  privacy policy\n	 \n	\n	 \n×\n\n\n \nClose
URL:https://uplifme.com/event/new-life-food-pantry/2026-08-17/
LOCATION:2401 East North Avenue\, Baltimore\, MD\, 21213\, United States
CATEGORIES:Food,General Resource
ATTACH;FMTTYPE=image/png:https://uplifme.com/wp-content/uploads/2025/11/Screenshot-2025-11-09-at-10.49.14-PM.jpeg.png
END:VEVENT
BEGIN:VEVENT
DTSTART;TZID=UTC:20260921T090000
DTEND;TZID=UTC:20260921T120000
DTSTAMP:20260420T111038
CREATED:20251113T170306Z
LAST-MODIFIED:20251113T170421Z
UID:10002498-1789981200-1789992000@uplifme.com
SUMMARY:New Life Food Pantry
DESCRIPTION:×Submit A Resource\n\n\n  \n\n\n\n\n	\n	 \n\n\n	Event CategoryHousingJobsEducationBenefitsProvider ResourceGeneral Resource\n	 \n\n\n	Start \n	 \n\n\n	End \n	 \n\n\n	PA – Delaware CountyPA – Montgomery CountyPA – Philadelphia County\n	 \n\n\n	\n	 \n\n\n	\n	 \n\n\n	\n	 \n\n\n	\n	 \n\n\n	\n	 \n\n\n	\n	 \n\n\n	I agree to the  terms of use and  privacy policy\n	 \n	\n	 \n×\n\n\n \nClose   ×Submit A Provider \n\n\n  \n\n\n\n\n	\n	 \n\n\n	Event CategoryHousingJobsEducationBenefitsProvider ResourceGeneral Resource\n	 \n\n\n	Start \n	 \n\n\n	End \n	 \n\n\n	\n	 \n\n\n	\n	 \n\n\n	\n	 \n\n\n	\n	 \n\n\n	\n	 \n\n\n	\n	 \n\n\n	I agree to the  terms of use and  privacy policy\n	 \n	\n	 \n×\n\n\n \nClose
URL:https://uplifme.com/event/new-life-food-pantry/2026-09-21/
LOCATION:2401 East North Avenue\, Baltimore\, MD\, 21213\, United States
CATEGORIES:Food,General Resource
ATTACH;FMTTYPE=image/png:https://uplifme.com/wp-content/uploads/2025/11/Screenshot-2025-11-09-at-10.49.14-PM.jpeg.png
END:VEVENT
BEGIN:VEVENT
DTSTART;TZID=UTC:20261019T090000
DTEND;TZID=UTC:20261019T120000
DTSTAMP:20260420T111038
CREATED:20251113T170306Z
LAST-MODIFIED:20251113T170421Z
UID:10002499-1792400400-1792411200@uplifme.com
SUMMARY:New Life Food Pantry
DESCRIPTION:×Submit A Resource\n\n\n  \n\n\n\n\n	\n	 \n\n\n	Event CategoryHousingJobsEducationBenefitsProvider ResourceGeneral Resource\n	 \n\n\n	Start \n	 \n\n\n	End \n	 \n\n\n	PA – Delaware CountyPA – Montgomery CountyPA – Philadelphia County\n	 \n\n\n	\n	 \n\n\n	\n	 \n\n\n	\n	 \n\n\n	\n	 \n\n\n	\n	 \n\n\n	\n	 \n\n\n	I agree to the  terms of use and  privacy policy\n	 \n	\n	 \n×\n\n\n \nClose   ×Submit A Provider \n\n\n  \n\n\n\n\n	\n	 \n\n\n	Event CategoryHousingJobsEducationBenefitsProvider ResourceGeneral Resource\n	 \n\n\n	Start \n	 \n\n\n	End \n	 \n\n\n	\n	 \n\n\n	\n	 \n\n\n	\n	 \n\n\n	\n	 \n\n\n	\n	 \n\n\n	\n	 \n\n\n	I agree to the  terms of use and  privacy policy\n	 \n	\n	 \n×\n\n\n \nClose
URL:https://uplifme.com/event/new-life-food-pantry/2026-10-19/
LOCATION:2401 East North Avenue\, Baltimore\, MD\, 21213\, United States
CATEGORIES:Food,General Resource
ATTACH;FMTTYPE=image/png:https://uplifme.com/wp-content/uploads/2025/11/Screenshot-2025-11-09-at-10.49.14-PM.jpeg.png
END:VEVENT
BEGIN:VEVENT
DTSTART;TZID=UTC:20261116T090000
DTEND;TZID=UTC:20261116T120000
DTSTAMP:20260420T111039
CREATED:20251113T170306Z
LAST-MODIFIED:20251113T170421Z
UID:10002500-1794819600-1794830400@uplifme.com
SUMMARY:New Life Food Pantry
DESCRIPTION:×Submit A Resource\n\n\n  \n\n\n\n\n	\n	 \n\n\n	Event CategoryHousingJobsEducationBenefitsProvider ResourceGeneral Resource\n	 \n\n\n	Start \n	 \n\n\n	End \n	 \n\n\n	PA – Delaware CountyPA – Montgomery CountyPA – Philadelphia County\n	 \n\n\n	\n	 \n\n\n	\n	 \n\n\n	\n	 \n\n\n	\n	 \n\n\n	\n	 \n\n\n	\n	 \n\n\n	I agree to the  terms of use and  privacy policy\n	 \n	\n	 \n×\n\n\n \nClose   ×Submit A Provider \n\n\n  \n\n\n\n\n	\n	 \n\n\n	Event CategoryHousingJobsEducationBenefitsProvider ResourceGeneral Resource\n	 \n\n\n	Start \n	 \n\n\n	End \n	 \n\n\n	\n	 \n\n\n	\n	 \n\n\n	\n	 \n\n\n	\n	 \n\n\n	\n	 \n\n\n	\n	 \n\n\n	I agree to the  terms of use and  privacy policy\n	 \n	\n	 \n×\n\n\n \nClose
URL:https://uplifme.com/event/new-life-food-pantry/2026-11-16/
LOCATION:2401 East North Avenue\, Baltimore\, MD\, 21213\, United States
CATEGORIES:Food,General Resource
ATTACH;FMTTYPE=image/png:https://uplifme.com/wp-content/uploads/2025/11/Screenshot-2025-11-09-at-10.49.14-PM.jpeg.png
END:VEVENT
END:VCALENDAR