BEGIN:VCALENDAR
VERSION:2.0
PRODID:-//Uplifme - ECPv6.15.20//NONSGML v1.0//EN
CALSCALE:GREGORIAN
METHOD:PUBLISH
X-WR-CALNAME:Uplifme
X-ORIGINAL-URL:https://uplifme.com
X-WR-CALDESC:Events for Uplifme
REFRESH-INTERVAL;VALUE=DURATION:PT1H
X-Robots-Tag:noindex
X-PUBLISHED-TTL:PT1H
BEGIN:VTIMEZONE
TZID:UTC
BEGIN:STANDARD
TZOFFSETFROM:+0000
TZOFFSETTO:+0000
TZNAME:UTC
DTSTART:20240101T000000
END:STANDARD
END:VTIMEZONE
BEGIN:VEVENT
DTSTART;TZID=UTC:20260420T100000
DTEND;TZID=UTC:20260420T150000
DTSTAMP:20260422T025405
CREATED:20251113T134207Z
LAST-MODIFIED:20251113T134221Z
UID:10002458-1776679200-1776697200@uplifme.com
SUMMARY:Food Assistance Resources in Essex County
DESCRIPTION:×Submit A Resource\n\n\n  \n\n\n\n\n	\n	 \n\n\n	Event CategoryHousingJobsEducationBenefitsProvider ResourceGeneral Resource\n	 \n\n\n	Start \n	 \n\n\n	End \n	 \n\n\n	PA – Delaware CountyPA – Montgomery CountyPA – Philadelphia County\n	 \n\n\n	\n	 \n\n\n	\n	 \n\n\n	\n	 \n\n\n	\n	 \n\n\n	\n	 \n\n\n	\n	 \n\n\n	I agree to the  terms of use and  privacy policy\n	 \n	\n	 \n×\n\n\n \nClose   ×Submit A Provider \n\n\n  \n\n\n\n\n	\n	 \n\n\n	Event CategoryHousingJobsEducationBenefitsProvider ResourceGeneral Resource\n	 \n\n\n	Start \n	 \n\n\n	End \n	 \n\n\n	\n	 \n\n\n	\n	 \n\n\n	\n	 \n\n\n	\n	 \n\n\n	\n	 \n\n\n	\n	 \n\n\n	I agree to the  terms of use and  privacy policy\n	 \n	\n	 \n×\n\n\n \nClose
URL:https://uplifme.com/event/food-assistance-resources-in-essex-county/2026-04-20/
LOCATION:Apostles’ House Food Pantry\, 22 Grant Street\, Newark\, NJ\, 07104\, United States
CATEGORIES:Food,General Resource
ATTACH;FMTTYPE=image/png:https://uplifme.com/wp-content/uploads/2025/11/Screenshot-2025-11-12-at-6.45.08-AM.jpeg.png
END:VEVENT
BEGIN:VEVENT
DTSTART;TZID=UTC:20260316T100000
DTEND;TZID=UTC:20260316T150000
DTSTAMP:20260422T025405
CREATED:20251113T134207Z
LAST-MODIFIED:20251113T134221Z
UID:10002457-1773655200-1773673200@uplifme.com
SUMMARY:Food Assistance Resources in Essex County
DESCRIPTION:×Submit A Resource\n\n\n  \n\n\n\n\n	\n	 \n\n\n	Event CategoryHousingJobsEducationBenefitsProvider ResourceGeneral Resource\n	 \n\n\n	Start \n	 \n\n\n	End \n	 \n\n\n	PA – Delaware CountyPA – Montgomery CountyPA – Philadelphia County\n	 \n\n\n	\n	 \n\n\n	\n	 \n\n\n	\n	 \n\n\n	\n	 \n\n\n	\n	 \n\n\n	\n	 \n\n\n	I agree to the  terms of use and  privacy policy\n	 \n	\n	 \n×\n\n\n \nClose   ×Submit A Provider \n\n\n  \n\n\n\n\n	\n	 \n\n\n	Event CategoryHousingJobsEducationBenefitsProvider ResourceGeneral Resource\n	 \n\n\n	Start \n	 \n\n\n	End \n	 \n\n\n	\n	 \n\n\n	\n	 \n\n\n	\n	 \n\n\n	\n	 \n\n\n	\n	 \n\n\n	\n	 \n\n\n	I agree to the  terms of use and  privacy policy\n	 \n	\n	 \n×\n\n\n \nClose
URL:https://uplifme.com/event/food-assistance-resources-in-essex-county/2026-03-16/
LOCATION:Apostles’ House Food Pantry\, 22 Grant Street\, Newark\, NJ\, 07104\, United States
CATEGORIES:Food,General Resource
ATTACH;FMTTYPE=image/png:https://uplifme.com/wp-content/uploads/2025/11/Screenshot-2025-11-12-at-6.45.08-AM.jpeg.png
END:VEVENT
BEGIN:VEVENT
DTSTART;TZID=UTC:20260216T100000
DTEND;TZID=UTC:20260216T150000
DTSTAMP:20260422T025405
CREATED:20251113T134207Z
LAST-MODIFIED:20251113T134221Z
UID:10002456-1771236000-1771254000@uplifme.com
SUMMARY:Food Assistance Resources in Essex County
DESCRIPTION:×Submit A Resource\n\n\n  \n\n\n\n\n	\n	 \n\n\n	Event CategoryHousingJobsEducationBenefitsProvider ResourceGeneral Resource\n	 \n\n\n	Start \n	 \n\n\n	End \n	 \n\n\n	PA – Delaware CountyPA – Montgomery CountyPA – Philadelphia County\n	 \n\n\n	\n	 \n\n\n	\n	 \n\n\n	\n	 \n\n\n	\n	 \n\n\n	\n	 \n\n\n	\n	 \n\n\n	I agree to the  terms of use and  privacy policy\n	 \n	\n	 \n×\n\n\n \nClose   ×Submit A Provider \n\n\n  \n\n\n\n\n	\n	 \n\n\n	Event CategoryHousingJobsEducationBenefitsProvider ResourceGeneral Resource\n	 \n\n\n	Start \n	 \n\n\n	End \n	 \n\n\n	\n	 \n\n\n	\n	 \n\n\n	\n	 \n\n\n	\n	 \n\n\n	\n	 \n\n\n	\n	 \n\n\n	I agree to the  terms of use and  privacy policy\n	 \n	\n	 \n×\n\n\n \nClose
URL:https://uplifme.com/event/food-assistance-resources-in-essex-county/2026-02-16/
LOCATION:Apostles’ House Food Pantry\, 22 Grant Street\, Newark\, NJ\, 07104\, United States
CATEGORIES:Food,General Resource
ATTACH;FMTTYPE=image/png:https://uplifme.com/wp-content/uploads/2025/11/Screenshot-2025-11-12-at-6.45.08-AM.jpeg.png
END:VEVENT
BEGIN:VEVENT
DTSTART;TZID=UTC:20260119T100000
DTEND;TZID=UTC:20260119T150000
DTSTAMP:20260422T025405
CREATED:20251113T134207Z
LAST-MODIFIED:20251113T134221Z
UID:10002455-1768816800-1768834800@uplifme.com
SUMMARY:Food Assistance Resources in Essex County
DESCRIPTION:×Submit A Resource\n\n\n  \n\n\n\n\n	\n	 \n\n\n	Event CategoryHousingJobsEducationBenefitsProvider ResourceGeneral Resource\n	 \n\n\n	Start \n	 \n\n\n	End \n	 \n\n\n	PA – Delaware CountyPA – Montgomery CountyPA – Philadelphia County\n	 \n\n\n	\n	 \n\n\n	\n	 \n\n\n	\n	 \n\n\n	\n	 \n\n\n	\n	 \n\n\n	\n	 \n\n\n	I agree to the  terms of use and  privacy policy\n	 \n	\n	 \n×\n\n\n \nClose   ×Submit A Provider \n\n\n  \n\n\n\n\n	\n	 \n\n\n	Event CategoryHousingJobsEducationBenefitsProvider ResourceGeneral Resource\n	 \n\n\n	Start \n	 \n\n\n	End \n	 \n\n\n	\n	 \n\n\n	\n	 \n\n\n	\n	 \n\n\n	\n	 \n\n\n	\n	 \n\n\n	\n	 \n\n\n	I agree to the  terms of use and  privacy policy\n	 \n	\n	 \n×\n\n\n \nClose
URL:https://uplifme.com/event/food-assistance-resources-in-essex-county/2026-01-19/
LOCATION:Apostles’ House Food Pantry\, 22 Grant Street\, Newark\, NJ\, 07104\, United States
CATEGORIES:Food,General Resource
ATTACH;FMTTYPE=image/png:https://uplifme.com/wp-content/uploads/2025/11/Screenshot-2025-11-12-at-6.45.08-AM.jpeg.png
END:VEVENT
BEGIN:VEVENT
DTSTART;TZID=UTC:20251215T100000
DTEND;TZID=UTC:20251215T150000
DTSTAMP:20260422T025405
CREATED:20251113T134207Z
LAST-MODIFIED:20251113T134221Z
UID:10002454-1765792800-1765810800@uplifme.com
SUMMARY:Food Assistance Resources in Essex County
DESCRIPTION:×Submit A Resource\n\n\n  \n\n\n\n\n	\n	 \n\n\n	Event CategoryHousingJobsEducationBenefitsProvider ResourceGeneral Resource\n	 \n\n\n	Start \n	 \n\n\n	End \n	 \n\n\n	PA – Delaware CountyPA – Montgomery CountyPA – Philadelphia County\n	 \n\n\n	\n	 \n\n\n	\n	 \n\n\n	\n	 \n\n\n	\n	 \n\n\n	\n	 \n\n\n	\n	 \n\n\n	I agree to the  terms of use and  privacy policy\n	 \n	\n	 \n×\n\n\n \nClose   ×Submit A Provider \n\n\n  \n\n\n\n\n	\n	 \n\n\n	Event CategoryHousingJobsEducationBenefitsProvider ResourceGeneral Resource\n	 \n\n\n	Start \n	 \n\n\n	End \n	 \n\n\n	\n	 \n\n\n	\n	 \n\n\n	\n	 \n\n\n	\n	 \n\n\n	\n	 \n\n\n	\n	 \n\n\n	I agree to the  terms of use and  privacy policy\n	 \n	\n	 \n×\n\n\n \nClose
URL:https://uplifme.com/event/food-assistance-resources-in-essex-county/2025-12-15/
LOCATION:Apostles’ House Food Pantry\, 22 Grant Street\, Newark\, NJ\, 07104\, United States
CATEGORIES:Food,General Resource
ATTACH;FMTTYPE=image/png:https://uplifme.com/wp-content/uploads/2025/11/Screenshot-2025-11-12-at-6.45.08-AM.jpeg.png
END:VEVENT
BEGIN:VEVENT
DTSTART;TZID=UTC:20251117T100000
DTEND;TZID=UTC:20251117T150000
DTSTAMP:20260422T025405
CREATED:20251113T134207Z
LAST-MODIFIED:20251113T134221Z
UID:10002453-1763373600-1763391600@uplifme.com
SUMMARY:Food Assistance Resources in Essex County
DESCRIPTION:×Submit A Resource\n\n\n  \n\n\n\n\n	\n	 \n\n\n	Event CategoryHousingJobsEducationBenefitsProvider ResourceGeneral Resource\n	 \n\n\n	Start \n	 \n\n\n	End \n	 \n\n\n	PA – Delaware CountyPA – Montgomery CountyPA – Philadelphia County\n	 \n\n\n	\n	 \n\n\n	\n	 \n\n\n	\n	 \n\n\n	\n	 \n\n\n	\n	 \n\n\n	\n	 \n\n\n	I agree to the  terms of use and  privacy policy\n	 \n	\n	 \n×\n\n\n \nClose   ×Submit A Provider \n\n\n  \n\n\n\n\n	\n	 \n\n\n	Event CategoryHousingJobsEducationBenefitsProvider ResourceGeneral Resource\n	 \n\n\n	Start \n	 \n\n\n	End \n	 \n\n\n	\n	 \n\n\n	\n	 \n\n\n	\n	 \n\n\n	\n	 \n\n\n	\n	 \n\n\n	\n	 \n\n\n	I agree to the  terms of use and  privacy policy\n	 \n	\n	 \n×\n\n\n \nClose
URL:https://uplifme.com/event/food-assistance-resources-in-essex-county/2025-11-17/
LOCATION:Apostles’ House Food Pantry\, 22 Grant Street\, Newark\, NJ\, 07104\, United States
CATEGORIES:Food,General Resource
ATTACH;FMTTYPE=image/png:https://uplifme.com/wp-content/uploads/2025/11/Screenshot-2025-11-12-at-6.45.08-AM.jpeg.png
END:VEVENT
END:VCALENDAR