BEGIN:VCALENDAR
VERSION:2.0
PRODID:-//Uplifme - ECPv6.15.20//NONSGML v1.0//EN
CALSCALE:GREGORIAN
METHOD:PUBLISH
X-WR-CALNAME:Uplifme
X-ORIGINAL-URL:https://uplifme.com
X-WR-CALDESC:Events for Uplifme
REFRESH-INTERVAL;VALUE=DURATION:PT1H
X-Robots-Tag:noindex
X-PUBLISHED-TTL:PT1H
BEGIN:VTIMEZONE
TZID:UTC
BEGIN:STANDARD
TZOFFSETFROM:+0000
TZOFFSETTO:+0000
TZNAME:UTC
DTSTART:20250101T000000
END:STANDARD
END:VTIMEZONE
BEGIN:VEVENT
DTSTART;TZID=UTC:20260518T100000
DTEND;TZID=UTC:20260518T150000
DTSTAMP:20260422T024335
CREATED:20251113T134207Z
LAST-MODIFIED:20251113T134221Z
UID:10002459-1779098400-1779116400@uplifme.com
SUMMARY:Food Assistance Resources in Essex County
DESCRIPTION:×Submit A Resource\n\n\n  \n\n\n\n\n	\n	 \n\n\n	Event CategoryHousingJobsEducationBenefitsProvider ResourceGeneral Resource\n	 \n\n\n	Start \n	 \n\n\n	End \n	 \n\n\n	PA – Delaware CountyPA – Montgomery CountyPA – Philadelphia County\n	 \n\n\n	\n	 \n\n\n	\n	 \n\n\n	\n	 \n\n\n	\n	 \n\n\n	\n	 \n\n\n	\n	 \n\n\n	I agree to the  terms of use and  privacy policy\n	 \n	\n	 \n×\n\n\n \nClose   ×Submit A Provider \n\n\n  \n\n\n\n\n	\n	 \n\n\n	Event CategoryHousingJobsEducationBenefitsProvider ResourceGeneral Resource\n	 \n\n\n	Start \n	 \n\n\n	End \n	 \n\n\n	\n	 \n\n\n	\n	 \n\n\n	\n	 \n\n\n	\n	 \n\n\n	\n	 \n\n\n	\n	 \n\n\n	I agree to the  terms of use and  privacy policy\n	 \n	\n	 \n×\n\n\n \nClose
URL:https://uplifme.com/event/food-assistance-resources-in-essex-county/2026-05-18/
LOCATION:Apostles’ House Food Pantry\, 22 Grant Street\, Newark\, NJ\, 07104\, United States
CATEGORIES:Food,General Resource
ATTACH;FMTTYPE=image/png:https://uplifme.com/wp-content/uploads/2025/11/Screenshot-2025-11-12-at-6.45.08-AM.jpeg.png
END:VEVENT
BEGIN:VEVENT
DTSTART;TZID=UTC:20260615T100000
DTEND;TZID=UTC:20260615T150000
DTSTAMP:20260422T024335
CREATED:20251113T134207Z
LAST-MODIFIED:20251113T134221Z
UID:10002460-1781517600-1781535600@uplifme.com
SUMMARY:Food Assistance Resources in Essex County
DESCRIPTION:×Submit A Resource\n\n\n  \n\n\n\n\n	\n	 \n\n\n	Event CategoryHousingJobsEducationBenefitsProvider ResourceGeneral Resource\n	 \n\n\n	Start \n	 \n\n\n	End \n	 \n\n\n	PA – Delaware CountyPA – Montgomery CountyPA – Philadelphia County\n	 \n\n\n	\n	 \n\n\n	\n	 \n\n\n	\n	 \n\n\n	\n	 \n\n\n	\n	 \n\n\n	\n	 \n\n\n	I agree to the  terms of use and  privacy policy\n	 \n	\n	 \n×\n\n\n \nClose   ×Submit A Provider \n\n\n  \n\n\n\n\n	\n	 \n\n\n	Event CategoryHousingJobsEducationBenefitsProvider ResourceGeneral Resource\n	 \n\n\n	Start \n	 \n\n\n	End \n	 \n\n\n	\n	 \n\n\n	\n	 \n\n\n	\n	 \n\n\n	\n	 \n\n\n	\n	 \n\n\n	\n	 \n\n\n	I agree to the  terms of use and  privacy policy\n	 \n	\n	 \n×\n\n\n \nClose
URL:https://uplifme.com/event/food-assistance-resources-in-essex-county/2026-06-15/
LOCATION:Apostles’ House Food Pantry\, 22 Grant Street\, Newark\, NJ\, 07104\, United States
CATEGORIES:Food,General Resource
ATTACH;FMTTYPE=image/png:https://uplifme.com/wp-content/uploads/2025/11/Screenshot-2025-11-12-at-6.45.08-AM.jpeg.png
END:VEVENT
BEGIN:VEVENT
DTSTART;TZID=UTC:20260720T100000
DTEND;TZID=UTC:20260720T150000
DTSTAMP:20260422T024335
CREATED:20251113T134207Z
LAST-MODIFIED:20251113T134221Z
UID:10002461-1784541600-1784559600@uplifme.com
SUMMARY:Food Assistance Resources in Essex County
DESCRIPTION:×Submit A Resource\n\n\n  \n\n\n\n\n	\n	 \n\n\n	Event CategoryHousingJobsEducationBenefitsProvider ResourceGeneral Resource\n	 \n\n\n	Start \n	 \n\n\n	End \n	 \n\n\n	PA – Delaware CountyPA – Montgomery CountyPA – Philadelphia County\n	 \n\n\n	\n	 \n\n\n	\n	 \n\n\n	\n	 \n\n\n	\n	 \n\n\n	\n	 \n\n\n	\n	 \n\n\n	I agree to the  terms of use and  privacy policy\n	 \n	\n	 \n×\n\n\n \nClose   ×Submit A Provider \n\n\n  \n\n\n\n\n	\n	 \n\n\n	Event CategoryHousingJobsEducationBenefitsProvider ResourceGeneral Resource\n	 \n\n\n	Start \n	 \n\n\n	End \n	 \n\n\n	\n	 \n\n\n	\n	 \n\n\n	\n	 \n\n\n	\n	 \n\n\n	\n	 \n\n\n	\n	 \n\n\n	I agree to the  terms of use and  privacy policy\n	 \n	\n	 \n×\n\n\n \nClose
URL:https://uplifme.com/event/food-assistance-resources-in-essex-county/2026-07-20/
LOCATION:Apostles’ House Food Pantry\, 22 Grant Street\, Newark\, NJ\, 07104\, United States
CATEGORIES:Food,General Resource
ATTACH;FMTTYPE=image/png:https://uplifme.com/wp-content/uploads/2025/11/Screenshot-2025-11-12-at-6.45.08-AM.jpeg.png
END:VEVENT
BEGIN:VEVENT
DTSTART;TZID=UTC:20260817T100000
DTEND;TZID=UTC:20260817T150000
DTSTAMP:20260422T024335
CREATED:20251113T134207Z
LAST-MODIFIED:20251113T134221Z
UID:10002462-1786960800-1786978800@uplifme.com
SUMMARY:Food Assistance Resources in Essex County
DESCRIPTION:×Submit A Resource\n\n\n  \n\n\n\n\n	\n	 \n\n\n	Event CategoryHousingJobsEducationBenefitsProvider ResourceGeneral Resource\n	 \n\n\n	Start \n	 \n\n\n	End \n	 \n\n\n	PA – Delaware CountyPA – Montgomery CountyPA – Philadelphia County\n	 \n\n\n	\n	 \n\n\n	\n	 \n\n\n	\n	 \n\n\n	\n	 \n\n\n	\n	 \n\n\n	\n	 \n\n\n	I agree to the  terms of use and  privacy policy\n	 \n	\n	 \n×\n\n\n \nClose   ×Submit A Provider \n\n\n  \n\n\n\n\n	\n	 \n\n\n	Event CategoryHousingJobsEducationBenefitsProvider ResourceGeneral Resource\n	 \n\n\n	Start \n	 \n\n\n	End \n	 \n\n\n	\n	 \n\n\n	\n	 \n\n\n	\n	 \n\n\n	\n	 \n\n\n	\n	 \n\n\n	\n	 \n\n\n	I agree to the  terms of use and  privacy policy\n	 \n	\n	 \n×\n\n\n \nClose
URL:https://uplifme.com/event/food-assistance-resources-in-essex-county/2026-08-17/
LOCATION:Apostles’ House Food Pantry\, 22 Grant Street\, Newark\, NJ\, 07104\, United States
CATEGORIES:Food,General Resource
ATTACH;FMTTYPE=image/png:https://uplifme.com/wp-content/uploads/2025/11/Screenshot-2025-11-12-at-6.45.08-AM.jpeg.png
END:VEVENT
BEGIN:VEVENT
DTSTART;TZID=UTC:20260921T100000
DTEND;TZID=UTC:20260921T150000
DTSTAMP:20260422T024335
CREATED:20251113T134207Z
LAST-MODIFIED:20251113T134221Z
UID:10002463-1789984800-1790002800@uplifme.com
SUMMARY:Food Assistance Resources in Essex County
DESCRIPTION:×Submit A Resource\n\n\n  \n\n\n\n\n	\n	 \n\n\n	Event CategoryHousingJobsEducationBenefitsProvider ResourceGeneral Resource\n	 \n\n\n	Start \n	 \n\n\n	End \n	 \n\n\n	PA – Delaware CountyPA – Montgomery CountyPA – Philadelphia County\n	 \n\n\n	\n	 \n\n\n	\n	 \n\n\n	\n	 \n\n\n	\n	 \n\n\n	\n	 \n\n\n	\n	 \n\n\n	I agree to the  terms of use and  privacy policy\n	 \n	\n	 \n×\n\n\n \nClose   ×Submit A Provider \n\n\n  \n\n\n\n\n	\n	 \n\n\n	Event CategoryHousingJobsEducationBenefitsProvider ResourceGeneral Resource\n	 \n\n\n	Start \n	 \n\n\n	End \n	 \n\n\n	\n	 \n\n\n	\n	 \n\n\n	\n	 \n\n\n	\n	 \n\n\n	\n	 \n\n\n	\n	 \n\n\n	I agree to the  terms of use and  privacy policy\n	 \n	\n	 \n×\n\n\n \nClose
URL:https://uplifme.com/event/food-assistance-resources-in-essex-county/2026-09-21/
LOCATION:Apostles’ House Food Pantry\, 22 Grant Street\, Newark\, NJ\, 07104\, United States
CATEGORIES:Food,General Resource
ATTACH;FMTTYPE=image/png:https://uplifme.com/wp-content/uploads/2025/11/Screenshot-2025-11-12-at-6.45.08-AM.jpeg.png
END:VEVENT
BEGIN:VEVENT
DTSTART;TZID=UTC:20261019T100000
DTEND;TZID=UTC:20261019T150000
DTSTAMP:20260422T024335
CREATED:20251113T134207Z
LAST-MODIFIED:20251113T134221Z
UID:10002464-1792404000-1792422000@uplifme.com
SUMMARY:Food Assistance Resources in Essex County
DESCRIPTION:×Submit A Resource\n\n\n  \n\n\n\n\n	\n	 \n\n\n	Event CategoryHousingJobsEducationBenefitsProvider ResourceGeneral Resource\n	 \n\n\n	Start \n	 \n\n\n	End \n	 \n\n\n	PA – Delaware CountyPA – Montgomery CountyPA – Philadelphia County\n	 \n\n\n	\n	 \n\n\n	\n	 \n\n\n	\n	 \n\n\n	\n	 \n\n\n	\n	 \n\n\n	\n	 \n\n\n	I agree to the  terms of use and  privacy policy\n	 \n	\n	 \n×\n\n\n \nClose   ×Submit A Provider \n\n\n  \n\n\n\n\n	\n	 \n\n\n	Event CategoryHousingJobsEducationBenefitsProvider ResourceGeneral Resource\n	 \n\n\n	Start \n	 \n\n\n	End \n	 \n\n\n	\n	 \n\n\n	\n	 \n\n\n	\n	 \n\n\n	\n	 \n\n\n	\n	 \n\n\n	\n	 \n\n\n	I agree to the  terms of use and  privacy policy\n	 \n	\n	 \n×\n\n\n \nClose
URL:https://uplifme.com/event/food-assistance-resources-in-essex-county/2026-10-19/
LOCATION:Apostles’ House Food Pantry\, 22 Grant Street\, Newark\, NJ\, 07104\, United States
CATEGORIES:Food,General Resource
ATTACH;FMTTYPE=image/png:https://uplifme.com/wp-content/uploads/2025/11/Screenshot-2025-11-12-at-6.45.08-AM.jpeg.png
END:VEVENT
BEGIN:VEVENT
DTSTART;TZID=UTC:20261116T100000
DTEND;TZID=UTC:20261116T150000
DTSTAMP:20260422T024335
CREATED:20251113T134207Z
LAST-MODIFIED:20251113T134221Z
UID:10002465-1794823200-1794841200@uplifme.com
SUMMARY:Food Assistance Resources in Essex County
DESCRIPTION:×Submit A Resource\n\n\n  \n\n\n\n\n	\n	 \n\n\n	Event CategoryHousingJobsEducationBenefitsProvider ResourceGeneral Resource\n	 \n\n\n	Start \n	 \n\n\n	End \n	 \n\n\n	PA – Delaware CountyPA – Montgomery CountyPA – Philadelphia County\n	 \n\n\n	\n	 \n\n\n	\n	 \n\n\n	\n	 \n\n\n	\n	 \n\n\n	\n	 \n\n\n	\n	 \n\n\n	I agree to the  terms of use and  privacy policy\n	 \n	\n	 \n×\n\n\n \nClose   ×Submit A Provider \n\n\n  \n\n\n\n\n	\n	 \n\n\n	Event CategoryHousingJobsEducationBenefitsProvider ResourceGeneral Resource\n	 \n\n\n	Start \n	 \n\n\n	End \n	 \n\n\n	\n	 \n\n\n	\n	 \n\n\n	\n	 \n\n\n	\n	 \n\n\n	\n	 \n\n\n	\n	 \n\n\n	I agree to the  terms of use and  privacy policy\n	 \n	\n	 \n×\n\n\n \nClose
URL:https://uplifme.com/event/food-assistance-resources-in-essex-county/2026-11-16/
LOCATION:Apostles’ House Food Pantry\, 22 Grant Street\, Newark\, NJ\, 07104\, United States
CATEGORIES:Food,General Resource
ATTACH;FMTTYPE=image/png:https://uplifme.com/wp-content/uploads/2025/11/Screenshot-2025-11-12-at-6.45.08-AM.jpeg.png
END:VEVENT
END:VCALENDAR