BEGIN:VCALENDAR
VERSION:2.0
PRODID:-//Uplifme - ECPv6.15.20//NONSGML v1.0//EN
CALSCALE:GREGORIAN
METHOD:PUBLISH
X-WR-CALNAME:Uplifme
X-ORIGINAL-URL:https://uplifme.com
X-WR-CALDESC:Events for Uplifme
REFRESH-INTERVAL;VALUE=DURATION:PT1H
X-Robots-Tag:noindex
X-PUBLISHED-TTL:PT1H
BEGIN:VTIMEZONE
TZID:UTC
BEGIN:STANDARD
TZOFFSETFROM:+0000
TZOFFSETTO:+0000
TZNAME:UTC
DTSTART:20240101T000000
END:STANDARD
END:VTIMEZONE
BEGIN:VEVENT
DTSTART;TZID=UTC:20251223T120000
DTEND;TZID=UTC:20251223T140000
DTSTAMP:20260420T100147
CREATED:20251206T142517Z
LAST-MODIFIED:20251206T142556Z
UID:10003327-1766491200-1766498400@uplifme.com
SUMMARY:CUA 7 December Events 2025
DESCRIPTION:×Submit A Resource\n\n\n  \n\n\n\n\n	\n	 \n\n\n	Event CategoryHousingJobsEducationBenefitsProvider ResourceGeneral Resource\n	 \n\n\n	Start \n	 \n\n\n	End \n	 \n\n\n	PA – Delaware CountyPA – Montgomery CountyPA – Philadelphia County\n	 \n\n\n	\n	 \n\n\n	\n	 \n\n\n	\n	 \n\n\n	\n	 \n\n\n	\n	 \n\n\n	\n	 \n\n\n	I agree to the  terms of use and  privacy policy\n	 \n	\n	 \n×\n\n\n \nClose   ×Submit A Provider \n\n\n  \n\n\n\n\n	\n	 \n\n\n	Event CategoryHousingJobsEducationBenefitsProvider ResourceGeneral Resource\n	 \n\n\n	Start \n	 \n\n\n	End \n	 \n\n\n	\n	 \n\n\n	\n	 \n\n\n	\n	 \n\n\n	\n	 \n\n\n	\n	 \n\n\n	\n	 \n\n\n	I agree to the  terms of use and  privacy policy\n	 \n	\n	 \n×\n\n\n \nClose
URL:https://uplifme.com/event/cua-7-december-events-2025/2025-12-23/
LOCATION:Strawberry Mansion PAL Center\, 2946 W. Dauphin Street\, Philadelphia\, PA\, 19132\, United States
CATEGORIES:Education,General Resource,Health
ATTACH;FMTTYPE=image/png:https://uplifme.com/wp-content/uploads/2025/12/Screenshot-2025-12-01-at-11.55.14-PM.jpeg.png
END:VEVENT
BEGIN:VEVENT
DTSTART;TZID=UTC:20251218T090000
DTEND;TZID=UTC:20251218T110000
DTSTAMP:20260420T100147
CREATED:20251206T142517Z
LAST-MODIFIED:20251206T142556Z
UID:10003326-1766048400-1766055600@uplifme.com
SUMMARY:CUA 7 December Events 2025
DESCRIPTION:×Submit A Resource\n\n\n  \n\n\n\n\n	\n	 \n\n\n	Event CategoryHousingJobsEducationBenefitsProvider ResourceGeneral Resource\n	 \n\n\n	Start \n	 \n\n\n	End \n	 \n\n\n	PA – Delaware CountyPA – Montgomery CountyPA – Philadelphia County\n	 \n\n\n	\n	 \n\n\n	\n	 \n\n\n	\n	 \n\n\n	\n	 \n\n\n	\n	 \n\n\n	\n	 \n\n\n	I agree to the  terms of use and  privacy policy\n	 \n	\n	 \n×\n\n\n \nClose   ×Submit A Provider \n\n\n  \n\n\n\n\n	\n	 \n\n\n	Event CategoryHousingJobsEducationBenefitsProvider ResourceGeneral Resource\n	 \n\n\n	Start \n	 \n\n\n	End \n	 \n\n\n	\n	 \n\n\n	\n	 \n\n\n	\n	 \n\n\n	\n	 \n\n\n	\n	 \n\n\n	\n	 \n\n\n	I agree to the  terms of use and  privacy policy\n	 \n	\n	 \n×\n\n\n \nClose
URL:https://uplifme.com/event/cua-7-december-events-2025/2025-12-18/
LOCATION:Strawberry Mansion PAL Center\, 2946 W. Dauphin Street\, Philadelphia\, PA\, 19132\, United States
CATEGORIES:Education,General Resource,Health
ATTACH;FMTTYPE=image/png:https://uplifme.com/wp-content/uploads/2025/12/Screenshot-2025-12-01-at-11.55.14-PM.jpeg.png
END:VEVENT
BEGIN:VEVENT
DTSTART;TZID=UTC:20251211T053000
DTEND;TZID=UTC:20251211T193000
DTSTAMP:20260420T100147
CREATED:20251206T142517Z
LAST-MODIFIED:20251206T142556Z
UID:10003325-1765431000-1765481400@uplifme.com
SUMMARY:CUA 7 December Events 2025
DESCRIPTION:×Submit A Resource\n\n\n  \n\n\n\n\n	\n	 \n\n\n	Event CategoryHousingJobsEducationBenefitsProvider ResourceGeneral Resource\n	 \n\n\n	Start \n	 \n\n\n	End \n	 \n\n\n	PA – Delaware CountyPA – Montgomery CountyPA – Philadelphia County\n	 \n\n\n	\n	 \n\n\n	\n	 \n\n\n	\n	 \n\n\n	\n	 \n\n\n	\n	 \n\n\n	\n	 \n\n\n	I agree to the  terms of use and  privacy policy\n	 \n	\n	 \n×\n\n\n \nClose   ×Submit A Provider \n\n\n  \n\n\n\n\n	\n	 \n\n\n	Event CategoryHousingJobsEducationBenefitsProvider ResourceGeneral Resource\n	 \n\n\n	Start \n	 \n\n\n	End \n	 \n\n\n	\n	 \n\n\n	\n	 \n\n\n	\n	 \n\n\n	\n	 \n\n\n	\n	 \n\n\n	\n	 \n\n\n	I agree to the  terms of use and  privacy policy\n	 \n	\n	 \n×\n\n\n \nClose
URL:https://uplifme.com/event/cua-7-december-events-2025/2025-12-11/
LOCATION:Strawberry Mansion PAL Center\, 2946 W. Dauphin Street\, Philadelphia\, PA\, 19132\, United States
CATEGORIES:Education,General Resource,Health
ATTACH;FMTTYPE=image/png:https://uplifme.com/wp-content/uploads/2025/12/Screenshot-2025-12-01-at-11.55.14-PM.jpeg.png
END:VEVENT
BEGIN:VEVENT
DTSTART;TZID=UTC:20251210T130000
DTEND;TZID=UTC:20251210T150000
DTSTAMP:20260420T100147
CREATED:20251206T142517Z
LAST-MODIFIED:20251206T142556Z
UID:10003324-1765371600-1765378800@uplifme.com
SUMMARY:CUA 7 December Events 2025
DESCRIPTION:×Submit A Resource\n\n\n  \n\n\n\n\n	\n	 \n\n\n	Event CategoryHousingJobsEducationBenefitsProvider ResourceGeneral Resource\n	 \n\n\n	Start \n	 \n\n\n	End \n	 \n\n\n	PA – Delaware CountyPA – Montgomery CountyPA – Philadelphia County\n	 \n\n\n	\n	 \n\n\n	\n	 \n\n\n	\n	 \n\n\n	\n	 \n\n\n	\n	 \n\n\n	\n	 \n\n\n	I agree to the  terms of use and  privacy policy\n	 \n	\n	 \n×\n\n\n \nClose   ×Submit A Provider \n\n\n  \n\n\n\n\n	\n	 \n\n\n	Event CategoryHousingJobsEducationBenefitsProvider ResourceGeneral Resource\n	 \n\n\n	Start \n	 \n\n\n	End \n	 \n\n\n	\n	 \n\n\n	\n	 \n\n\n	\n	 \n\n\n	\n	 \n\n\n	\n	 \n\n\n	\n	 \n\n\n	I agree to the  terms of use and  privacy policy\n	 \n	\n	 \n×\n\n\n \nClose
URL:https://uplifme.com/event/cua-7-december-events-2025/2025-12-10/
LOCATION:Strawberry Mansion PAL Center\, 2946 W. Dauphin Street\, Philadelphia\, PA\, 19132\, United States
CATEGORIES:Education,General Resource,Health
ATTACH;FMTTYPE=image/png:https://uplifme.com/wp-content/uploads/2025/12/Screenshot-2025-12-01-at-11.55.14-PM.jpeg.png
END:VEVENT
END:VCALENDAR