BEGIN:VCALENDAR
VERSION:2.0
PRODID:-//Uplifme - ECPv6.15.20//NONSGML v1.0//EN
CALSCALE:GREGORIAN
METHOD:PUBLISH
X-WR-CALNAME:Uplifme
X-ORIGINAL-URL:https://uplifme.com
X-WR-CALDESC:Events for Uplifme
REFRESH-INTERVAL;VALUE=DURATION:PT1H
X-Robots-Tag:noindex
X-PUBLISHED-TTL:PT1H
BEGIN:VTIMEZONE
TZID:UTC
BEGIN:STANDARD
TZOFFSETFROM:+0000
TZOFFSETTO:+0000
TZNAME:UTC
DTSTART:20250101T000000
END:STANDARD
END:VTIMEZONE
BEGIN:VEVENT
DTSTART;TZID=UTC:20260505T100000
DTEND;TZID=UTC:20260505T100000
DTSTAMP:20260419T201117
CREATED:20251102T185516Z
LAST-MODIFIED:20251102T185538Z
UID:10002158-1777975200-1777975200@uplifme.com
SUMMARY:Heat Up Your Career with Haul
DESCRIPTION:×Submit A Resource\n\n\n  \n\n\n\n\n	\n	 \n\n\n	Event CategoryHousingJobsEducationBenefitsProvider ResourceGeneral Resource\n	 \n\n\n	Start \n	 \n\n\n	End \n	 \n\n\n	PA – Delaware CountyPA – Montgomery CountyPA – Philadelphia County\n	 \n\n\n	\n	 \n\n\n	\n	 \n\n\n	\n	 \n\n\n	\n	 \n\n\n	\n	 \n\n\n	\n	 \n\n\n	I agree to the  terms of use and  privacy policy\n	 \n	\n	 \n×\n\n\n \nClose   ×Submit A Provider \n\n\n  \n\n\n\n\n	\n	 \n\n\n	Event CategoryHousingJobsEducationBenefitsProvider ResourceGeneral Resource\n	 \n\n\n	Start \n	 \n\n\n	End \n	 \n\n\n	\n	 \n\n\n	\n	 \n\n\n	\n	 \n\n\n	\n	 \n\n\n	\n	 \n\n\n	\n	 \n\n\n	I agree to the  terms of use and  privacy policy\n	 \n	\n	 \n×\n\n\n \nClose
URL:https://uplifme.com/event/heat-up-your-career-with-haul/2026-05-05/
LOCATION:Houston Area Urban League\, 5260 Griggs Road\, Houston\, TX\, 77021\, United States
CATEGORIES:General Resource,Jobs
ATTACH;FMTTYPE=image/png:https://uplifme.com/wp-content/uploads/2025/11/ScreenshotServices-41.jpeg.png
END:VEVENT
BEGIN:VEVENT
DTSTART;TZID=UTC:20260602T100000
DTEND;TZID=UTC:20260602T100000
DTSTAMP:20260419T201117
CREATED:20251102T185516Z
LAST-MODIFIED:20251102T185538Z
UID:10002159-1780394400-1780394400@uplifme.com
SUMMARY:Heat Up Your Career with Haul
DESCRIPTION:×Submit A Resource\n\n\n  \n\n\n\n\n	\n	 \n\n\n	Event CategoryHousingJobsEducationBenefitsProvider ResourceGeneral Resource\n	 \n\n\n	Start \n	 \n\n\n	End \n	 \n\n\n	PA – Delaware CountyPA – Montgomery CountyPA – Philadelphia County\n	 \n\n\n	\n	 \n\n\n	\n	 \n\n\n	\n	 \n\n\n	\n	 \n\n\n	\n	 \n\n\n	\n	 \n\n\n	I agree to the  terms of use and  privacy policy\n	 \n	\n	 \n×\n\n\n \nClose   ×Submit A Provider \n\n\n  \n\n\n\n\n	\n	 \n\n\n	Event CategoryHousingJobsEducationBenefitsProvider ResourceGeneral Resource\n	 \n\n\n	Start \n	 \n\n\n	End \n	 \n\n\n	\n	 \n\n\n	\n	 \n\n\n	\n	 \n\n\n	\n	 \n\n\n	\n	 \n\n\n	\n	 \n\n\n	I agree to the  terms of use and  privacy policy\n	 \n	\n	 \n×\n\n\n \nClose
URL:https://uplifme.com/event/heat-up-your-career-with-haul/2026-06-02/
LOCATION:Houston Area Urban League\, 5260 Griggs Road\, Houston\, TX\, 77021\, United States
CATEGORIES:General Resource,Jobs
ATTACH;FMTTYPE=image/png:https://uplifme.com/wp-content/uploads/2025/11/ScreenshotServices-41.jpeg.png
END:VEVENT
BEGIN:VEVENT
DTSTART;TZID=UTC:20260707T100000
DTEND;TZID=UTC:20260707T100000
DTSTAMP:20260419T201117
CREATED:20251102T185516Z
LAST-MODIFIED:20251102T185538Z
UID:10002160-1783418400-1783418400@uplifme.com
SUMMARY:Heat Up Your Career with Haul
DESCRIPTION:×Submit A Resource\n\n\n  \n\n\n\n\n	\n	 \n\n\n	Event CategoryHousingJobsEducationBenefitsProvider ResourceGeneral Resource\n	 \n\n\n	Start \n	 \n\n\n	End \n	 \n\n\n	PA – Delaware CountyPA – Montgomery CountyPA – Philadelphia County\n	 \n\n\n	\n	 \n\n\n	\n	 \n\n\n	\n	 \n\n\n	\n	 \n\n\n	\n	 \n\n\n	\n	 \n\n\n	I agree to the  terms of use and  privacy policy\n	 \n	\n	 \n×\n\n\n \nClose   ×Submit A Provider \n\n\n  \n\n\n\n\n	\n	 \n\n\n	Event CategoryHousingJobsEducationBenefitsProvider ResourceGeneral Resource\n	 \n\n\n	Start \n	 \n\n\n	End \n	 \n\n\n	\n	 \n\n\n	\n	 \n\n\n	\n	 \n\n\n	\n	 \n\n\n	\n	 \n\n\n	\n	 \n\n\n	I agree to the  terms of use and  privacy policy\n	 \n	\n	 \n×\n\n\n \nClose
URL:https://uplifme.com/event/heat-up-your-career-with-haul/2026-07-07/
LOCATION:Houston Area Urban League\, 5260 Griggs Road\, Houston\, TX\, 77021\, United States
CATEGORIES:General Resource,Jobs
ATTACH;FMTTYPE=image/png:https://uplifme.com/wp-content/uploads/2025/11/ScreenshotServices-41.jpeg.png
END:VEVENT
BEGIN:VEVENT
DTSTART;TZID=UTC:20260804T100000
DTEND;TZID=UTC:20260804T100000
DTSTAMP:20260419T201117
CREATED:20251102T185516Z
LAST-MODIFIED:20251102T185538Z
UID:10002161-1785837600-1785837600@uplifme.com
SUMMARY:Heat Up Your Career with Haul
DESCRIPTION:×Submit A Resource\n\n\n  \n\n\n\n\n	\n	 \n\n\n	Event CategoryHousingJobsEducationBenefitsProvider ResourceGeneral Resource\n	 \n\n\n	Start \n	 \n\n\n	End \n	 \n\n\n	PA – Delaware CountyPA – Montgomery CountyPA – Philadelphia County\n	 \n\n\n	\n	 \n\n\n	\n	 \n\n\n	\n	 \n\n\n	\n	 \n\n\n	\n	 \n\n\n	\n	 \n\n\n	I agree to the  terms of use and  privacy policy\n	 \n	\n	 \n×\n\n\n \nClose   ×Submit A Provider \n\n\n  \n\n\n\n\n	\n	 \n\n\n	Event CategoryHousingJobsEducationBenefitsProvider ResourceGeneral Resource\n	 \n\n\n	Start \n	 \n\n\n	End \n	 \n\n\n	\n	 \n\n\n	\n	 \n\n\n	\n	 \n\n\n	\n	 \n\n\n	\n	 \n\n\n	\n	 \n\n\n	I agree to the  terms of use and  privacy policy\n	 \n	\n	 \n×\n\n\n \nClose
URL:https://uplifme.com/event/heat-up-your-career-with-haul/2026-08-04/
LOCATION:Houston Area Urban League\, 5260 Griggs Road\, Houston\, TX\, 77021\, United States
CATEGORIES:General Resource,Jobs
ATTACH;FMTTYPE=image/png:https://uplifme.com/wp-content/uploads/2025/11/ScreenshotServices-41.jpeg.png
END:VEVENT
BEGIN:VEVENT
DTSTART;TZID=UTC:20260901T100000
DTEND;TZID=UTC:20260901T100000
DTSTAMP:20260419T201117
CREATED:20251102T185516Z
LAST-MODIFIED:20251102T185538Z
UID:10002162-1788256800-1788256800@uplifme.com
SUMMARY:Heat Up Your Career with Haul
DESCRIPTION:×Submit A Resource\n\n\n  \n\n\n\n\n	\n	 \n\n\n	Event CategoryHousingJobsEducationBenefitsProvider ResourceGeneral Resource\n	 \n\n\n	Start \n	 \n\n\n	End \n	 \n\n\n	PA – Delaware CountyPA – Montgomery CountyPA – Philadelphia County\n	 \n\n\n	\n	 \n\n\n	\n	 \n\n\n	\n	 \n\n\n	\n	 \n\n\n	\n	 \n\n\n	\n	 \n\n\n	I agree to the  terms of use and  privacy policy\n	 \n	\n	 \n×\n\n\n \nClose   ×Submit A Provider \n\n\n  \n\n\n\n\n	\n	 \n\n\n	Event CategoryHousingJobsEducationBenefitsProvider ResourceGeneral Resource\n	 \n\n\n	Start \n	 \n\n\n	End \n	 \n\n\n	\n	 \n\n\n	\n	 \n\n\n	\n	 \n\n\n	\n	 \n\n\n	\n	 \n\n\n	\n	 \n\n\n	I agree to the  terms of use and  privacy policy\n	 \n	\n	 \n×\n\n\n \nClose
URL:https://uplifme.com/event/heat-up-your-career-with-haul/2026-09-01/
LOCATION:Houston Area Urban League\, 5260 Griggs Road\, Houston\, TX\, 77021\, United States
CATEGORIES:General Resource,Jobs
ATTACH;FMTTYPE=image/png:https://uplifme.com/wp-content/uploads/2025/11/ScreenshotServices-41.jpeg.png
END:VEVENT
BEGIN:VEVENT
DTSTART;TZID=UTC:20261006T100000
DTEND;TZID=UTC:20261006T100000
DTSTAMP:20260419T201117
CREATED:20251102T185516Z
LAST-MODIFIED:20251102T185538Z
UID:10002163-1791280800-1791280800@uplifme.com
SUMMARY:Heat Up Your Career with Haul
DESCRIPTION:×Submit A Resource\n\n\n  \n\n\n\n\n	\n	 \n\n\n	Event CategoryHousingJobsEducationBenefitsProvider ResourceGeneral Resource\n	 \n\n\n	Start \n	 \n\n\n	End \n	 \n\n\n	PA – Delaware CountyPA – Montgomery CountyPA – Philadelphia County\n	 \n\n\n	\n	 \n\n\n	\n	 \n\n\n	\n	 \n\n\n	\n	 \n\n\n	\n	 \n\n\n	\n	 \n\n\n	I agree to the  terms of use and  privacy policy\n	 \n	\n	 \n×\n\n\n \nClose   ×Submit A Provider \n\n\n  \n\n\n\n\n	\n	 \n\n\n	Event CategoryHousingJobsEducationBenefitsProvider ResourceGeneral Resource\n	 \n\n\n	Start \n	 \n\n\n	End \n	 \n\n\n	\n	 \n\n\n	\n	 \n\n\n	\n	 \n\n\n	\n	 \n\n\n	\n	 \n\n\n	\n	 \n\n\n	I agree to the  terms of use and  privacy policy\n	 \n	\n	 \n×\n\n\n \nClose
URL:https://uplifme.com/event/heat-up-your-career-with-haul/2026-10-06/
LOCATION:Houston Area Urban League\, 5260 Griggs Road\, Houston\, TX\, 77021\, United States
CATEGORIES:General Resource,Jobs
ATTACH;FMTTYPE=image/png:https://uplifme.com/wp-content/uploads/2025/11/ScreenshotServices-41.jpeg.png
END:VEVENT
BEGIN:VEVENT
DTSTART;TZID=UTC:20261103T100000
DTEND;TZID=UTC:20261103T100000
DTSTAMP:20260419T201117
CREATED:20251102T185516Z
LAST-MODIFIED:20251102T185538Z
UID:10002164-1793700000-1793700000@uplifme.com
SUMMARY:Heat Up Your Career with Haul
DESCRIPTION:×Submit A Resource\n\n\n  \n\n\n\n\n	\n	 \n\n\n	Event CategoryHousingJobsEducationBenefitsProvider ResourceGeneral Resource\n	 \n\n\n	Start \n	 \n\n\n	End \n	 \n\n\n	PA – Delaware CountyPA – Montgomery CountyPA – Philadelphia County\n	 \n\n\n	\n	 \n\n\n	\n	 \n\n\n	\n	 \n\n\n	\n	 \n\n\n	\n	 \n\n\n	\n	 \n\n\n	I agree to the  terms of use and  privacy policy\n	 \n	\n	 \n×\n\n\n \nClose   ×Submit A Provider \n\n\n  \n\n\n\n\n	\n	 \n\n\n	Event CategoryHousingJobsEducationBenefitsProvider ResourceGeneral Resource\n	 \n\n\n	Start \n	 \n\n\n	End \n	 \n\n\n	\n	 \n\n\n	\n	 \n\n\n	\n	 \n\n\n	\n	 \n\n\n	\n	 \n\n\n	\n	 \n\n\n	I agree to the  terms of use and  privacy policy\n	 \n	\n	 \n×\n\n\n \nClose
URL:https://uplifme.com/event/heat-up-your-career-with-haul/2026-11-03/
LOCATION:Houston Area Urban League\, 5260 Griggs Road\, Houston\, TX\, 77021\, United States
CATEGORIES:General Resource,Jobs
ATTACH;FMTTYPE=image/png:https://uplifme.com/wp-content/uploads/2025/11/ScreenshotServices-41.jpeg.png
END:VEVENT
END:VCALENDAR