BEGIN:VCALENDAR
VERSION:2.0
PRODID:-//Uplifme - ECPv6.15.20//NONSGML v1.0//EN
CALSCALE:GREGORIAN
METHOD:PUBLISH
X-ORIGINAL-URL:https://uplifme.com
X-WR-CALDESC:Events for Uplifme
REFRESH-INTERVAL;VALUE=DURATION:PT1H
X-Robots-Tag:noindex
X-PUBLISHED-TTL:PT1H
BEGIN:VTIMEZONE
TZID:UTC
BEGIN:STANDARD
TZOFFSETFROM:+0000
TZOFFSETTO:+0000
TZNAME:UTC
DTSTART:20250101T000000
END:STANDARD
END:VTIMEZONE
BEGIN:VEVENT
DTSTART;TZID=UTC:20260515T100000
DTEND;TZID=UTC:20260515T130000
DTSTAMP:20260420T102327
CREATED:20260217T223542Z
LAST-MODIFIED:20260217T224327Z
UID:10006531-1778839200-1778850000@uplifme.com
SUMMARY:The Food Project
DESCRIPTION:×Submit A Resource\n\n\n  \n\n\n\n\n	\n	 \n\n\n	Event CategoryHousingJobsEducationBenefitsProvider ResourceGeneral Resource\n	 \n\n\n	Start \n	 \n\n\n	End \n	 \n\n\n	PA – Delaware CountyPA – Montgomery CountyPA – Philadelphia County\n	 \n\n\n	\n	 \n\n\n	\n	 \n\n\n	\n	 \n\n\n	\n	 \n\n\n	\n	 \n\n\n	\n	 \n\n\n	I agree to the  terms of use and  privacy policy\n	 \n	\n	 \n×\n\n\n \nClose   ×Submit A Provider \n\n\n  \n\n\n\n\n	\n	 \n\n\n	Event CategoryHousingJobsEducationBenefitsProvider ResourceGeneral Resource\n	 \n\n\n	Start \n	 \n\n\n	End \n	 \n\n\n	\n	 \n\n\n	\n	 \n\n\n	\n	 \n\n\n	\n	 \n\n\n	\n	 \n\n\n	\n	 \n\n\n	I agree to the  terms of use and  privacy policy\n	 \n	\n	 \n×\n\n\n \nClose
URL:https://uplifme.com/event/the-food-project/2026-05-15/
LOCATION:The Food Project\, 424 S. Pulaski Street\, Baltimore\, MD\, 21223\, United States
CATEGORIES:Benefits,General Resource
ATTACH;FMTTYPE=image/png:https://uplifme.com/wp-content/uploads/2026/02/Screenshot-2026-02-13-at-9.03.57-PM.png
END:VEVENT
BEGIN:VEVENT
DTSTART;TZID=UTC:20260520T100000
DTEND;TZID=UTC:20260520T140000
DTSTAMP:20260420T102327
CREATED:20260314T163321Z
LAST-MODIFIED:20260314T163400Z
UID:10008346-1779271200-1779285600@uplifme.com
SUMMARY:Wednesdays Baby Supplies
DESCRIPTION:×Submit A Resource\n\n\n  \n\n\n\n\n	\n	 \n\n\n	Event CategoryHousingJobsEducationBenefitsProvider ResourceGeneral Resource\n	 \n\n\n	Start \n	 \n\n\n	End \n	 \n\n\n	PA – Delaware CountyPA – Montgomery CountyPA – Philadelphia County\n	 \n\n\n	\n	 \n\n\n	\n	 \n\n\n	\n	 \n\n\n	\n	 \n\n\n	\n	 \n\n\n	\n	 \n\n\n	I agree to the  terms of use and  privacy policy\n	 \n	\n	 \n×\n\n\n \nClose   ×Submit A Provider \n\n\n  \n\n\n\n\n	\n	 \n\n\n	Event CategoryHousingJobsEducationBenefitsProvider ResourceGeneral Resource\n	 \n\n\n	Start \n	 \n\n\n	End \n	 \n\n\n	\n	 \n\n\n	\n	 \n\n\n	\n	 \n\n\n	\n	 \n\n\n	\n	 \n\n\n	\n	 \n\n\n	I agree to the  terms of use and  privacy policy\n	 \n	\n	 \n×\n\n\n \nClose
URL:https://uplifme.com/event/wednesdays-baby-supplies/2026-05-20/
LOCATION:The Food Project\, 424 S. Pulaski Street\, Baltimore\, MD\, 21223\, United States
CATEGORIES:General Resource,Parent/Caregiver Resources
ATTACH;FMTTYPE=image/png:https://uplifme.com/wp-content/uploads/2026/03/Screenshot-2026-03-06-at-12.54.30-AM.png
END:VEVENT
BEGIN:VEVENT
DTSTART;TZID=UTC:20260617T100000
DTEND;TZID=UTC:20260617T140000
DTSTAMP:20260420T102327
CREATED:20260314T163321Z
LAST-MODIFIED:20260314T163400Z
UID:10008347-1781690400-1781704800@uplifme.com
SUMMARY:Wednesdays Baby Supplies
DESCRIPTION:×Submit A Resource\n\n\n  \n\n\n\n\n	\n	 \n\n\n	Event CategoryHousingJobsEducationBenefitsProvider ResourceGeneral Resource\n	 \n\n\n	Start \n	 \n\n\n	End \n	 \n\n\n	PA – Delaware CountyPA – Montgomery CountyPA – Philadelphia County\n	 \n\n\n	\n	 \n\n\n	\n	 \n\n\n	\n	 \n\n\n	\n	 \n\n\n	\n	 \n\n\n	\n	 \n\n\n	I agree to the  terms of use and  privacy policy\n	 \n	\n	 \n×\n\n\n \nClose   ×Submit A Provider \n\n\n  \n\n\n\n\n	\n	 \n\n\n	Event CategoryHousingJobsEducationBenefitsProvider ResourceGeneral Resource\n	 \n\n\n	Start \n	 \n\n\n	End \n	 \n\n\n	\n	 \n\n\n	\n	 \n\n\n	\n	 \n\n\n	\n	 \n\n\n	\n	 \n\n\n	\n	 \n\n\n	I agree to the  terms of use and  privacy policy\n	 \n	\n	 \n×\n\n\n \nClose
URL:https://uplifme.com/event/wednesdays-baby-supplies/2026-06-17/
LOCATION:The Food Project\, 424 S. Pulaski Street\, Baltimore\, MD\, 21223\, United States
CATEGORIES:General Resource,Parent/Caregiver Resources
ATTACH;FMTTYPE=image/png:https://uplifme.com/wp-content/uploads/2026/03/Screenshot-2026-03-06-at-12.54.30-AM.png
END:VEVENT
BEGIN:VEVENT
DTSTART;TZID=UTC:20260619T100000
DTEND;TZID=UTC:20260619T130000
DTSTAMP:20260420T102327
CREATED:20260217T223542Z
LAST-MODIFIED:20260217T224327Z
UID:10006532-1781863200-1781874000@uplifme.com
SUMMARY:The Food Project
DESCRIPTION:×Submit A Resource\n\n\n  \n\n\n\n\n	\n	 \n\n\n	Event CategoryHousingJobsEducationBenefitsProvider ResourceGeneral Resource\n	 \n\n\n	Start \n	 \n\n\n	End \n	 \n\n\n	PA – Delaware CountyPA – Montgomery CountyPA – Philadelphia County\n	 \n\n\n	\n	 \n\n\n	\n	 \n\n\n	\n	 \n\n\n	\n	 \n\n\n	\n	 \n\n\n	\n	 \n\n\n	I agree to the  terms of use and  privacy policy\n	 \n	\n	 \n×\n\n\n \nClose   ×Submit A Provider \n\n\n  \n\n\n\n\n	\n	 \n\n\n	Event CategoryHousingJobsEducationBenefitsProvider ResourceGeneral Resource\n	 \n\n\n	Start \n	 \n\n\n	End \n	 \n\n\n	\n	 \n\n\n	\n	 \n\n\n	\n	 \n\n\n	\n	 \n\n\n	\n	 \n\n\n	\n	 \n\n\n	I agree to the  terms of use and  privacy policy\n	 \n	\n	 \n×\n\n\n \nClose
URL:https://uplifme.com/event/the-food-project/2026-06-19/
LOCATION:The Food Project\, 424 S. Pulaski Street\, Baltimore\, MD\, 21223\, United States
CATEGORIES:Benefits,General Resource
ATTACH;FMTTYPE=image/png:https://uplifme.com/wp-content/uploads/2026/02/Screenshot-2026-02-13-at-9.03.57-PM.png
END:VEVENT
BEGIN:VEVENT
DTSTART;TZID=UTC:20260715T100000
DTEND;TZID=UTC:20260715T140000
DTSTAMP:20260420T102327
CREATED:20260314T163321Z
LAST-MODIFIED:20260314T163400Z
UID:10008348-1784109600-1784124000@uplifme.com
SUMMARY:Wednesdays Baby Supplies
DESCRIPTION:×Submit A Resource\n\n\n  \n\n\n\n\n	\n	 \n\n\n	Event CategoryHousingJobsEducationBenefitsProvider ResourceGeneral Resource\n	 \n\n\n	Start \n	 \n\n\n	End \n	 \n\n\n	PA – Delaware CountyPA – Montgomery CountyPA – Philadelphia County\n	 \n\n\n	\n	 \n\n\n	\n	 \n\n\n	\n	 \n\n\n	\n	 \n\n\n	\n	 \n\n\n	\n	 \n\n\n	I agree to the  terms of use and  privacy policy\n	 \n	\n	 \n×\n\n\n \nClose   ×Submit A Provider \n\n\n  \n\n\n\n\n	\n	 \n\n\n	Event CategoryHousingJobsEducationBenefitsProvider ResourceGeneral Resource\n	 \n\n\n	Start \n	 \n\n\n	End \n	 \n\n\n	\n	 \n\n\n	\n	 \n\n\n	\n	 \n\n\n	\n	 \n\n\n	\n	 \n\n\n	\n	 \n\n\n	I agree to the  terms of use and  privacy policy\n	 \n	\n	 \n×\n\n\n \nClose
URL:https://uplifme.com/event/wednesdays-baby-supplies/2026-07-15/
LOCATION:The Food Project\, 424 S. Pulaski Street\, Baltimore\, MD\, 21223\, United States
CATEGORIES:General Resource,Parent/Caregiver Resources
ATTACH;FMTTYPE=image/png:https://uplifme.com/wp-content/uploads/2026/03/Screenshot-2026-03-06-at-12.54.30-AM.png
END:VEVENT
BEGIN:VEVENT
DTSTART;TZID=UTC:20260819T100000
DTEND;TZID=UTC:20260819T140000
DTSTAMP:20260420T102327
CREATED:20260314T163321Z
LAST-MODIFIED:20260314T163400Z
UID:10008349-1787133600-1787148000@uplifme.com
SUMMARY:Wednesdays Baby Supplies
DESCRIPTION:×Submit A Resource\n\n\n  \n\n\n\n\n	\n	 \n\n\n	Event CategoryHousingJobsEducationBenefitsProvider ResourceGeneral Resource\n	 \n\n\n	Start \n	 \n\n\n	End \n	 \n\n\n	PA – Delaware CountyPA – Montgomery CountyPA – Philadelphia County\n	 \n\n\n	\n	 \n\n\n	\n	 \n\n\n	\n	 \n\n\n	\n	 \n\n\n	\n	 \n\n\n	\n	 \n\n\n	I agree to the  terms of use and  privacy policy\n	 \n	\n	 \n×\n\n\n \nClose   ×Submit A Provider \n\n\n  \n\n\n\n\n	\n	 \n\n\n	Event CategoryHousingJobsEducationBenefitsProvider ResourceGeneral Resource\n	 \n\n\n	Start \n	 \n\n\n	End \n	 \n\n\n	\n	 \n\n\n	\n	 \n\n\n	\n	 \n\n\n	\n	 \n\n\n	\n	 \n\n\n	\n	 \n\n\n	I agree to the  terms of use and  privacy policy\n	 \n	\n	 \n×\n\n\n \nClose
URL:https://uplifme.com/event/wednesdays-baby-supplies/2026-08-19/
LOCATION:The Food Project\, 424 S. Pulaski Street\, Baltimore\, MD\, 21223\, United States
CATEGORIES:General Resource,Parent/Caregiver Resources
ATTACH;FMTTYPE=image/png:https://uplifme.com/wp-content/uploads/2026/03/Screenshot-2026-03-06-at-12.54.30-AM.png
END:VEVENT
BEGIN:VEVENT
DTSTART;TZID=UTC:20260916T100000
DTEND;TZID=UTC:20260916T140000
DTSTAMP:20260420T102327
CREATED:20260314T163321Z
LAST-MODIFIED:20260314T163400Z
UID:10008350-1789552800-1789567200@uplifme.com
SUMMARY:Wednesdays Baby Supplies
DESCRIPTION:×Submit A Resource\n\n\n  \n\n\n\n\n	\n	 \n\n\n	Event CategoryHousingJobsEducationBenefitsProvider ResourceGeneral Resource\n	 \n\n\n	Start \n	 \n\n\n	End \n	 \n\n\n	PA – Delaware CountyPA – Montgomery CountyPA – Philadelphia County\n	 \n\n\n	\n	 \n\n\n	\n	 \n\n\n	\n	 \n\n\n	\n	 \n\n\n	\n	 \n\n\n	\n	 \n\n\n	I agree to the  terms of use and  privacy policy\n	 \n	\n	 \n×\n\n\n \nClose   ×Submit A Provider \n\n\n  \n\n\n\n\n	\n	 \n\n\n	Event CategoryHousingJobsEducationBenefitsProvider ResourceGeneral Resource\n	 \n\n\n	Start \n	 \n\n\n	End \n	 \n\n\n	\n	 \n\n\n	\n	 \n\n\n	\n	 \n\n\n	\n	 \n\n\n	\n	 \n\n\n	\n	 \n\n\n	I agree to the  terms of use and  privacy policy\n	 \n	\n	 \n×\n\n\n \nClose
URL:https://uplifme.com/event/wednesdays-baby-supplies/2026-09-16/
LOCATION:The Food Project\, 424 S. Pulaski Street\, Baltimore\, MD\, 21223\, United States
CATEGORIES:General Resource,Parent/Caregiver Resources
ATTACH;FMTTYPE=image/png:https://uplifme.com/wp-content/uploads/2026/03/Screenshot-2026-03-06-at-12.54.30-AM.png
END:VEVENT
BEGIN:VEVENT
DTSTART;TZID=UTC:20261021T100000
DTEND;TZID=UTC:20261021T140000
DTSTAMP:20260420T102327
CREATED:20260314T163321Z
LAST-MODIFIED:20260314T163400Z
UID:10008351-1792576800-1792591200@uplifme.com
SUMMARY:Wednesdays Baby Supplies
DESCRIPTION:×Submit A Resource\n\n\n  \n\n\n\n\n	\n	 \n\n\n	Event CategoryHousingJobsEducationBenefitsProvider ResourceGeneral Resource\n	 \n\n\n	Start \n	 \n\n\n	End \n	 \n\n\n	PA – Delaware CountyPA – Montgomery CountyPA – Philadelphia County\n	 \n\n\n	\n	 \n\n\n	\n	 \n\n\n	\n	 \n\n\n	\n	 \n\n\n	\n	 \n\n\n	\n	 \n\n\n	I agree to the  terms of use and  privacy policy\n	 \n	\n	 \n×\n\n\n \nClose   ×Submit A Provider \n\n\n  \n\n\n\n\n	\n	 \n\n\n	Event CategoryHousingJobsEducationBenefitsProvider ResourceGeneral Resource\n	 \n\n\n	Start \n	 \n\n\n	End \n	 \n\n\n	\n	 \n\n\n	\n	 \n\n\n	\n	 \n\n\n	\n	 \n\n\n	\n	 \n\n\n	\n	 \n\n\n	I agree to the  terms of use and  privacy policy\n	 \n	\n	 \n×\n\n\n \nClose
URL:https://uplifme.com/event/wednesdays-baby-supplies/2026-10-21/
LOCATION:The Food Project\, 424 S. Pulaski Street\, Baltimore\, MD\, 21223\, United States
CATEGORIES:General Resource,Parent/Caregiver Resources
ATTACH;FMTTYPE=image/png:https://uplifme.com/wp-content/uploads/2026/03/Screenshot-2026-03-06-at-12.54.30-AM.png
END:VEVENT
BEGIN:VEVENT
DTSTART;TZID=UTC:20261118T100000
DTEND;TZID=UTC:20261118T140000
DTSTAMP:20260420T102327
CREATED:20260314T163321Z
LAST-MODIFIED:20260314T163400Z
UID:10008352-1794996000-1795010400@uplifme.com
SUMMARY:Wednesdays Baby Supplies
DESCRIPTION:×Submit A Resource\n\n\n  \n\n\n\n\n	\n	 \n\n\n	Event CategoryHousingJobsEducationBenefitsProvider ResourceGeneral Resource\n	 \n\n\n	Start \n	 \n\n\n	End \n	 \n\n\n	PA – Delaware CountyPA – Montgomery CountyPA – Philadelphia County\n	 \n\n\n	\n	 \n\n\n	\n	 \n\n\n	\n	 \n\n\n	\n	 \n\n\n	\n	 \n\n\n	\n	 \n\n\n	I agree to the  terms of use and  privacy policy\n	 \n	\n	 \n×\n\n\n \nClose   ×Submit A Provider \n\n\n  \n\n\n\n\n	\n	 \n\n\n	Event CategoryHousingJobsEducationBenefitsProvider ResourceGeneral Resource\n	 \n\n\n	Start \n	 \n\n\n	End \n	 \n\n\n	\n	 \n\n\n	\n	 \n\n\n	\n	 \n\n\n	\n	 \n\n\n	\n	 \n\n\n	\n	 \n\n\n	I agree to the  terms of use and  privacy policy\n	 \n	\n	 \n×\n\n\n \nClose
URL:https://uplifme.com/event/wednesdays-baby-supplies/2026-11-18/
LOCATION:The Food Project\, 424 S. Pulaski Street\, Baltimore\, MD\, 21223\, United States
CATEGORIES:General Resource,Parent/Caregiver Resources
ATTACH;FMTTYPE=image/png:https://uplifme.com/wp-content/uploads/2026/03/Screenshot-2026-03-06-at-12.54.30-AM.png
END:VEVENT
BEGIN:VEVENT
DTSTART;TZID=UTC:20261216T100000
DTEND;TZID=UTC:20261216T140000
DTSTAMP:20260420T102327
CREATED:20260314T163321Z
LAST-MODIFIED:20260314T163400Z
UID:10008353-1797415200-1797429600@uplifme.com
SUMMARY:Wednesdays Baby Supplies
DESCRIPTION:×Submit A Resource\n\n\n  \n\n\n\n\n	\n	 \n\n\n	Event CategoryHousingJobsEducationBenefitsProvider ResourceGeneral Resource\n	 \n\n\n	Start \n	 \n\n\n	End \n	 \n\n\n	PA – Delaware CountyPA – Montgomery CountyPA – Philadelphia County\n	 \n\n\n	\n	 \n\n\n	\n	 \n\n\n	\n	 \n\n\n	\n	 \n\n\n	\n	 \n\n\n	\n	 \n\n\n	I agree to the  terms of use and  privacy policy\n	 \n	\n	 \n×\n\n\n \nClose   ×Submit A Provider \n\n\n  \n\n\n\n\n	\n	 \n\n\n	Event CategoryHousingJobsEducationBenefitsProvider ResourceGeneral Resource\n	 \n\n\n	Start \n	 \n\n\n	End \n	 \n\n\n	\n	 \n\n\n	\n	 \n\n\n	\n	 \n\n\n	\n	 \n\n\n	\n	 \n\n\n	\n	 \n\n\n	I agree to the  terms of use and  privacy policy\n	 \n	\n	 \n×\n\n\n \nClose
URL:https://uplifme.com/event/wednesdays-baby-supplies/2026-12-16/
LOCATION:The Food Project\, 424 S. Pulaski Street\, Baltimore\, MD\, 21223\, United States
CATEGORIES:General Resource,Parent/Caregiver Resources
ATTACH;FMTTYPE=image/png:https://uplifme.com/wp-content/uploads/2026/03/Screenshot-2026-03-06-at-12.54.30-AM.png
END:VEVENT
BEGIN:VEVENT
DTSTART;TZID=UTC:20270120T100000
DTEND;TZID=UTC:20270120T140000
DTSTAMP:20260420T102327
CREATED:20260314T163321Z
LAST-MODIFIED:20260314T163400Z
UID:10008354-1800439200-1800453600@uplifme.com
SUMMARY:Wednesdays Baby Supplies
DESCRIPTION:×Submit A Resource\n\n\n  \n\n\n\n\n	\n	 \n\n\n	Event CategoryHousingJobsEducationBenefitsProvider ResourceGeneral Resource\n	 \n\n\n	Start \n	 \n\n\n	End \n	 \n\n\n	PA – Delaware CountyPA – Montgomery CountyPA – Philadelphia County\n	 \n\n\n	\n	 \n\n\n	\n	 \n\n\n	\n	 \n\n\n	\n	 \n\n\n	\n	 \n\n\n	\n	 \n\n\n	I agree to the  terms of use and  privacy policy\n	 \n	\n	 \n×\n\n\n \nClose   ×Submit A Provider \n\n\n  \n\n\n\n\n	\n	 \n\n\n	Event CategoryHousingJobsEducationBenefitsProvider ResourceGeneral Resource\n	 \n\n\n	Start \n	 \n\n\n	End \n	 \n\n\n	\n	 \n\n\n	\n	 \n\n\n	\n	 \n\n\n	\n	 \n\n\n	\n	 \n\n\n	\n	 \n\n\n	I agree to the  terms of use and  privacy policy\n	 \n	\n	 \n×\n\n\n \nClose
URL:https://uplifme.com/event/wednesdays-baby-supplies/2027-01-20/
LOCATION:The Food Project\, 424 S. Pulaski Street\, Baltimore\, MD\, 21223\, United States
CATEGORIES:General Resource,Parent/Caregiver Resources
ATTACH;FMTTYPE=image/png:https://uplifme.com/wp-content/uploads/2026/03/Screenshot-2026-03-06-at-12.54.30-AM.png
END:VEVENT
BEGIN:VEVENT
DTSTART;TZID=UTC:20270217T100000
DTEND;TZID=UTC:20270217T140000
DTSTAMP:20260420T102327
CREATED:20260314T163321Z
LAST-MODIFIED:20260314T163400Z
UID:10008355-1802858400-1802872800@uplifme.com
SUMMARY:Wednesdays Baby Supplies
DESCRIPTION:×Submit A Resource\n\n\n  \n\n\n\n\n	\n	 \n\n\n	Event CategoryHousingJobsEducationBenefitsProvider ResourceGeneral Resource\n	 \n\n\n	Start \n	 \n\n\n	End \n	 \n\n\n	PA – Delaware CountyPA – Montgomery CountyPA – Philadelphia County\n	 \n\n\n	\n	 \n\n\n	\n	 \n\n\n	\n	 \n\n\n	\n	 \n\n\n	\n	 \n\n\n	\n	 \n\n\n	I agree to the  terms of use and  privacy policy\n	 \n	\n	 \n×\n\n\n \nClose   ×Submit A Provider \n\n\n  \n\n\n\n\n	\n	 \n\n\n	Event CategoryHousingJobsEducationBenefitsProvider ResourceGeneral Resource\n	 \n\n\n	Start \n	 \n\n\n	End \n	 \n\n\n	\n	 \n\n\n	\n	 \n\n\n	\n	 \n\n\n	\n	 \n\n\n	\n	 \n\n\n	\n	 \n\n\n	I agree to the  terms of use and  privacy policy\n	 \n	\n	 \n×\n\n\n \nClose
URL:https://uplifme.com/event/wednesdays-baby-supplies/2027-02-17/
LOCATION:The Food Project\, 424 S. Pulaski Street\, Baltimore\, MD\, 21223\, United States
CATEGORIES:General Resource,Parent/Caregiver Resources
ATTACH;FMTTYPE=image/png:https://uplifme.com/wp-content/uploads/2026/03/Screenshot-2026-03-06-at-12.54.30-AM.png
END:VEVENT
BEGIN:VEVENT
DTSTART;TZID=UTC:20270317T100000
DTEND;TZID=UTC:20270317T140000
DTSTAMP:20260420T102327
CREATED:20260314T163321Z
LAST-MODIFIED:20260314T163400Z
UID:10008356-1805277600-1805292000@uplifme.com
SUMMARY:Wednesdays Baby Supplies
DESCRIPTION:×Submit A Resource\n\n\n  \n\n\n\n\n	\n	 \n\n\n	Event CategoryHousingJobsEducationBenefitsProvider ResourceGeneral Resource\n	 \n\n\n	Start \n	 \n\n\n	End \n	 \n\n\n	PA – Delaware CountyPA – Montgomery CountyPA – Philadelphia County\n	 \n\n\n	\n	 \n\n\n	\n	 \n\n\n	\n	 \n\n\n	\n	 \n\n\n	\n	 \n\n\n	\n	 \n\n\n	I agree to the  terms of use and  privacy policy\n	 \n	\n	 \n×\n\n\n \nClose   ×Submit A Provider \n\n\n  \n\n\n\n\n	\n	 \n\n\n	Event CategoryHousingJobsEducationBenefitsProvider ResourceGeneral Resource\n	 \n\n\n	Start \n	 \n\n\n	End \n	 \n\n\n	\n	 \n\n\n	\n	 \n\n\n	\n	 \n\n\n	\n	 \n\n\n	\n	 \n\n\n	\n	 \n\n\n	I agree to the  terms of use and  privacy policy\n	 \n	\n	 \n×\n\n\n \nClose
URL:https://uplifme.com/event/wednesdays-baby-supplies/2027-03-17/
LOCATION:The Food Project\, 424 S. Pulaski Street\, Baltimore\, MD\, 21223\, United States
CATEGORIES:General Resource,Parent/Caregiver Resources
ATTACH;FMTTYPE=image/png:https://uplifme.com/wp-content/uploads/2026/03/Screenshot-2026-03-06-at-12.54.30-AM.png
END:VEVENT
END:VCALENDAR