BEGIN:VCALENDAR
VERSION:2.0
PRODID:-//Uplifme - ECPv6.15.20//NONSGML v1.0//EN
CALSCALE:GREGORIAN
METHOD:PUBLISH
X-WR-CALNAME:Uplifme
X-ORIGINAL-URL:https://uplifme.com
X-WR-CALDESC:Events for Uplifme
REFRESH-INTERVAL;VALUE=DURATION:PT1H
X-Robots-Tag:noindex
X-PUBLISHED-TTL:PT1H
BEGIN:VTIMEZONE
TZID:UTC
BEGIN:STANDARD
TZOFFSETFROM:+0000
TZOFFSETTO:+0000
TZNAME:UTC
DTSTART:20250101T000000
END:STANDARD
END:VTIMEZONE
BEGIN:VEVENT
DTSTART;TZID=UTC:20260228T090000
DTEND;TZID=UTC:20260228T120000
DTSTAMP:20260422T125621
CREATED:20260224T191230Z
LAST-MODIFIED:20260224T191245Z
UID:10007034-1772269200-1772280000@uplifme.com
SUMMARY:Spring Transition Fair
DESCRIPTION:×Submit A Resource\n\n\n  \n\n\n\n\n	\n	 \n\n\n	Event CategoryHousingJobsEducationBenefitsProvider ResourceGeneral Resource\n	 \n\n\n	Start \n	 \n\n\n	End \n	 \n\n\n	PA – Delaware CountyPA – Montgomery CountyPA – Philadelphia County\n	 \n\n\n	\n	 \n\n\n	\n	 \n\n\n	\n	 \n\n\n	\n	 \n\n\n	\n	 \n\n\n	\n	 \n\n\n	I agree to the  terms of use and  privacy policy\n	 \n	\n	 \n×\n\n\n \nClose   ×Submit A Provider \n\n\n  \n\n\n\n\n	\n	 \n\n\n	Event CategoryHousingJobsEducationBenefitsProvider ResourceGeneral Resource\n	 \n\n\n	Start \n	 \n\n\n	End \n	 \n\n\n	\n	 \n\n\n	\n	 \n\n\n	\n	 \n\n\n	\n	 \n\n\n	\n	 \n\n\n	\n	 \n\n\n	I agree to the  terms of use and  privacy policy\n	 \n	\n	 \n×\n\n\n \nClose
URL:https://uplifme.com/event/spring-transition-fair-2/
LOCATION:VCOE Conference and Educational Service Center\, 5100 Adolfo Road\, Camarillo\, CA\, 93012\, United States
CATEGORIES:Education,General Resource,Parent/Caregiver Resources
ATTACH;FMTTYPE=image/png:https://uplifme.com/wp-content/uploads/2026/02/Screenshot-2025-12-06-at-6.24.03-PM.jpeg.png
END:VEVENT
BEGIN:VEVENT
DTSTART;TZID=UTC:20260223T083000
DTEND;TZID=UTC:20260223T150000
DTSTAMP:20260422T125621
CREATED:20260219T234347Z
LAST-MODIFIED:20260219T234347Z
UID:10006736-1771835400-1771858800@uplifme.com
SUMMARY:Parent NCPI: De-Escalating Challenging Behaviors for Families and Caregivers
DESCRIPTION:×Submit A Resource\n\n\n  \n\n\n\n\n	\n	 \n\n\n	Event CategoryHousingJobsEducationBenefitsProvider ResourceGeneral Resource\n	 \n\n\n	Start \n	 \n\n\n	End \n	 \n\n\n	PA – Delaware CountyPA – Montgomery CountyPA – Philadelphia County\n	 \n\n\n	\n	 \n\n\n	\n	 \n\n\n	\n	 \n\n\n	\n	 \n\n\n	\n	 \n\n\n	\n	 \n\n\n	I agree to the  terms of use and  privacy policy\n	 \n	\n	 \n×\n\n\n \nClose   ×Submit A Provider \n\n\n  \n\n\n\n\n	\n	 \n\n\n	Event CategoryHousingJobsEducationBenefitsProvider ResourceGeneral Resource\n	 \n\n\n	Start \n	 \n\n\n	End \n	 \n\n\n	\n	 \n\n\n	\n	 \n\n\n	\n	 \n\n\n	\n	 \n\n\n	\n	 \n\n\n	\n	 \n\n\n	I agree to the  terms of use and  privacy policy\n	 \n	\n	 \n×\n\n\n \nClose
URL:https://uplifme.com/event/parent-ncpi-de-escalating-challenging-behaviors-for-families-and-caregivers/
LOCATION:VCOE Conference and Educational Service Center\, 5100 Adolfo Road\, Camarillo\, CA\, 93012\, United States
CATEGORIES:General Resource,Health,Parent/Caregiver Resources
ATTACH;FMTTYPE=image/png:https://uplifme.com/wp-content/uploads/2026/02/Screenshot-2026-02-12-at-8.25.45-PM.png
END:VEVENT
BEGIN:VEVENT
DTSTART;TZID=UTC:20260131T080000
DTEND;TZID=UTC:20260131T123000
DTSTAMP:20260422T125621
CREATED:20260127T193335Z
LAST-MODIFIED:20260127T200828Z
UID:10005267-1769846400-1769862600@uplifme.com
SUMMARY:Walking the Path Hand in Hand
DESCRIPTION:×Submit A Resource\n\n\n  \n\n\n\n\n	\n	 \n\n\n	Event CategoryHousingJobsEducationBenefitsProvider ResourceGeneral Resource\n	 \n\n\n	Start \n	 \n\n\n	End \n	 \n\n\n	PA – Delaware CountyPA – Montgomery CountyPA – Philadelphia County\n	 \n\n\n	\n	 \n\n\n	\n	 \n\n\n	\n	 \n\n\n	\n	 \n\n\n	\n	 \n\n\n	\n	 \n\n\n	I agree to the  terms of use and  privacy policy\n	 \n	\n	 \n×\n\n\n \nClose   ×Submit A Provider \n\n\n  \n\n\n\n\n	\n	 \n\n\n	Event CategoryHousingJobsEducationBenefitsProvider ResourceGeneral Resource\n	 \n\n\n	Start \n	 \n\n\n	End \n	 \n\n\n	\n	 \n\n\n	\n	 \n\n\n	\n	 \n\n\n	\n	 \n\n\n	\n	 \n\n\n	\n	 \n\n\n	I agree to the  terms of use and  privacy policy\n	 \n	\n	 \n×\n\n\n \nClose
URL:https://uplifme.com/event/walking-the-path-hand-in-hand/
LOCATION:VCOE Conference and Educational Service Center\, 5100 Adolfo Road\, Camarillo\, CA\, 93012\, United States
CATEGORIES:General Resource,Parent/Caregiver Resources
ATTACH;FMTTYPE=image/png:https://uplifme.com/wp-content/uploads/2026/01/Screenshot-2025-11-29-at-12.15.01-AM.jpeg.png
END:VEVENT
END:VCALENDAR